BEGIN:VCALENDAR
VERSION:2.0
PRODID:-//Chapel of the Cross Lutheran Church - St. Peters, MO - ECPv6.15.20//NONSGML v1.0//EN
CALSCALE:GREGORIAN
METHOD:PUBLISH
X-ORIGINAL-URL:https://chapelstpeters.org
X-WR-CALDESC:Events for Chapel of the Cross Lutheran Church - St. Peters, MO
REFRESH-INTERVAL;VALUE=DURATION:PT1H
X-Robots-Tag:noindex
X-PUBLISHED-TTL:PT1H
BEGIN:VTIMEZONE
TZID:America/Chicago
BEGIN:DAYLIGHT
TZOFFSETFROM:-0600
TZOFFSETTO:-0500
TZNAME:CDT
DTSTART:20250309T080000
END:DAYLIGHT
BEGIN:STANDARD
TZOFFSETFROM:-0500
TZOFFSETTO:-0600
TZNAME:CST
DTSTART:20251102T070000
END:STANDARD
BEGIN:DAYLIGHT
TZOFFSETFROM:-0600
TZOFFSETTO:-0500
TZNAME:CDT
DTSTART:20260308T080000
END:DAYLIGHT
BEGIN:STANDARD
TZOFFSETFROM:-0500
TZOFFSETTO:-0600
TZNAME:CST
DTSTART:20261101T070000
END:STANDARD
BEGIN:DAYLIGHT
TZOFFSETFROM:-0600
TZOFFSETTO:-0500
TZNAME:CDT
DTSTART:20270314T080000
END:DAYLIGHT
BEGIN:STANDARD
TZOFFSETFROM:-0500
TZOFFSETTO:-0600
TZNAME:CST
DTSTART:20271107T070000
END:STANDARD
END:VTIMEZONE
BEGIN:VEVENT
DTSTART;TZID=America/Chicago:20260303T093000
DTEND;TZID=America/Chicago:20260303T110000
DTSTAMP:20260421T071830
CREATED:20260219T175608Z
LAST-MODIFIED:20260227T144401Z
UID:1308-1772530200-1772535600@chapelstpeters.org
SUMMARY:Bible Study - Rm224/Rm223/Rm222/Rm114
DESCRIPTION:
URL:https://chapelstpeters.org/e/bible-study-rm224-rm114/
END:VEVENT
BEGIN:VEVENT
DTSTART;TZID=America/Chicago:20260303T170000
DTEND;TZID=America/Chicago:20260303T180000
DTSTAMP:20260421T071830
CREATED:20260219T175608Z
LAST-MODIFIED:20260227T144401Z
UID:1309-1772557200-1772560800@chapelstpeters.org
SUMMARY:Handbell Choir - Rm301
DESCRIPTION:
URL:https://chapelstpeters.org/e/handbell-choir-rm301/
END:VEVENT
BEGIN:VEVENT
DTSTART;TZID=America/Chicago:20260303T173000
DTEND;TZID=America/Chicago:20260303T183000
DTSTAMP:20260421T071830
CREATED:20260219T175608Z
LAST-MODIFIED:20260227T144401Z
UID:1311-1772559000-1772562600@chapelstpeters.org
SUMMARY:Refit - Gym
DESCRIPTION:
URL:https://chapelstpeters.org/e/refit-gym-2/
END:VEVENT
BEGIN:VEVENT
DTSTART;TZID=America/Chicago:20260303T180000
DTEND;TZID=America/Chicago:20260303T193000
DTSTAMP:20260421T071830
CREATED:20260219T175608Z
LAST-MODIFIED:20260227T144401Z
UID:1312-1772560800-1772566200@chapelstpeters.org
SUMMARY:Elders - Rm222
DESCRIPTION:
URL:https://chapelstpeters.org/e/elders-rm222/
END:VEVENT
BEGIN:VEVENT
DTSTART;TZID=America/Chicago:20260303T181500
DTEND;TZID=America/Chicago:20260303T193000
DTSTAMP:20260421T071830
CREATED:20260219T175608Z
LAST-MODIFIED:20260227T144401Z
UID:1310-1772561700-1772566200@chapelstpeters.org
SUMMARY:Adult Choir - Rm301
DESCRIPTION:
URL:https://chapelstpeters.org/e/adult-choir-rm301/
END:VEVENT
BEGIN:VEVENT
DTSTART;TZID=America/Chicago:20260303T190000
DTEND;TZID=America/Chicago:20260303T203000
DTSTAMP:20260421T071830
CREATED:20260219T175608Z
LAST-MODIFIED:20260227T144401Z
UID:1313-1772564400-1772569800@chapelstpeters.org
SUMMARY:Ladies Bible Study - Rm224
DESCRIPTION:
URL:https://chapelstpeters.org/e/ladies-bible-study-rm224/
END:VEVENT
END:VCALENDAR