BEGIN:VCALENDAR
VERSION:2.0
PRODID:-//Chapel of the Cross Lutheran Church - St. Peters, MO - ECPv6.15.20//NONSGML v1.0//EN
CALSCALE:GREGORIAN
METHOD:PUBLISH
X-ORIGINAL-URL:https://chapelstpeters.org
X-WR-CALDESC:Events for Chapel of the Cross Lutheran Church - St. Peters, MO
REFRESH-INTERVAL;VALUE=DURATION:PT1H
X-Robots-Tag:noindex
X-PUBLISHED-TTL:PT1H
BEGIN:VTIMEZONE
TZID:America/Chicago
BEGIN:DAYLIGHT
TZOFFSETFROM:-0600
TZOFFSETTO:-0500
TZNAME:CDT
DTSTART:20250309T080000
END:DAYLIGHT
BEGIN:STANDARD
TZOFFSETFROM:-0500
TZOFFSETTO:-0600
TZNAME:CST
DTSTART:20251102T070000
END:STANDARD
BEGIN:DAYLIGHT
TZOFFSETFROM:-0600
TZOFFSETTO:-0500
TZNAME:CDT
DTSTART:20260308T080000
END:DAYLIGHT
BEGIN:STANDARD
TZOFFSETFROM:-0500
TZOFFSETTO:-0600
TZNAME:CST
DTSTART:20261101T070000
END:STANDARD
BEGIN:DAYLIGHT
TZOFFSETFROM:-0600
TZOFFSETTO:-0500
TZNAME:CDT
DTSTART:20270314T080000
END:DAYLIGHT
BEGIN:STANDARD
TZOFFSETFROM:-0500
TZOFFSETTO:-0600
TZNAME:CST
DTSTART:20271107T070000
END:STANDARD
END:VTIMEZONE
BEGIN:VEVENT
DTSTART;VALUE=DATE:20260308
DTEND;VALUE=DATE:20260309
DTSTAMP:20260421T071815
CREATED:20260304T190307Z
LAST-MODIFIED:20260304T211409Z
UID:2090-1772928000-1773014399@chapelstpeters.org
SUMMARY:Poland Meeting Rm222
DESCRIPTION:
URL:https://chapelstpeters.org/e/poland-meeting-rm222/
END:VEVENT
BEGIN:VEVENT
DTSTART;TZID=America/Chicago:20260308T080000
DTEND;TZID=America/Chicago:20260308T090000
DTSTAMP:20260421T071815
CREATED:20260219T175610Z
LAST-MODIFIED:20260304T211409Z
UID:1326-1772956800-1772960400@chapelstpeters.org
SUMMARY:Worship Service
DESCRIPTION:
URL:https://chapelstpeters.org/e/worship-service-109/
END:VEVENT
BEGIN:VEVENT
DTSTART;TZID=America/Chicago:20260308T091500
DTEND;TZID=America/Chicago:20260308T100000
DTSTAMP:20260421T071815
CREATED:20260219T175610Z
LAST-MODIFIED:20260304T211409Z
UID:1327-1772961300-1772964000@chapelstpeters.org
SUMMARY:Education Hour
DESCRIPTION:
URL:https://chapelstpeters.org/e/education-hour-2/
END:VEVENT
BEGIN:VEVENT
DTSTART;TZID=America/Chicago:20260308T101500
DTEND;TZID=America/Chicago:20260308T111500
DTSTAMP:20260421T071815
CREATED:20260219T175610Z
LAST-MODIFIED:20260304T211406Z
UID:1328-1772964900-1772968500@chapelstpeters.org
SUMMARY:Worship Service
DESCRIPTION:
URL:https://chapelstpeters.org/e/worship-service-110/
END:VEVENT
BEGIN:VEVENT
DTSTART;TZID=America/Chicago:20260308T103000
DTEND;TZID=America/Chicago:20260308T113000
DTSTAMP:20260421T071815
CREATED:20260219T175610Z
LAST-MODIFIED:20260304T211408Z
UID:1329-1772965800-1772969400@chapelstpeters.org
SUMMARY:E-Service - Rm224
DESCRIPTION:
URL:https://chapelstpeters.org/e/e-service-rm224/
END:VEVENT
BEGIN:VEVENT
DTSTART;TZID=America/Chicago:20260308T113000
DTEND;TZID=America/Chicago:20260308T123000
DTSTAMP:20260421T071815
CREATED:20260219T175611Z
LAST-MODIFIED:20260304T211415Z
UID:1330-1772969400-1772973000@chapelstpeters.org
SUMMARY:Family Life Council - Rm223
DESCRIPTION:
URL:https://chapelstpeters.org/e/family-life-council-rm223/
END:VEVENT
BEGIN:VEVENT
DTSTART;TZID=America/Chicago:20260308T113000
DTEND;TZID=America/Chicago:20260308T130000
DTSTAMP:20260421T071815
CREATED:20260304T190307Z
LAST-MODIFIED:20260304T211410Z
UID:2089-1772969400-1772974800@chapelstpeters.org
SUMMARY:Memorial Garden Meeting - Rm223
DESCRIPTION:
URL:https://chapelstpeters.org/e/memorial-garden-meeting-rm223/
END:VEVENT
BEGIN:VEVENT
DTSTART;TZID=America/Chicago:20260308T183000
DTEND;TZID=America/Chicago:20260308T200000
DTSTAMP:20260421T071815
CREATED:20260219T175611Z
LAST-MODIFIED:20260304T211415Z
UID:1331-1772994600-1773000000@chapelstpeters.org
SUMMARY:Al-Anon - Rm114
DESCRIPTION:
URL:https://chapelstpeters.org/e/al-anon-rm114-3/
END:VEVENT
END:VCALENDAR