BEGIN:VCALENDAR
VERSION:2.0
PRODID:-//Chapel of the Cross Lutheran Church - St. Peters, MO - ECPv6.15.20//NONSGML v1.0//EN
CALSCALE:GREGORIAN
METHOD:PUBLISH
X-WR-CALNAME:Chapel of the Cross Lutheran Church - St. Peters, MO
X-ORIGINAL-URL:https://chapelstpeters.org
X-WR-CALDESC:Events for Chapel of the Cross Lutheran Church - St. Peters, MO
REFRESH-INTERVAL;VALUE=DURATION:PT1H
X-Robots-Tag:noindex
X-PUBLISHED-TTL:PT1H
BEGIN:VTIMEZONE
TZID:America/Chicago
BEGIN:DAYLIGHT
TZOFFSETFROM:-0600
TZOFFSETTO:-0500
TZNAME:CDT
DTSTART:20250309T080000
END:DAYLIGHT
BEGIN:STANDARD
TZOFFSETFROM:-0500
TZOFFSETTO:-0600
TZNAME:CST
DTSTART:20251102T070000
END:STANDARD
BEGIN:DAYLIGHT
TZOFFSETFROM:-0600
TZOFFSETTO:-0500
TZNAME:CDT
DTSTART:20260308T080000
END:DAYLIGHT
BEGIN:STANDARD
TZOFFSETFROM:-0500
TZOFFSETTO:-0600
TZNAME:CST
DTSTART:20261101T070000
END:STANDARD
BEGIN:DAYLIGHT
TZOFFSETFROM:-0600
TZOFFSETTO:-0500
TZNAME:CDT
DTSTART:20270314T080000
END:DAYLIGHT
BEGIN:STANDARD
TZOFFSETFROM:-0500
TZOFFSETTO:-0600
TZNAME:CST
DTSTART:20271107T070000
END:STANDARD
END:VTIMEZONE
BEGIN:VEVENT
DTSTART;TZID=America/Chicago:20260402T103000
DTEND;TZID=America/Chicago:20260402T120000
DTSTAMP:20260421T060101
CREATED:20260220T153744Z
LAST-MODIFIED:20260401T195045Z
UID:1561-1775125800-1775131200@chapelstpeters.org
SUMMARY:Al-Anon - Rm114
DESCRIPTION:
URL:https://chapelstpeters.org/e/al-anon-rm114-10/
END:VEVENT
BEGIN:VEVENT
DTSTART;TZID=America/Chicago:20260402T110000
DTEND;TZID=America/Chicago:20260402T120000
DTSTAMP:20260421T060101
CREATED:20260220T153744Z
LAST-MODIFIED:20260401T195045Z
UID:1562-1775127600-1775131200@chapelstpeters.org
SUMMARY:Maundy Thursday Service
DESCRIPTION:
URL:https://chapelstpeters.org/e/maundy-thursday-service/
END:VEVENT
BEGIN:VEVENT
DTSTART;TZID=America/Chicago:20260402T120000
DTEND;TZID=America/Chicago:20260402T133000
DTSTAMP:20260421T060101
CREATED:20260220T153744Z
LAST-MODIFIED:20260401T195045Z
UID:1560-1775131200-1775136600@chapelstpeters.org
SUMMARY:Staff Meeting - Rm223
DESCRIPTION:
URL:https://chapelstpeters.org/e/staff-meeting-rm223-2/
END:VEVENT
BEGIN:VEVENT
DTSTART;TZID=America/Chicago:20260402T130000
DTEND;TZID=America/Chicago:20260402T150000
DTSTAMP:20260421T060101
CREATED:20260220T153744Z
LAST-MODIFIED:20260402T185658Z
UID:1563-1775134800-1775142000@chapelstpeters.org
SUMMARY:LWML Board Meeting - Rm224
DESCRIPTION:
URL:https://chapelstpeters.org/e/lwml-board-meeting-rm224-2/
END:VEVENT
BEGIN:VEVENT
DTSTART;TZID=America/Chicago:20260402T174500
DTEND;TZID=America/Chicago:20260402T184500
DTSTAMP:20260421T060101
CREATED:20260220T153744Z
LAST-MODIFIED:20260402T185659Z
UID:1564-1775151900-1775155500@chapelstpeters.org
SUMMARY:Zumba - Gym
DESCRIPTION:
URL:https://chapelstpeters.org/e/zumba-gym-10/
END:VEVENT
BEGIN:VEVENT
DTSTART;TZID=America/Chicago:20260402T190000
DTEND;TZID=America/Chicago:20260402T200000
DTSTAMP:20260421T060101
CREATED:20260220T153744Z
LAST-MODIFIED:20260402T185700Z
UID:1565-1775156400-1775160000@chapelstpeters.org
SUMMARY:Maundy Thursday Service
DESCRIPTION:
URL:https://chapelstpeters.org/e/maundy-thursday-service-2/
END:VEVENT
END:VCALENDAR