BEGIN:VCALENDAR
VERSION:2.0
PRODID:-//Chapel of the Cross Lutheran Church - St. Peters, MO - ECPv6.15.20//NONSGML v1.0//EN
CALSCALE:GREGORIAN
METHOD:PUBLISH
X-WR-CALNAME:Chapel of the Cross Lutheran Church - St. Peters, MO
X-ORIGINAL-URL:https://chapelstpeters.org
X-WR-CALDESC:Events for Chapel of the Cross Lutheran Church - St. Peters, MO
REFRESH-INTERVAL;VALUE=DURATION:PT1H
X-Robots-Tag:noindex
X-PUBLISHED-TTL:PT1H
BEGIN:VTIMEZONE
TZID:America/Chicago
BEGIN:DAYLIGHT
TZOFFSETFROM:-0600
TZOFFSETTO:-0500
TZNAME:CDT
DTSTART:20250309T080000
END:DAYLIGHT
BEGIN:STANDARD
TZOFFSETFROM:-0500
TZOFFSETTO:-0600
TZNAME:CST
DTSTART:20251102T070000
END:STANDARD
BEGIN:DAYLIGHT
TZOFFSETFROM:-0600
TZOFFSETTO:-0500
TZNAME:CDT
DTSTART:20260308T080000
END:DAYLIGHT
BEGIN:STANDARD
TZOFFSETFROM:-0500
TZOFFSETTO:-0600
TZNAME:CST
DTSTART:20261101T070000
END:STANDARD
BEGIN:DAYLIGHT
TZOFFSETFROM:-0600
TZOFFSETTO:-0500
TZNAME:CDT
DTSTART:20270314T080000
END:DAYLIGHT
BEGIN:STANDARD
TZOFFSETFROM:-0500
TZOFFSETTO:-0600
TZNAME:CST
DTSTART:20271107T070000
END:STANDARD
END:VTIMEZONE
BEGIN:VEVENT
DTSTART;TZID=America/Chicago:20260415T083000
DTEND;TZID=America/Chicago:20260415T110000
DTSTAMP:20260421T101742
CREATED:20260220T153749Z
LAST-MODIFIED:20260402T185828Z
UID:1612-1776241800-1776250800@chapelstpeters.org
SUMMARY:AA -Rm114
DESCRIPTION:
URL:https://chapelstpeters.org/e/aa-rm114-14/
END:VEVENT
BEGIN:VEVENT
DTSTART;TZID=America/Chicago:20260415T083000
DTEND;TZID=America/Chicago:20260415T110000
DTSTAMP:20260421T101742
CREATED:20260220T153749Z
LAST-MODIFIED:20260402T185830Z
UID:1614-1776241800-1776250800@chapelstpeters.org
SUMMARY:TOPS - Rm224
DESCRIPTION:
URL:https://chapelstpeters.org/e/tops-rm224-7/
END:VEVENT
BEGIN:VEVENT
DTSTART;TZID=America/Chicago:20260415T110000
DTEND;TZID=America/Chicago:20260415T120000
DTSTAMP:20260421T101742
CREATED:20260220T153749Z
LAST-MODIFIED:20260402T185828Z
UID:1613-1776250800-1776254400@chapelstpeters.org
SUMMARY:Worship Service
DESCRIPTION:
URL:https://chapelstpeters.org/e/worship-service-125/
END:VEVENT
BEGIN:VEVENT
DTSTART;TZID=America/Chicago:20260415T161500
DTEND;TZID=America/Chicago:20260415T171500
DTSTAMP:20260421T101742
CREATED:20260220T153749Z
LAST-MODIFIED:20260402T185830Z
UID:1615-1776269700-1776273300@chapelstpeters.org
SUMMARY:Zumba - Gym
DESCRIPTION:
URL:https://chapelstpeters.org/e/zumba-gym-13/
END:VEVENT
BEGIN:VEVENT
DTSTART;TZID=America/Chicago:20260415T170000
DTEND;TZID=America/Chicago:20260415T190000
DTSTAMP:20260421T101742
CREATED:20260225T201535Z
LAST-MODIFIED:20260402T185830Z
UID:1999-1776272400-1776279600@chapelstpeters.org
SUMMARY:Play and Praise
DESCRIPTION:Play and Praise meets on the third Wednesday of every month during the school year. In nice weather we meet on the playground. When weather sends us indoors you can enter the building through the door under the blue awning. \nPlay and Praise is a child-centered devotional for children 1st grade and under. Focused on growing together in faith\, playtime and crafts\, building meaningful fellowship with other parents and caregivers\, and a child-friendly meal enjoyed as a family.
URL:https://chapelstpeters.org/e/play-and-praise-gym/
ATTACH;FMTTYPE=image/png:https://chapelstpeters.org/wp-content/uploads/2026/02/Featured-Events-Website-Size-2.png
END:VEVENT
BEGIN:VEVENT
DTSTART;TZID=America/Chicago:20260415T183000
DTEND;TZID=America/Chicago:20260415T193000
DTSTAMP:20260421T101742
CREATED:20260226T181407Z
LAST-MODIFIED:20260402T194838Z
UID:2037-1776277800-1776281400@chapelstpeters.org
SUMMARY:Confirmation
DESCRIPTION:6th Grade – Room 224 \n7th Grade – Room 222 \n8th Grade – Room 223 (Library)
URL:https://chapelstpeters.org/e/confirmation-rm222-223-224/
CATEGORIES:Faith Milestones,Youth Ministry
END:VEVENT
END:VCALENDAR