BEGIN:VCALENDAR
VERSION:2.0
PRODID:-//Chapel of the Cross Lutheran Church - St. Peters, MO - ECPv6.15.20//NONSGML v1.0//EN
CALSCALE:GREGORIAN
METHOD:PUBLISH
X-ORIGINAL-URL:https://chapelstpeters.org
X-WR-CALDESC:Events for Chapel of the Cross Lutheran Church - St. Peters, MO
REFRESH-INTERVAL;VALUE=DURATION:PT1H
X-Robots-Tag:noindex
X-PUBLISHED-TTL:PT1H
BEGIN:VTIMEZONE
TZID:America/Chicago
BEGIN:DAYLIGHT
TZOFFSETFROM:-0600
TZOFFSETTO:-0500
TZNAME:CDT
DTSTART:20250309T080000
END:DAYLIGHT
BEGIN:STANDARD
TZOFFSETFROM:-0500
TZOFFSETTO:-0600
TZNAME:CST
DTSTART:20251102T070000
END:STANDARD
BEGIN:DAYLIGHT
TZOFFSETFROM:-0600
TZOFFSETTO:-0500
TZNAME:CDT
DTSTART:20260308T080000
END:DAYLIGHT
BEGIN:STANDARD
TZOFFSETFROM:-0500
TZOFFSETTO:-0600
TZNAME:CST
DTSTART:20261101T070000
END:STANDARD
BEGIN:DAYLIGHT
TZOFFSETFROM:-0600
TZOFFSETTO:-0500
TZNAME:CDT
DTSTART:20270314T080000
END:DAYLIGHT
BEGIN:STANDARD
TZOFFSETFROM:-0500
TZOFFSETTO:-0600
TZNAME:CST
DTSTART:20271107T070000
END:STANDARD
END:VTIMEZONE
BEGIN:VEVENT
DTSTART;TZID=America/Chicago:20260516T090000
DTEND;TZID=America/Chicago:20260516T100000
DTSTAMP:20260421T102010
CREATED:20260220T153759Z
LAST-MODIFIED:20260421T144539Z
UID:1717-1778922000-1778925600@chapelstpeters.org
SUMMARY:ACA - Rm222
DESCRIPTION:
URL:https://chapelstpeters.org/e/aca-rm222-11/
END:VEVENT
BEGIN:VEVENT
DTSTART;TZID=America/Chicago:20260516T101500
DTEND;TZID=America/Chicago:20260516T114500
DTSTAMP:20260421T102010
CREATED:20260220T153759Z
LAST-MODIFIED:20260421T144539Z
UID:1718-1778926500-1778931900@chapelstpeters.org
SUMMARY:AA - Rm224
DESCRIPTION:
URL:https://chapelstpeters.org/e/aa-rm224-11/
END:VEVENT
END:VCALENDAR