BEGIN:VCALENDAR
VERSION:2.0
PRODID:-//Chapel of the Cross Lutheran Church - St. Peters, MO - ECPv6.15.20//NONSGML v1.0//EN
CALSCALE:GREGORIAN
METHOD:PUBLISH
X-WR-CALNAME:Chapel of the Cross Lutheran Church - St. Peters, MO
X-ORIGINAL-URL:https://chapelstpeters.org
X-WR-CALDESC:Events for Chapel of the Cross Lutheran Church - St. Peters, MO
REFRESH-INTERVAL;VALUE=DURATION:PT1H
X-Robots-Tag:noindex
X-PUBLISHED-TTL:PT1H
BEGIN:VTIMEZONE
TZID:America/Chicago
BEGIN:DAYLIGHT
TZOFFSETFROM:-0600
TZOFFSETTO:-0500
TZNAME:CDT
DTSTART:20250309T080000
END:DAYLIGHT
BEGIN:STANDARD
TZOFFSETFROM:-0500
TZOFFSETTO:-0600
TZNAME:CST
DTSTART:20251102T070000
END:STANDARD
BEGIN:DAYLIGHT
TZOFFSETFROM:-0600
TZOFFSETTO:-0500
TZNAME:CDT
DTSTART:20260308T080000
END:DAYLIGHT
BEGIN:STANDARD
TZOFFSETFROM:-0500
TZOFFSETTO:-0600
TZNAME:CST
DTSTART:20261101T070000
END:STANDARD
BEGIN:DAYLIGHT
TZOFFSETFROM:-0600
TZOFFSETTO:-0500
TZNAME:CDT
DTSTART:20270314T080000
END:DAYLIGHT
BEGIN:STANDARD
TZOFFSETFROM:-0500
TZOFFSETTO:-0600
TZNAME:CST
DTSTART:20271107T070000
END:STANDARD
END:VTIMEZONE
BEGIN:VEVENT
DTSTART;TZID=America/Chicago:20260614T080000
DTEND;TZID=America/Chicago:20260614T090000
DTSTAMP:20260421T144517
CREATED:20260316T173041Z
LAST-MODIFIED:20260421T145439Z
UID:2259-1781424000-1781427600@chapelstpeters.org
SUMMARY:Worship Service
DESCRIPTION:
URL:https://chapelstpeters.org/e/worship-service-8/
END:VEVENT
BEGIN:VEVENT
DTSTART;TZID=America/Chicago:20260614T091500
DTEND;TZID=America/Chicago:20260614T100000
DTSTAMP:20260421T144517
CREATED:20260316T173049Z
LAST-MODIFIED:20260421T145439Z
UID:2260-1781428500-1781431200@chapelstpeters.org
SUMMARY:Education Hour
DESCRIPTION:
URL:https://chapelstpeters.org/e/education-hour-13/
CATEGORIES:Youth Ministry
END:VEVENT
BEGIN:VEVENT
DTSTART;TZID=America/Chicago:20260614T101500
DTEND;TZID=America/Chicago:20260614T111500
DTSTAMP:20260421T144517
CREATED:20260316T173049Z
LAST-MODIFIED:20260421T145440Z
UID:2261-1781432100-1781435700@chapelstpeters.org
SUMMARY:Worship Service
DESCRIPTION:
URL:https://chapelstpeters.org/e/worship-service-9/
END:VEVENT
BEGIN:VEVENT
DTSTART;TZID=America/Chicago:20260614T103000
DTEND;TZID=America/Chicago:20260614T113000
DTSTAMP:20260421T144517
CREATED:20260316T173049Z
LAST-MODIFIED:20260421T145458Z
UID:2262-1781433000-1781436600@chapelstpeters.org
SUMMARY:E-Service - Rm224
DESCRIPTION:
URL:https://chapelstpeters.org/e/e-service-rm224-4/
END:VEVENT
BEGIN:VEVENT
DTSTART;TZID=America/Chicago:20260614T183000
DTEND;TZID=America/Chicago:20260614T200000
DTSTAMP:20260421T144517
CREATED:20260316T173049Z
LAST-MODIFIED:20260421T145459Z
UID:2263-1781461800-1781467200@chapelstpeters.org
SUMMARY:Al-Anon - Rm114
DESCRIPTION:
URL:https://chapelstpeters.org/e/al-anon-rm114-31/
END:VEVENT
END:VCALENDAR