BEGIN:VCALENDAR
VERSION:2.0
PRODID:-//Chapel of the Cross Lutheran Church - St. Peters, MO - ECPv6.15.20//NONSGML v1.0//EN
CALSCALE:GREGORIAN
METHOD:PUBLISH
X-WR-CALNAME:Chapel of the Cross Lutheran Church - St. Peters, MO
X-ORIGINAL-URL:https://chapelstpeters.org
X-WR-CALDESC:Events for Chapel of the Cross Lutheran Church - St. Peters, MO
REFRESH-INTERVAL;VALUE=DURATION:PT1H
X-Robots-Tag:noindex
X-PUBLISHED-TTL:PT1H
BEGIN:VTIMEZONE
TZID:America/Chicago
BEGIN:DAYLIGHT
TZOFFSETFROM:-0600
TZOFFSETTO:-0500
TZNAME:CDT
DTSTART:20250309T080000
END:DAYLIGHT
BEGIN:STANDARD
TZOFFSETFROM:-0500
TZOFFSETTO:-0600
TZNAME:CST
DTSTART:20251102T070000
END:STANDARD
BEGIN:DAYLIGHT
TZOFFSETFROM:-0600
TZOFFSETTO:-0500
TZNAME:CDT
DTSTART:20260308T080000
END:DAYLIGHT
BEGIN:STANDARD
TZOFFSETFROM:-0500
TZOFFSETTO:-0600
TZNAME:CST
DTSTART:20261101T070000
END:STANDARD
BEGIN:DAYLIGHT
TZOFFSETFROM:-0600
TZOFFSETTO:-0500
TZNAME:CDT
DTSTART:20270314T080000
END:DAYLIGHT
BEGIN:STANDARD
TZOFFSETFROM:-0500
TZOFFSETTO:-0600
TZNAME:CST
DTSTART:20271107T070000
END:STANDARD
END:VTIMEZONE
BEGIN:VEVENT
DTSTART;TZID=America/Chicago:20260722T083000
DTEND;TZID=America/Chicago:20260722T110000
DTSTAMP:20260421T174910
CREATED:20260401T195906Z
LAST-MODIFIED:20260401T195906Z
UID:2502-1784709000-1784718000@chapelstpeters.org
SUMMARY:AA -Rm114
DESCRIPTION:
URL:https://chapelstpeters.org/e/aa-rm114-42/
END:VEVENT
BEGIN:VEVENT
DTSTART;TZID=America/Chicago:20260722T083000
DTEND;TZID=America/Chicago:20260722T110000
DTSTAMP:20260421T174910
CREATED:20260401T195909Z
LAST-MODIFIED:20260401T195909Z
UID:2503-1784709000-1784718000@chapelstpeters.org
SUMMARY:TOPS - Rm224
DESCRIPTION:
URL:https://chapelstpeters.org/e/tops-rm224-21/
END:VEVENT
BEGIN:VEVENT
DTSTART;TZID=America/Chicago:20260722T090000
DTEND;TZID=America/Chicago:20260722T113000
DTSTAMP:20260421T174910
CREATED:20260401T195910Z
LAST-MODIFIED:20260401T195910Z
UID:2504-1784710800-1784719800@chapelstpeters.org
SUMMARY:Quilt Tacking - Lower Lobby
DESCRIPTION:
URL:https://chapelstpeters.org/e/quilt-tacking-lower-lobby-10/
END:VEVENT
BEGIN:VEVENT
DTSTART;TZID=America/Chicago:20260722T110000
DTEND;TZID=America/Chicago:20260722T120000
DTSTAMP:20260421T174910
CREATED:20260401T195910Z
LAST-MODIFIED:20260401T195910Z
UID:2505-1784718000-1784721600@chapelstpeters.org
SUMMARY:Worship Service
DESCRIPTION:
URL:https://chapelstpeters.org/e/worship-service-25/
END:VEVENT
BEGIN:VEVENT
DTSTART;TZID=America/Chicago:20260722T161500
DTEND;TZID=America/Chicago:20260722T171500
DTSTAMP:20260421T174910
CREATED:20260401T195910Z
LAST-MODIFIED:20260401T195910Z
UID:2506-1784736900-1784740500@chapelstpeters.org
SUMMARY:Zumba - Gym
DESCRIPTION:
URL:https://chapelstpeters.org/e/zumba-gym-41/
END:VEVENT
END:VCALENDAR