BEGIN:VCALENDAR
VERSION:2.0
PRODID:-//Chapel of the Cross Lutheran Church - St. Peters, MO - ECPv6.15.20//NONSGML v1.0//EN
CALSCALE:GREGORIAN
METHOD:PUBLISH
X-ORIGINAL-URL:https://chapelstpeters.org
X-WR-CALDESC:Events for Chapel of the Cross Lutheran Church - St. Peters, MO
REFRESH-INTERVAL;VALUE=DURATION:PT1H
X-Robots-Tag:noindex
X-PUBLISHED-TTL:PT1H
BEGIN:VTIMEZONE
TZID:America/Chicago
BEGIN:DAYLIGHT
TZOFFSETFROM:-0600
TZOFFSETTO:-0500
TZNAME:CDT
DTSTART:20250309T080000
END:DAYLIGHT
BEGIN:STANDARD
TZOFFSETFROM:-0500
TZOFFSETTO:-0600
TZNAME:CST
DTSTART:20251102T070000
END:STANDARD
BEGIN:DAYLIGHT
TZOFFSETFROM:-0600
TZOFFSETTO:-0500
TZNAME:CDT
DTSTART:20260308T080000
END:DAYLIGHT
BEGIN:STANDARD
TZOFFSETFROM:-0500
TZOFFSETTO:-0600
TZNAME:CST
DTSTART:20261101T070000
END:STANDARD
BEGIN:DAYLIGHT
TZOFFSETFROM:-0600
TZOFFSETTO:-0500
TZNAME:CDT
DTSTART:20270314T080000
END:DAYLIGHT
BEGIN:STANDARD
TZOFFSETFROM:-0500
TZOFFSETTO:-0600
TZNAME:CST
DTSTART:20271107T070000
END:STANDARD
END:VTIMEZONE
BEGIN:VEVENT
DTSTART;TZID=America/Chicago:20260726T080000
DTEND;TZID=America/Chicago:20260726T090000
DTSTAMP:20260421T175156
CREATED:20260401T195919Z
LAST-MODIFIED:20260401T195919Z
UID:2512-1785052800-1785056400@chapelstpeters.org
SUMMARY:Worship Service
DESCRIPTION:
URL:https://chapelstpeters.org/e/worship-service-26/
END:VEVENT
BEGIN:VEVENT
DTSTART;TZID=America/Chicago:20260726T091500
DTEND;TZID=America/Chicago:20260726T100000
DTSTAMP:20260421T175156
CREATED:20260401T195926Z
LAST-MODIFIED:20260402T154335Z
UID:2513-1785057300-1785060000@chapelstpeters.org
SUMMARY:Education Hour
DESCRIPTION:
URL:https://chapelstpeters.org/e/education-hour-19/
CATEGORIES:Youth Ministry
END:VEVENT
BEGIN:VEVENT
DTSTART;TZID=America/Chicago:20260726T101500
DTEND;TZID=America/Chicago:20260726T111500
DTSTAMP:20260421T175156
CREATED:20260401T195926Z
LAST-MODIFIED:20260401T195926Z
UID:2514-1785060900-1785064500@chapelstpeters.org
SUMMARY:Worship Service
DESCRIPTION:
URL:https://chapelstpeters.org/e/worship-service-27/
END:VEVENT
BEGIN:VEVENT
DTSTART;TZID=America/Chicago:20260726T183000
DTEND;TZID=America/Chicago:20260726T200000
DTSTAMP:20260421T175156
CREATED:20260401T195926Z
LAST-MODIFIED:20260401T195926Z
UID:2515-1785090600-1785096000@chapelstpeters.org
SUMMARY:Al-Anon - Rm114
DESCRIPTION:
URL:https://chapelstpeters.org/e/al-anon-rm114-43/
END:VEVENT
END:VCALENDAR