BEGIN:VCALENDAR
VERSION:2.0
PRODID:-//Chapel of the Cross Lutheran Church - St. Peters, MO - ECPv6.15.20//NONSGML v1.0//EN
CALSCALE:GREGORIAN
METHOD:PUBLISH
X-WR-CALNAME:Chapel of the Cross Lutheran Church - St. Peters, MO
X-ORIGINAL-URL:https://chapelstpeters.org
X-WR-CALDESC:Events for Chapel of the Cross Lutheran Church - St. Peters, MO
REFRESH-INTERVAL;VALUE=DURATION:PT1H
X-Robots-Tag:noindex
X-PUBLISHED-TTL:PT1H
BEGIN:VTIMEZONE
TZID:America/Chicago
BEGIN:DAYLIGHT
TZOFFSETFROM:-0600
TZOFFSETTO:-0500
TZNAME:CDT
DTSTART:20250309T080000
END:DAYLIGHT
BEGIN:STANDARD
TZOFFSETFROM:-0500
TZOFFSETTO:-0600
TZNAME:CST
DTSTART:20251102T070000
END:STANDARD
BEGIN:DAYLIGHT
TZOFFSETFROM:-0600
TZOFFSETTO:-0500
TZNAME:CDT
DTSTART:20260308T080000
END:DAYLIGHT
BEGIN:STANDARD
TZOFFSETFROM:-0500
TZOFFSETTO:-0600
TZNAME:CST
DTSTART:20261101T070000
END:STANDARD
BEGIN:DAYLIGHT
TZOFFSETFROM:-0600
TZOFFSETTO:-0500
TZNAME:CDT
DTSTART:20270314T080000
END:DAYLIGHT
BEGIN:STANDARD
TZOFFSETFROM:-0500
TZOFFSETTO:-0600
TZNAME:CST
DTSTART:20271107T070000
END:STANDARD
END:VTIMEZONE
BEGIN:VEVENT
DTSTART;TZID=America/Chicago:20260803T130000
DTEND;TZID=America/Chicago:20260803T150000
DTSTAMP:20260421T191335
CREATED:20260401T200046Z
LAST-MODIFIED:20260401T200046Z
UID:2534-1785762000-1785769200@chapelstpeters.org
SUMMARY:Knitting and Crochet - Rm224
DESCRIPTION:
URL:https://chapelstpeters.org/e/knitting-and-crochet-rm224-23/
END:VEVENT
BEGIN:VEVENT
DTSTART;TZID=America/Chicago:20260803T174500
DTEND;TZID=America/Chicago:20260803T184500
DTSTAMP:20260421T191335
CREATED:20260401T200046Z
LAST-MODIFIED:20260401T200046Z
UID:2535-1785779100-1785782700@chapelstpeters.org
SUMMARY:Refit - Gym
DESCRIPTION:
URL:https://chapelstpeters.org/e/refit-gym-45/
END:VEVENT
BEGIN:VEVENT
DTSTART;TZID=America/Chicago:20260803T180000
DTEND;TZID=America/Chicago:20260803T193000
DTSTAMP:20260421T191335
CREATED:20260401T200046Z
LAST-MODIFIED:20260401T200046Z
UID:2537-1785780000-1785785400@chapelstpeters.org
SUMMARY:AA - Rm114
DESCRIPTION:
URL:https://chapelstpeters.org/e/aa-rm114-45/
END:VEVENT
BEGIN:VEVENT
DTSTART;TZID=America/Chicago:20260803T190000
DTEND;TZID=America/Chicago:20260803T200000
DTSTAMP:20260421T191335
CREATED:20260401T200046Z
LAST-MODIFIED:20260401T200046Z
UID:2536-1785783600-1785787200@chapelstpeters.org
SUMMARY:Worship Serivce
DESCRIPTION:
URL:https://chapelstpeters.org/e/worship-serivce-21/
END:VEVENT
END:VCALENDAR