BEGIN:VCALENDAR
VERSION:2.0
PRODID:-//Chapel of the Cross Lutheran Church - St. Peters, MO - ECPv6.15.20//NONSGML v1.0//EN
CALSCALE:GREGORIAN
METHOD:PUBLISH
X-ORIGINAL-URL:https://chapelstpeters.org
X-WR-CALDESC:Events for Chapel of the Cross Lutheran Church - St. Peters, MO
REFRESH-INTERVAL;VALUE=DURATION:PT1H
X-Robots-Tag:noindex
X-PUBLISHED-TTL:PT1H
BEGIN:VTIMEZONE
TZID:America/Chicago
BEGIN:DAYLIGHT
TZOFFSETFROM:-0600
TZOFFSETTO:-0500
TZNAME:CDT
DTSTART:20250309T080000
END:DAYLIGHT
BEGIN:STANDARD
TZOFFSETFROM:-0500
TZOFFSETTO:-0600
TZNAME:CST
DTSTART:20251102T070000
END:STANDARD
BEGIN:DAYLIGHT
TZOFFSETFROM:-0600
TZOFFSETTO:-0500
TZNAME:CDT
DTSTART:20260308T080000
END:DAYLIGHT
BEGIN:STANDARD
TZOFFSETFROM:-0500
TZOFFSETTO:-0600
TZNAME:CST
DTSTART:20261101T070000
END:STANDARD
BEGIN:DAYLIGHT
TZOFFSETFROM:-0600
TZOFFSETTO:-0500
TZNAME:CDT
DTSTART:20270314T080000
END:DAYLIGHT
BEGIN:STANDARD
TZOFFSETFROM:-0500
TZOFFSETTO:-0600
TZNAME:CST
DTSTART:20271107T070000
END:STANDARD
END:VTIMEZONE
BEGIN:VEVENT
DTSTART;TZID=America/Chicago:20260809T080000
DTEND;TZID=America/Chicago:20260809T090000
DTSTAMP:20260421T193430
CREATED:20260401T200138Z
LAST-MODIFIED:20260401T200138Z
UID:2551-1786262400-1786266000@chapelstpeters.org
SUMMARY:Worship Service
DESCRIPTION:
URL:https://chapelstpeters.org/e/worship-service-32/
END:VEVENT
BEGIN:VEVENT
DTSTART;TZID=America/Chicago:20260809T091500
DTEND;TZID=America/Chicago:20260809T100000
DTSTAMP:20260421T193430
CREATED:20260401T200138Z
LAST-MODIFIED:20260402T154332Z
UID:2552-1786266900-1786269600@chapelstpeters.org
SUMMARY:Education Hour
DESCRIPTION:
URL:https://chapelstpeters.org/e/education-hour-21/
CATEGORIES:Youth Ministry
END:VEVENT
BEGIN:VEVENT
DTSTART;TZID=America/Chicago:20260809T101500
DTEND;TZID=America/Chicago:20260809T111500
DTSTAMP:20260421T193430
CREATED:20260401T200152Z
LAST-MODIFIED:20260401T200152Z
UID:2553-1786270500-1786274100@chapelstpeters.org
SUMMARY:Worship Service
DESCRIPTION:
URL:https://chapelstpeters.org/e/worship-service-33/
END:VEVENT
BEGIN:VEVENT
DTSTART;TZID=America/Chicago:20260809T103000
DTEND;TZID=America/Chicago:20260809T113000
DTSTAMP:20260421T193430
CREATED:20260401T200153Z
LAST-MODIFIED:20260401T200153Z
UID:2554-1786271400-1786275000@chapelstpeters.org
SUMMARY:E-Service - Rm224
DESCRIPTION:
URL:https://chapelstpeters.org/e/e-service-rm224-6/
END:VEVENT
BEGIN:VEVENT
DTSTART;TZID=America/Chicago:20260809T183000
DTEND;TZID=America/Chicago:20260809T200000
DTSTAMP:20260421T193430
CREATED:20260401T200153Z
LAST-MODIFIED:20260401T200153Z
UID:2555-1786300200-1786305600@chapelstpeters.org
SUMMARY:Al-Anon - Rm114
DESCRIPTION:
URL:https://chapelstpeters.org/e/al-anon-rm114-47/
END:VEVENT
END:VCALENDAR