BEGIN:VCALENDAR
VERSION:2.0
PRODID:-//Chapel of the Cross Lutheran Church - St. Peters, MO - ECPv6.15.20//NONSGML v1.0//EN
CALSCALE:GREGORIAN
METHOD:PUBLISH
X-ORIGINAL-URL:https://chapelstpeters.org
X-WR-CALDESC:Events for Chapel of the Cross Lutheran Church - St. Peters, MO
REFRESH-INTERVAL;VALUE=DURATION:PT1H
X-Robots-Tag:noindex
X-PUBLISHED-TTL:PT1H
BEGIN:VTIMEZONE
TZID:America/Chicago
BEGIN:DAYLIGHT
TZOFFSETFROM:-0600
TZOFFSETTO:-0500
TZNAME:CDT
DTSTART:20250309T080000
END:DAYLIGHT
BEGIN:STANDARD
TZOFFSETFROM:-0500
TZOFFSETTO:-0600
TZNAME:CST
DTSTART:20251102T070000
END:STANDARD
BEGIN:DAYLIGHT
TZOFFSETFROM:-0600
TZOFFSETTO:-0500
TZNAME:CDT
DTSTART:20260308T080000
END:DAYLIGHT
BEGIN:STANDARD
TZOFFSETFROM:-0500
TZOFFSETTO:-0600
TZNAME:CST
DTSTART:20261101T070000
END:STANDARD
BEGIN:DAYLIGHT
TZOFFSETFROM:-0600
TZOFFSETTO:-0500
TZNAME:CDT
DTSTART:20270314T080000
END:DAYLIGHT
BEGIN:STANDARD
TZOFFSETFROM:-0500
TZOFFSETTO:-0600
TZNAME:CST
DTSTART:20271107T070000
END:STANDARD
END:VTIMEZONE
BEGIN:VEVENT
DTSTART;TZID=America/Chicago:20260812T083000
DTEND;TZID=America/Chicago:20260812T110000
DTSTAMP:20260421T211449
CREATED:20260401T200207Z
LAST-MODIFIED:20260401T200207Z
UID:2564-1786523400-1786532400@chapelstpeters.org
SUMMARY:TOPS - Rm224
DESCRIPTION:
URL:https://chapelstpeters.org/e/tops-rm224-24/
END:VEVENT
BEGIN:VEVENT
DTSTART;TZID=America/Chicago:20260812T083000
DTEND;TZID=America/Chicago:20260812T110000
DTSTAMP:20260421T211449
CREATED:20260401T200208Z
LAST-MODIFIED:20260401T200208Z
UID:2565-1786523400-1786532400@chapelstpeters.org
SUMMARY:AA -Rm114
DESCRIPTION:
URL:https://chapelstpeters.org/e/aa-rm114-48/
END:VEVENT
BEGIN:VEVENT
DTSTART;TZID=America/Chicago:20260812T090000
DTEND;TZID=America/Chicago:20260812T113000
DTSTAMP:20260421T211449
CREATED:20260401T200207Z
LAST-MODIFIED:20260401T200207Z
UID:2563-1786525200-1786534200@chapelstpeters.org
SUMMARY:Quilt Tacking - Lower Lobby
DESCRIPTION:
URL:https://chapelstpeters.org/e/quilt-tacking-lower-lobby-11/
END:VEVENT
BEGIN:VEVENT
DTSTART;TZID=America/Chicago:20260812T110000
DTEND;TZID=America/Chicago:20260812T120000
DTSTAMP:20260421T211449
CREATED:20260401T200208Z
LAST-MODIFIED:20260401T200208Z
UID:2566-1786532400-1786536000@chapelstpeters.org
SUMMARY:Worship Service
DESCRIPTION:
URL:https://chapelstpeters.org/e/worship-service-34/
END:VEVENT
BEGIN:VEVENT
DTSTART;TZID=America/Chicago:20260812T161500
DTEND;TZID=America/Chicago:20260812T171500
DTSTAMP:20260421T211449
CREATED:20260401T200209Z
LAST-MODIFIED:20260401T200209Z
UID:2567-1786551300-1786554900@chapelstpeters.org
SUMMARY:Zumba - Gym
DESCRIPTION:
URL:https://chapelstpeters.org/e/zumba-gym-47/
END:VEVENT
END:VCALENDAR