BEGIN:VCALENDAR
VERSION:2.0
PRODID:-//Chapel of the Cross Lutheran Church - St. Peters, MO - ECPv6.15.20//NONSGML v1.0//EN
CALSCALE:GREGORIAN
METHOD:PUBLISH
X-ORIGINAL-URL:https://chapelstpeters.org
X-WR-CALDESC:Events for Chapel of the Cross Lutheran Church - St. Peters, MO
REFRESH-INTERVAL;VALUE=DURATION:PT1H
X-Robots-Tag:noindex
X-PUBLISHED-TTL:PT1H
BEGIN:VTIMEZONE
TZID:America/Chicago
BEGIN:DAYLIGHT
TZOFFSETFROM:-0600
TZOFFSETTO:-0500
TZNAME:CDT
DTSTART:20250309T080000
END:DAYLIGHT
BEGIN:STANDARD
TZOFFSETFROM:-0500
TZOFFSETTO:-0600
TZNAME:CST
DTSTART:20251102T070000
END:STANDARD
BEGIN:DAYLIGHT
TZOFFSETFROM:-0600
TZOFFSETTO:-0500
TZNAME:CDT
DTSTART:20260308T080000
END:DAYLIGHT
BEGIN:STANDARD
TZOFFSETFROM:-0500
TZOFFSETTO:-0600
TZNAME:CST
DTSTART:20261101T070000
END:STANDARD
BEGIN:DAYLIGHT
TZOFFSETFROM:-0600
TZOFFSETTO:-0500
TZNAME:CDT
DTSTART:20270314T080000
END:DAYLIGHT
BEGIN:STANDARD
TZOFFSETFROM:-0500
TZOFFSETTO:-0600
TZNAME:CST
DTSTART:20271107T070000
END:STANDARD
END:VTIMEZONE
BEGIN:VEVENT
DTSTART;TZID=America/Chicago:20260827T103000
DTEND;TZID=America/Chicago:20260827T120000
DTSTAMP:20260421T211447
CREATED:20260401T200308Z
LAST-MODIFIED:20260401T200308Z
UID:2612-1787826600-1787832000@chapelstpeters.org
SUMMARY:Al-Anon - Rm114
DESCRIPTION:
URL:https://chapelstpeters.org/e/al-anon-rm114-52/
END:VEVENT
BEGIN:VEVENT
DTSTART;TZID=America/Chicago:20260827T174500
DTEND;TZID=America/Chicago:20260827T184500
DTSTAMP:20260421T211447
CREATED:20260401T200324Z
LAST-MODIFIED:20260401T200324Z
UID:2613-1787852700-1787856300@chapelstpeters.org
SUMMARY:Zumba - Gym
DESCRIPTION:
URL:https://chapelstpeters.org/e/zumba-gym-52/
END:VEVENT
END:VCALENDAR