BEGIN:VCALENDAR
VERSION:2.0
PRODID:-//Chapel of the Cross Lutheran Church - St. Peters, MO - ECPv6.15.20//NONSGML v1.0//EN
CALSCALE:GREGORIAN
METHOD:PUBLISH
X-WR-CALNAME:Chapel of the Cross Lutheran Church - St. Peters, MO
X-ORIGINAL-URL:https://chapelstpeters.org
X-WR-CALDESC:Events for Chapel of the Cross Lutheran Church - St. Peters, MO
REFRESH-INTERVAL;VALUE=DURATION:PT1H
X-Robots-Tag:noindex
X-PUBLISHED-TTL:PT1H
BEGIN:VTIMEZONE
TZID:America/Chicago
BEGIN:DAYLIGHT
TZOFFSETFROM:-0600
TZOFFSETTO:-0500
TZNAME:CDT
DTSTART:20250309T080000
END:DAYLIGHT
BEGIN:STANDARD
TZOFFSETFROM:-0500
TZOFFSETTO:-0600
TZNAME:CST
DTSTART:20251102T070000
END:STANDARD
BEGIN:DAYLIGHT
TZOFFSETFROM:-0600
TZOFFSETTO:-0500
TZNAME:CDT
DTSTART:20260308T080000
END:DAYLIGHT
BEGIN:STANDARD
TZOFFSETFROM:-0500
TZOFFSETTO:-0600
TZNAME:CST
DTSTART:20261101T070000
END:STANDARD
BEGIN:DAYLIGHT
TZOFFSETFROM:-0600
TZOFFSETTO:-0500
TZNAME:CDT
DTSTART:20270314T080000
END:DAYLIGHT
BEGIN:STANDARD
TZOFFSETFROM:-0500
TZOFFSETTO:-0600
TZNAME:CST
DTSTART:20271107T070000
END:STANDARD
END:VTIMEZONE
BEGIN:VEVENT
DTSTART;TZID=America/Chicago:20260503T091500
DTEND;TZID=America/Chicago:20260503T100000
DTSTAMP:20260419T082619
CREATED:20260220T153755Z
LAST-MODIFIED:20260417T153147Z
UID:1668-1777799700-1777802400@chapelstpeters.org
SUMMARY:Education Hour
DESCRIPTION:Adult Bible Class – Sanctuary or Room 224 \nNursery – Room 108 \nPreschool – 5th grade – Room 114 \nMiddle School Confirmation – Room 222 \nHigh School – Daniel’s Den
URL:https://chapelstpeters.org/e/education-hour-10/
CATEGORIES:Youth Ministry
END:VEVENT
BEGIN:VEVENT
DTSTART;TZID=America/Chicago:20260503T113000
DTEND;TZID=America/Chicago:20260503T130000
DTSTAMP:20260419T082619
CREATED:20260226T181411Z
LAST-MODIFIED:20260417T161332Z
UID:2040-1777807800-1777813200@chapelstpeters.org
SUMMARY:Faith Milestone - Living by Faith
DESCRIPTION:The Parent Training focus is on releasing your emerging adult child into the world and learning to influence their faith from a distance. It contains practical advice for encouraging them through questions and support as they create vision for the future. Graduates receive a bath towel with their name and a baptismal Biblical reference embroidered onto it. Graduates also have a separate time for discussion and encouragement with another facilitator.
URL:https://chapelstpeters.org/e/faith-milestone-living-by-faith/
CATEGORIES:Faith Milestones,Youth Ministry
END:VEVENT
END:VCALENDAR