BEGIN:VCALENDAR
VERSION:2.0
PRODID:-//Chapel of the Cross Lutheran Church - St. Peters, MO - ECPv6.15.20//NONSGML v1.0//EN
CALSCALE:GREGORIAN
METHOD:PUBLISH
X-WR-CALNAME:Chapel of the Cross Lutheran Church - St. Peters, MO
X-ORIGINAL-URL:https://chapelstpeters.org
X-WR-CALDESC:Events for Chapel of the Cross Lutheran Church - St. Peters, MO
REFRESH-INTERVAL;VALUE=DURATION:PT1H
X-Robots-Tag:noindex
X-PUBLISHED-TTL:PT1H
BEGIN:VTIMEZONE
TZID:America/Chicago
BEGIN:DAYLIGHT
TZOFFSETFROM:-0600
TZOFFSETTO:-0500
TZNAME:CDT
DTSTART:20250309T080000
END:DAYLIGHT
BEGIN:STANDARD
TZOFFSETFROM:-0500
TZOFFSETTO:-0600
TZNAME:CST
DTSTART:20251102T070000
END:STANDARD
BEGIN:DAYLIGHT
TZOFFSETFROM:-0600
TZOFFSETTO:-0500
TZNAME:CDT
DTSTART:20260308T080000
END:DAYLIGHT
BEGIN:STANDARD
TZOFFSETFROM:-0500
TZOFFSETTO:-0600
TZNAME:CST
DTSTART:20261101T070000
END:STANDARD
BEGIN:DAYLIGHT
TZOFFSETFROM:-0600
TZOFFSETTO:-0500
TZNAME:CDT
DTSTART:20270314T080000
END:DAYLIGHT
BEGIN:STANDARD
TZOFFSETFROM:-0500
TZOFFSETTO:-0600
TZNAME:CST
DTSTART:20271107T070000
END:STANDARD
END:VTIMEZONE
BEGIN:VEVENT
DTSTART;TZID=America/Chicago:20260704T090000
DTEND;TZID=America/Chicago:20260704T100000
DTSTAMP:20260421T180819
CREATED:20260401T195817Z
LAST-MODIFIED:20260421T150343Z
UID:2444-1783155600-1783159200@chapelstpeters.org
SUMMARY:ACA - Rm222
DESCRIPTION:
URL:https://chapelstpeters.org/e/aca-rm222-18/
END:VEVENT
BEGIN:VEVENT
DTSTART;TZID=America/Chicago:20260704T101500
DTEND;TZID=America/Chicago:20260704T114500
DTSTAMP:20260421T180819
CREATED:20260401T195818Z
LAST-MODIFIED:20260421T150344Z
UID:2445-1783160100-1783165500@chapelstpeters.org
SUMMARY:AA - Rm224
DESCRIPTION:
URL:https://chapelstpeters.org/e/aa-rm224-18/
END:VEVENT
BEGIN:VEVENT
DTSTART;TZID=America/Chicago:20260705T080000
DTEND;TZID=America/Chicago:20260705T090000
DTSTAMP:20260421T180819
CREATED:20260401T195818Z
LAST-MODIFIED:20260421T150344Z
UID:2446-1783238400-1783242000@chapelstpeters.org
SUMMARY:Worship Service
DESCRIPTION:
URL:https://chapelstpeters.org/e/worship-service-17/
END:VEVENT
BEGIN:VEVENT
DTSTART;TZID=America/Chicago:20260705T091500
DTEND;TZID=America/Chicago:20260705T100000
DTSTAMP:20260421T180819
CREATED:20260401T195818Z
LAST-MODIFIED:20260421T150447Z
UID:2447-1783242900-1783245600@chapelstpeters.org
SUMMARY:Education Hour
DESCRIPTION:
URL:https://chapelstpeters.org/e/education-hour-16/
CATEGORIES:Youth Ministry
END:VEVENT
BEGIN:VEVENT
DTSTART;TZID=America/Chicago:20260705T101500
DTEND;TZID=America/Chicago:20260705T111500
DTSTAMP:20260421T180819
CREATED:20260401T195819Z
LAST-MODIFIED:20260421T150448Z
UID:2448-1783246500-1783250100@chapelstpeters.org
SUMMARY:Worship Service
DESCRIPTION:
URL:https://chapelstpeters.org/e/worship-service-18/
END:VEVENT
BEGIN:VEVENT
DTSTART;TZID=America/Chicago:20260705T183000
DTEND;TZID=America/Chicago:20260705T200000
DTSTAMP:20260421T180819
CREATED:20260401T195819Z
LAST-MODIFIED:20260421T150448Z
UID:2449-1783276200-1783281600@chapelstpeters.org
SUMMARY:Al-Anon - Rm114
DESCRIPTION:
URL:https://chapelstpeters.org/e/al-anon-rm114-37/
END:VEVENT
BEGIN:VEVENT
DTSTART;TZID=America/Chicago:20260706T130000
DTEND;TZID=America/Chicago:20260706T150000
DTSTAMP:20260421T180819
CREATED:20260401T195820Z
LAST-MODIFIED:20260421T150448Z
UID:2450-1783342800-1783350000@chapelstpeters.org
SUMMARY:Knitting and Crochet - Rm224
DESCRIPTION:
URL:https://chapelstpeters.org/e/knitting-and-crochet-rm224-19/
END:VEVENT
BEGIN:VEVENT
DTSTART;TZID=America/Chicago:20260706T174500
DTEND;TZID=America/Chicago:20260706T184500
DTSTAMP:20260421T180819
CREATED:20260401T195820Z
LAST-MODIFIED:20260421T150448Z
UID:2452-1783359900-1783363500@chapelstpeters.org
SUMMARY:Refit - Gym
DESCRIPTION:
URL:https://chapelstpeters.org/e/refit-gym-37/
END:VEVENT
BEGIN:VEVENT
DTSTART;TZID=America/Chicago:20260706T180000
DTEND;TZID=America/Chicago:20260706T193000
DTSTAMP:20260421T180819
CREATED:20260401T195820Z
LAST-MODIFIED:20260421T150505Z
UID:2451-1783360800-1783366200@chapelstpeters.org
SUMMARY:AA - Rm114
DESCRIPTION:
URL:https://chapelstpeters.org/e/aa-rm114-37/
END:VEVENT
BEGIN:VEVENT
DTSTART;TZID=America/Chicago:20260706T190000
DTEND;TZID=America/Chicago:20260706T200000
DTSTAMP:20260421T180819
CREATED:20260401T195828Z
LAST-MODIFIED:20260421T150504Z
UID:2453-1783364400-1783368000@chapelstpeters.org
SUMMARY:Worship Serivce
DESCRIPTION:
URL:https://chapelstpeters.org/e/worship-serivce-17/
END:VEVENT
BEGIN:VEVENT
DTSTART;TZID=America/Chicago:20260707T173000
DTEND;TZID=America/Chicago:20260707T183000
DTSTAMP:20260421T180819
CREATED:20260401T195828Z
LAST-MODIFIED:20260421T150505Z
UID:2454-1783445400-1783449000@chapelstpeters.org
SUMMARY:Refit - Gym
DESCRIPTION:
URL:https://chapelstpeters.org/e/refit-gym-38/
END:VEVENT
BEGIN:VEVENT
DTSTART;TZID=America/Chicago:20260707T180000
DTEND;TZID=America/Chicago:20260707T193000
DTSTAMP:20260421T180819
CREATED:20260401T195828Z
LAST-MODIFIED:20260421T150505Z
UID:2456-1783447200-1783452600@chapelstpeters.org
SUMMARY:Elders - Rm222
DESCRIPTION:
URL:https://chapelstpeters.org/e/elders-rm222-5/
END:VEVENT
BEGIN:VEVENT
DTSTART;TZID=America/Chicago:20260707T183000
DTEND;TZID=America/Chicago:20260707T193000
DTSTAMP:20260421T180819
CREATED:20260401T195828Z
LAST-MODIFIED:20260421T150506Z
UID:2455-1783449000-1783452600@chapelstpeters.org
SUMMARY:Spirit Squad - Gym
DESCRIPTION:
URL:https://chapelstpeters.org/e/spirit-squad-gym-2/
END:VEVENT
BEGIN:VEVENT
DTSTART;TZID=America/Chicago:20260708T083000
DTEND;TZID=America/Chicago:20260708T110000
DTSTAMP:20260421T180819
CREATED:20260401T195831Z
LAST-MODIFIED:20260421T150512Z
UID:2458-1783499400-1783508400@chapelstpeters.org
SUMMARY:AA -Rm114
DESCRIPTION:
URL:https://chapelstpeters.org/e/aa-rm114-38/
END:VEVENT
BEGIN:VEVENT
DTSTART;TZID=America/Chicago:20260708T083000
DTEND;TZID=America/Chicago:20260708T110000
DTSTAMP:20260421T180819
CREATED:20260401T195832Z
LAST-MODIFIED:20260421T150512Z
UID:2460-1783499400-1783508400@chapelstpeters.org
SUMMARY:TOPS - Rm224
DESCRIPTION:
URL:https://chapelstpeters.org/e/tops-rm224-19/
END:VEVENT
BEGIN:VEVENT
DTSTART;TZID=America/Chicago:20260708T090000
DTEND;TZID=America/Chicago:20260708T113000
DTSTAMP:20260421T180820
CREATED:20260401T195828Z
LAST-MODIFIED:20260421T150513Z
UID:2457-1783501200-1783510200@chapelstpeters.org
SUMMARY:Quilt Tacking - Lower Lobby
DESCRIPTION:
URL:https://chapelstpeters.org/e/quilt-tacking-lower-lobby-9/
END:VEVENT
BEGIN:VEVENT
DTSTART;TZID=America/Chicago:20260708T110000
DTEND;TZID=America/Chicago:20260708T120000
DTSTAMP:20260421T180820
CREATED:20260401T195831Z
LAST-MODIFIED:20260421T150512Z
UID:2459-1783508400-1783512000@chapelstpeters.org
SUMMARY:Worship Service
DESCRIPTION:
URL:https://chapelstpeters.org/e/worship-service-19/
END:VEVENT
BEGIN:VEVENT
DTSTART;TZID=America/Chicago:20260708T161500
DTEND;TZID=America/Chicago:20260708T171500
DTSTAMP:20260421T180820
CREATED:20260401T195832Z
LAST-MODIFIED:20260421T150513Z
UID:2461-1783527300-1783530900@chapelstpeters.org
SUMMARY:Zumba - Gym
DESCRIPTION:
URL:https://chapelstpeters.org/e/zumba-gym-37/
END:VEVENT
BEGIN:VEVENT
DTSTART;TZID=America/Chicago:20260709T103000
DTEND;TZID=America/Chicago:20260709T120000
DTSTAMP:20260421T180820
CREATED:20260401T195832Z
LAST-MODIFIED:20260421T150628Z
UID:2462-1783593000-1783598400@chapelstpeters.org
SUMMARY:Al-Anon - Rm114
DESCRIPTION:
URL:https://chapelstpeters.org/e/al-anon-rm114-38/
END:VEVENT
BEGIN:VEVENT
DTSTART;TZID=America/Chicago:20260709T130000
DTEND;TZID=America/Chicago:20260709T143000
DTSTAMP:20260421T180820
CREATED:20260401T195836Z
LAST-MODIFIED:20260421T150628Z
UID:2463-1783602000-1783607400@chapelstpeters.org
SUMMARY:Comfort Group - Rm224
DESCRIPTION:
URL:https://chapelstpeters.org/e/comfort-group-rm224-5/
END:VEVENT
BEGIN:VEVENT
DTSTART;TZID=America/Chicago:20260709T170000
DTEND;TZID=America/Chicago:20260709T200000
DTSTAMP:20260421T180820
CREATED:20260401T195837Z
LAST-MODIFIED:20260421T150629Z
UID:2464-1783616400-1783627200@chapelstpeters.org
SUMMARY:STL Group - Rm223
DESCRIPTION:
URL:https://chapelstpeters.org/e/stl-group-rm223-5/
END:VEVENT
BEGIN:VEVENT
DTSTART;TZID=America/Chicago:20260709T174500
DTEND;TZID=America/Chicago:20260709T184500
DTSTAMP:20260421T180820
CREATED:20260401T195837Z
LAST-MODIFIED:20260421T150629Z
UID:2465-1783619100-1783622700@chapelstpeters.org
SUMMARY:Zumba - Gym
DESCRIPTION:
URL:https://chapelstpeters.org/e/zumba-gym-38/
END:VEVENT
BEGIN:VEVENT
DTSTART;VALUE=DATE:20260710
DTEND;VALUE=DATE:20260718
DTSTAMP:20260421T180820
CREATED:20260417T152218Z
LAST-MODIFIED:20260421T150752Z
UID:2747-1783641600-1784332799@chapelstpeters.org
SUMMARY:Youth Mission Trip
DESCRIPTION:
URL:https://chapelstpeters.org/e/youth-mission-trip/
CATEGORIES:Youth Ministry
END:VEVENT
BEGIN:VEVENT
DTSTART;TZID=America/Chicago:20260710T113000
DTEND;TZID=America/Chicago:20260710T133000
DTSTAMP:20260421T180820
CREATED:20260401T195837Z
LAST-MODIFIED:20260421T150629Z
UID:2466-1783683000-1783690200@chapelstpeters.org
SUMMARY:OWLS - Rm224
DESCRIPTION:
URL:https://chapelstpeters.org/e/owls-rm224-5/
END:VEVENT
BEGIN:VEVENT
DTSTART;TZID=America/Chicago:20260711T073000
DTEND;TZID=America/Chicago:20260711T090000
DTSTAMP:20260421T180820
CREATED:20260401T195839Z
LAST-MODIFIED:20260421T150753Z
UID:2468-1783755000-1783760400@chapelstpeters.org
SUMMARY:Men's Bible Study - Rm224
DESCRIPTION:
URL:https://chapelstpeters.org/e/mens-bible-study-rm224-9/
END:VEVENT
BEGIN:VEVENT
DTSTART;TZID=America/Chicago:20260711T090000
DTEND;TZID=America/Chicago:20260711T100000
DTSTAMP:20260421T180820
CREATED:20260401T195837Z
LAST-MODIFIED:20260421T150753Z
UID:2467-1783760400-1783764000@chapelstpeters.org
SUMMARY:ACA - Rm222
DESCRIPTION:
URL:https://chapelstpeters.org/e/aca-rm222-19/
END:VEVENT
BEGIN:VEVENT
DTSTART;TZID=America/Chicago:20260711T101500
DTEND;TZID=America/Chicago:20260711T114500
DTSTAMP:20260421T180820
CREATED:20260401T195839Z
LAST-MODIFIED:20260421T150801Z
UID:2469-1783764900-1783770300@chapelstpeters.org
SUMMARY:AA - Rm224
DESCRIPTION:
URL:https://chapelstpeters.org/e/aa-rm224-19/
END:VEVENT
BEGIN:VEVENT
DTSTART;TZID=America/Chicago:20260712T080000
DTEND;TZID=America/Chicago:20260712T090000
DTSTAMP:20260421T180820
CREATED:20260401T195839Z
LAST-MODIFIED:20260421T150637Z
UID:2470-1783843200-1783846800@chapelstpeters.org
SUMMARY:Worship Service
DESCRIPTION:
URL:https://chapelstpeters.org/e/worship-service-20/
END:VEVENT
BEGIN:VEVENT
DTSTART;TZID=America/Chicago:20260712T091500
DTEND;TZID=America/Chicago:20260712T100000
DTSTAMP:20260421T180820
CREATED:20260401T195839Z
LAST-MODIFIED:20260421T150802Z
UID:2471-1783847700-1783850400@chapelstpeters.org
SUMMARY:Education Hour
DESCRIPTION:
URL:https://chapelstpeters.org/e/education-hour-17/
CATEGORIES:Youth Ministry
END:VEVENT
BEGIN:VEVENT
DTSTART;TZID=America/Chicago:20260712T101500
DTEND;TZID=America/Chicago:20260712T111500
DTSTAMP:20260421T180820
CREATED:20260401T195842Z
LAST-MODIFIED:20260421T150637Z
UID:2473-1783851300-1783854900@chapelstpeters.org
SUMMARY:Worship Service
DESCRIPTION:
URL:https://chapelstpeters.org/e/worship-service-21/
END:VEVENT
END:VCALENDAR