BEGIN:VCALENDAR
VERSION:2.0
PRODID:-//Chapel of the Cross Lutheran Church - St. Peters, MO - ECPv6.15.20//NONSGML v1.0//EN
CALSCALE:GREGORIAN
METHOD:PUBLISH
X-WR-CALNAME:Chapel of the Cross Lutheran Church - St. Peters, MO
X-ORIGINAL-URL:https://chapelstpeters.org
X-WR-CALDESC:Events for Chapel of the Cross Lutheran Church - St. Peters, MO
REFRESH-INTERVAL;VALUE=DURATION:PT1H
X-Robots-Tag:noindex
X-PUBLISHED-TTL:PT1H
BEGIN:VTIMEZONE
TZID:America/Chicago
BEGIN:DAYLIGHT
TZOFFSETFROM:-0600
TZOFFSETTO:-0500
TZNAME:CDT
DTSTART:20250309T080000
END:DAYLIGHT
BEGIN:STANDARD
TZOFFSETFROM:-0500
TZOFFSETTO:-0600
TZNAME:CST
DTSTART:20251102T070000
END:STANDARD
BEGIN:DAYLIGHT
TZOFFSETFROM:-0600
TZOFFSETTO:-0500
TZNAME:CDT
DTSTART:20260308T080000
END:DAYLIGHT
BEGIN:STANDARD
TZOFFSETFROM:-0500
TZOFFSETTO:-0600
TZNAME:CST
DTSTART:20261101T070000
END:STANDARD
BEGIN:DAYLIGHT
TZOFFSETFROM:-0600
TZOFFSETTO:-0500
TZNAME:CDT
DTSTART:20270314T080000
END:DAYLIGHT
BEGIN:STANDARD
TZOFFSETFROM:-0500
TZOFFSETTO:-0600
TZNAME:CST
DTSTART:20271107T070000
END:STANDARD
END:VTIMEZONE
BEGIN:VEVENT
DTSTART;TZID=America/Chicago:20260806T103000
DTEND;TZID=America/Chicago:20260806T120000
DTSTAMP:20260421T212012
CREATED:20260401T200136Z
LAST-MODIFIED:20260401T200136Z
UID:2545-1786012200-1786017600@chapelstpeters.org
SUMMARY:Al-Anon - Rm114
DESCRIPTION:
URL:https://chapelstpeters.org/e/al-anon-rm114-46/
END:VEVENT
BEGIN:VEVENT
DTSTART;TZID=America/Chicago:20260806T120000
DTEND;TZID=America/Chicago:20260806T133000
DTSTAMP:20260421T212012
CREATED:20260401T200136Z
LAST-MODIFIED:20260401T200136Z
UID:2546-1786017600-1786023000@chapelstpeters.org
SUMMARY:Staff Meeting - Rm223
DESCRIPTION:
URL:https://chapelstpeters.org/e/staff-meeting-rm223-6/
END:VEVENT
BEGIN:VEVENT
DTSTART;TZID=America/Chicago:20260806T174500
DTEND;TZID=America/Chicago:20260806T184500
DTSTAMP:20260421T212012
CREATED:20260401T200137Z
LAST-MODIFIED:20260401T200137Z
UID:2547-1786038300-1786041900@chapelstpeters.org
SUMMARY:Zumba - Gym
DESCRIPTION:
URL:https://chapelstpeters.org/e/zumba-gym-46/
END:VEVENT
BEGIN:VEVENT
DTSTART;TZID=America/Chicago:20260808T073000
DTEND;TZID=America/Chicago:20260808T090000
DTSTAMP:20260421T212012
CREATED:20260401T200137Z
LAST-MODIFIED:20260401T200137Z
UID:2548-1786174200-1786179600@chapelstpeters.org
SUMMARY:Men's Bible Study - Rm224
DESCRIPTION:
URL:https://chapelstpeters.org/e/mens-bible-study-rm224-11/
END:VEVENT
BEGIN:VEVENT
DTSTART;TZID=America/Chicago:20260808T090000
DTEND;TZID=America/Chicago:20260808T100000
DTSTAMP:20260421T212012
CREATED:20260401T200138Z
LAST-MODIFIED:20260401T200138Z
UID:2549-1786179600-1786183200@chapelstpeters.org
SUMMARY:ACA - Rm222
DESCRIPTION:
URL:https://chapelstpeters.org/e/aca-rm222-23/
END:VEVENT
BEGIN:VEVENT
DTSTART;TZID=America/Chicago:20260808T101500
DTEND;TZID=America/Chicago:20260808T114500
DTSTAMP:20260421T212012
CREATED:20260401T200138Z
LAST-MODIFIED:20260401T200138Z
UID:2550-1786184100-1786189500@chapelstpeters.org
SUMMARY:AA - Rm224
DESCRIPTION:
URL:https://chapelstpeters.org/e/aa-rm224-23/
END:VEVENT
BEGIN:VEVENT
DTSTART;TZID=America/Chicago:20260809T080000
DTEND;TZID=America/Chicago:20260809T090000
DTSTAMP:20260421T212012
CREATED:20260401T200138Z
LAST-MODIFIED:20260401T200138Z
UID:2551-1786262400-1786266000@chapelstpeters.org
SUMMARY:Worship Service
DESCRIPTION:
URL:https://chapelstpeters.org/e/worship-service-32/
END:VEVENT
BEGIN:VEVENT
DTSTART;TZID=America/Chicago:20260809T091500
DTEND;TZID=America/Chicago:20260809T100000
DTSTAMP:20260421T212012
CREATED:20260401T200138Z
LAST-MODIFIED:20260402T154332Z
UID:2552-1786266900-1786269600@chapelstpeters.org
SUMMARY:Education Hour
DESCRIPTION:
URL:https://chapelstpeters.org/e/education-hour-21/
CATEGORIES:Youth Ministry
END:VEVENT
BEGIN:VEVENT
DTSTART;TZID=America/Chicago:20260809T101500
DTEND;TZID=America/Chicago:20260809T111500
DTSTAMP:20260421T212012
CREATED:20260401T200152Z
LAST-MODIFIED:20260401T200152Z
UID:2553-1786270500-1786274100@chapelstpeters.org
SUMMARY:Worship Service
DESCRIPTION:
URL:https://chapelstpeters.org/e/worship-service-33/
END:VEVENT
BEGIN:VEVENT
DTSTART;TZID=America/Chicago:20260809T103000
DTEND;TZID=America/Chicago:20260809T113000
DTSTAMP:20260421T212012
CREATED:20260401T200153Z
LAST-MODIFIED:20260401T200153Z
UID:2554-1786271400-1786275000@chapelstpeters.org
SUMMARY:E-Service - Rm224
DESCRIPTION:
URL:https://chapelstpeters.org/e/e-service-rm224-6/
END:VEVENT
BEGIN:VEVENT
DTSTART;TZID=America/Chicago:20260809T183000
DTEND;TZID=America/Chicago:20260809T200000
DTSTAMP:20260421T212012
CREATED:20260401T200153Z
LAST-MODIFIED:20260401T200153Z
UID:2555-1786300200-1786305600@chapelstpeters.org
SUMMARY:Al-Anon - Rm114
DESCRIPTION:
URL:https://chapelstpeters.org/e/al-anon-rm114-47/
END:VEVENT
BEGIN:VEVENT
DTSTART;TZID=America/Chicago:20260810T130000
DTEND;TZID=America/Chicago:20260810T150000
DTSTAMP:20260421T212012
CREATED:20260401T200153Z
LAST-MODIFIED:20260401T200153Z
UID:2556-1786366800-1786374000@chapelstpeters.org
SUMMARY:Knitting and Crochet - Rm224
DESCRIPTION:
URL:https://chapelstpeters.org/e/knitting-and-crochet-rm224-24/
END:VEVENT
BEGIN:VEVENT
DTSTART;TZID=America/Chicago:20260810T173000
DTEND;TZID=America/Chicago:20260810T193000
DTSTAMP:20260421T212012
CREATED:20260401T200156Z
LAST-MODIFIED:20260401T200156Z
UID:2560-1786383000-1786390200@chapelstpeters.org
SUMMARY:Executive Council -Rm223
DESCRIPTION:
URL:https://chapelstpeters.org/e/executive-council-rm223-6/
END:VEVENT
BEGIN:VEVENT
DTSTART;TZID=America/Chicago:20260810T174500
DTEND;TZID=America/Chicago:20260810T184500
DTSTAMP:20260421T212012
CREATED:20260401T200153Z
LAST-MODIFIED:20260401T200153Z
UID:2557-1786383900-1786387500@chapelstpeters.org
SUMMARY:Refit - Gym
DESCRIPTION:
URL:https://chapelstpeters.org/e/refit-gym-47/
END:VEVENT
BEGIN:VEVENT
DTSTART;TZID=America/Chicago:20260810T180000
DTEND;TZID=America/Chicago:20260810T193000
DTSTAMP:20260421T212012
CREATED:20260401T200156Z
LAST-MODIFIED:20260401T200156Z
UID:2558-1786384800-1786390200@chapelstpeters.org
SUMMARY:AA - Rm114
DESCRIPTION:
URL:https://chapelstpeters.org/e/aa-rm114-47/
END:VEVENT
BEGIN:VEVENT
DTSTART;TZID=America/Chicago:20260810T190000
DTEND;TZID=America/Chicago:20260810T200000
DTSTAMP:20260421T212012
CREATED:20260401T200156Z
LAST-MODIFIED:20260401T200156Z
UID:2559-1786388400-1786392000@chapelstpeters.org
SUMMARY:Worship Serivce
DESCRIPTION:
URL:https://chapelstpeters.org/e/worship-serivce-22/
END:VEVENT
BEGIN:VEVENT
DTSTART;TZID=America/Chicago:20260811T173000
DTEND;TZID=America/Chicago:20260811T183000
DTSTAMP:20260421T212012
CREATED:20260401T200157Z
LAST-MODIFIED:20260401T200157Z
UID:2561-1786469400-1786473000@chapelstpeters.org
SUMMARY:Refit - Gym
DESCRIPTION:
URL:https://chapelstpeters.org/e/refit-gym-48/
END:VEVENT
BEGIN:VEVENT
DTSTART;TZID=America/Chicago:20260811T183000
DTEND;TZID=America/Chicago:20260811T193000
DTSTAMP:20260421T212012
CREATED:20260401T200157Z
LAST-MODIFIED:20260401T200157Z
UID:2562-1786473000-1786476600@chapelstpeters.org
SUMMARY:Spirit Squad - Gym
DESCRIPTION:
URL:https://chapelstpeters.org/e/spirit-squad-gym-7/
END:VEVENT
BEGIN:VEVENT
DTSTART;TZID=America/Chicago:20260812T083000
DTEND;TZID=America/Chicago:20260812T110000
DTSTAMP:20260421T212012
CREATED:20260401T200207Z
LAST-MODIFIED:20260401T200207Z
UID:2564-1786523400-1786532400@chapelstpeters.org
SUMMARY:TOPS - Rm224
DESCRIPTION:
URL:https://chapelstpeters.org/e/tops-rm224-24/
END:VEVENT
BEGIN:VEVENT
DTSTART;TZID=America/Chicago:20260812T083000
DTEND;TZID=America/Chicago:20260812T110000
DTSTAMP:20260421T212012
CREATED:20260401T200208Z
LAST-MODIFIED:20260401T200208Z
UID:2565-1786523400-1786532400@chapelstpeters.org
SUMMARY:AA -Rm114
DESCRIPTION:
URL:https://chapelstpeters.org/e/aa-rm114-48/
END:VEVENT
BEGIN:VEVENT
DTSTART;TZID=America/Chicago:20260812T090000
DTEND;TZID=America/Chicago:20260812T113000
DTSTAMP:20260421T212012
CREATED:20260401T200207Z
LAST-MODIFIED:20260401T200207Z
UID:2563-1786525200-1786534200@chapelstpeters.org
SUMMARY:Quilt Tacking - Lower Lobby
DESCRIPTION:
URL:https://chapelstpeters.org/e/quilt-tacking-lower-lobby-11/
END:VEVENT
BEGIN:VEVENT
DTSTART;TZID=America/Chicago:20260812T110000
DTEND;TZID=America/Chicago:20260812T120000
DTSTAMP:20260421T212012
CREATED:20260401T200208Z
LAST-MODIFIED:20260401T200208Z
UID:2566-1786532400-1786536000@chapelstpeters.org
SUMMARY:Worship Service
DESCRIPTION:
URL:https://chapelstpeters.org/e/worship-service-34/
END:VEVENT
BEGIN:VEVENT
DTSTART;TZID=America/Chicago:20260812T161500
DTEND;TZID=America/Chicago:20260812T171500
DTSTAMP:20260421T212012
CREATED:20260401T200209Z
LAST-MODIFIED:20260401T200209Z
UID:2567-1786551300-1786554900@chapelstpeters.org
SUMMARY:Zumba - Gym
DESCRIPTION:
URL:https://chapelstpeters.org/e/zumba-gym-47/
END:VEVENT
BEGIN:VEVENT
DTSTART;TZID=America/Chicago:20260813T103000
DTEND;TZID=America/Chicago:20260813T120000
DTSTAMP:20260421T212012
CREATED:20260401T200219Z
LAST-MODIFIED:20260401T200219Z
UID:2568-1786617000-1786622400@chapelstpeters.org
SUMMARY:Al-Anon - Rm114
DESCRIPTION:
URL:https://chapelstpeters.org/e/al-anon-rm114-48/
END:VEVENT
BEGIN:VEVENT
DTSTART;TZID=America/Chicago:20260813T130000
DTEND;TZID=America/Chicago:20260813T143000
DTSTAMP:20260421T212012
CREATED:20260401T200219Z
LAST-MODIFIED:20260401T200219Z
UID:2569-1786626000-1786631400@chapelstpeters.org
SUMMARY:Comfort Group - Rm224
DESCRIPTION:
URL:https://chapelstpeters.org/e/comfort-group-rm224-6/
END:VEVENT
BEGIN:VEVENT
DTSTART;TZID=America/Chicago:20260813T170000
DTEND;TZID=America/Chicago:20260813T200000
DTSTAMP:20260421T212012
CREATED:20260401T200219Z
LAST-MODIFIED:20260401T200219Z
UID:2571-1786640400-1786651200@chapelstpeters.org
SUMMARY:STL Group - Rm223
DESCRIPTION:
URL:https://chapelstpeters.org/e/stl-group-rm223-6/
END:VEVENT
BEGIN:VEVENT
DTSTART;TZID=America/Chicago:20260813T174500
DTEND;TZID=America/Chicago:20260813T184500
DTSTAMP:20260421T212012
CREATED:20260401T200219Z
LAST-MODIFIED:20260401T200219Z
UID:2570-1786643100-1786646700@chapelstpeters.org
SUMMARY:Zumba - Gym
DESCRIPTION:
URL:https://chapelstpeters.org/e/zumba-gym-48/
END:VEVENT
BEGIN:VEVENT
DTSTART;TZID=America/Chicago:20260814T113000
DTEND;TZID=America/Chicago:20260814T133000
DTSTAMP:20260421T212012
CREATED:20260401T200219Z
LAST-MODIFIED:20260401T200219Z
UID:2572-1786707000-1786714200@chapelstpeters.org
SUMMARY:OWLS - Rm224
DESCRIPTION:
URL:https://chapelstpeters.org/e/owls-rm224-6/
END:VEVENT
BEGIN:VEVENT
DTSTART;TZID=America/Chicago:20260815T090000
DTEND;TZID=America/Chicago:20260815T100000
DTSTAMP:20260421T212012
CREATED:20260401T200226Z
LAST-MODIFIED:20260401T200226Z
UID:2573-1786784400-1786788000@chapelstpeters.org
SUMMARY:ACA - Rm222
DESCRIPTION:
URL:https://chapelstpeters.org/e/aca-rm222-24/
END:VEVENT
BEGIN:VEVENT
DTSTART;TZID=America/Chicago:20260815T101500
DTEND;TZID=America/Chicago:20260815T114500
DTSTAMP:20260421T212012
CREATED:20260401T200227Z
LAST-MODIFIED:20260401T200227Z
UID:2574-1786788900-1786794300@chapelstpeters.org
SUMMARY:AA - Rm224
DESCRIPTION:
URL:https://chapelstpeters.org/e/aa-rm224-24/
END:VEVENT
END:VCALENDAR