BEGIN:VCALENDAR
VERSION:2.0
PRODID:-//Chapel of the Cross Lutheran Church - St. Peters, MO - ECPv6.15.20//NONSGML v1.0//EN
CALSCALE:GREGORIAN
METHOD:PUBLISH
X-ORIGINAL-URL:https://chapelstpeters.org
X-WR-CALDESC:Events for Chapel of the Cross Lutheran Church - St. Peters, MO
REFRESH-INTERVAL;VALUE=DURATION:PT1H
X-Robots-Tag:noindex
X-PUBLISHED-TTL:PT1H
BEGIN:VTIMEZONE
TZID:America/Chicago
BEGIN:DAYLIGHT
TZOFFSETFROM:-0600
TZOFFSETTO:-0500
TZNAME:CDT
DTSTART:20250309T080000
END:DAYLIGHT
BEGIN:STANDARD
TZOFFSETFROM:-0500
TZOFFSETTO:-0600
TZNAME:CST
DTSTART:20251102T070000
END:STANDARD
BEGIN:DAYLIGHT
TZOFFSETFROM:-0600
TZOFFSETTO:-0500
TZNAME:CDT
DTSTART:20260308T080000
END:DAYLIGHT
BEGIN:STANDARD
TZOFFSETFROM:-0500
TZOFFSETTO:-0600
TZNAME:CST
DTSTART:20261101T070000
END:STANDARD
BEGIN:DAYLIGHT
TZOFFSETFROM:-0600
TZOFFSETTO:-0500
TZNAME:CDT
DTSTART:20270314T080000
END:DAYLIGHT
BEGIN:STANDARD
TZOFFSETFROM:-0500
TZOFFSETTO:-0600
TZNAME:CST
DTSTART:20271107T070000
END:STANDARD
END:VTIMEZONE
BEGIN:VEVENT
DTSTART;VALUE=DATE:20260710
DTEND;VALUE=DATE:20260718
DTSTAMP:20260421T212304
CREATED:20260417T152218Z
LAST-MODIFIED:20260421T150752Z
UID:2747-1783641600-1784332799@chapelstpeters.org
SUMMARY:Youth Mission Trip
DESCRIPTION:
URL:https://chapelstpeters.org/e/youth-mission-trip/
CATEGORIES:Youth Ministry
END:VEVENT
BEGIN:VEVENT
DTSTART;TZID=America/Chicago:20260714T173000
DTEND;TZID=America/Chicago:20260714T183000
DTSTAMP:20260421T212304
CREATED:20260401T195850Z
LAST-MODIFIED:20260421T150728Z
UID:2480-1784050200-1784053800@chapelstpeters.org
SUMMARY:Refit - Gym
DESCRIPTION:
URL:https://chapelstpeters.org/e/refit-gym-40/
END:VEVENT
BEGIN:VEVENT
DTSTART;TZID=America/Chicago:20260714T183000
DTEND;TZID=America/Chicago:20260714T193000
DTSTAMP:20260421T212304
CREATED:20260401T195850Z
LAST-MODIFIED:20260421T150728Z
UID:2481-1784053800-1784057400@chapelstpeters.org
SUMMARY:Spirit Squad - Gym
DESCRIPTION:
URL:https://chapelstpeters.org/e/spirit-squad-gym-3/
END:VEVENT
BEGIN:VEVENT
DTSTART;TZID=America/Chicago:20260715T083000
DTEND;TZID=America/Chicago:20260715T110000
DTSTAMP:20260421T212304
CREATED:20260401T195850Z
LAST-MODIFIED:20260421T150803Z
UID:2482-1784104200-1784113200@chapelstpeters.org
SUMMARY:TOPS - Rm224
DESCRIPTION:
URL:https://chapelstpeters.org/e/tops-rm224-20/
END:VEVENT
BEGIN:VEVENT
DTSTART;TZID=America/Chicago:20260715T083000
DTEND;TZID=America/Chicago:20260715T110000
DTSTAMP:20260421T212304
CREATED:20260401T195855Z
LAST-MODIFIED:20260421T150728Z
UID:2484-1784104200-1784113200@chapelstpeters.org
SUMMARY:AA -Rm114
DESCRIPTION:
URL:https://chapelstpeters.org/e/aa-rm114-40/
END:VEVENT
BEGIN:VEVENT
DTSTART;TZID=America/Chicago:20260715T110000
DTEND;TZID=America/Chicago:20260715T120000
DTSTAMP:20260421T212304
CREATED:20260401T195855Z
LAST-MODIFIED:20260421T150928Z
UID:2483-1784113200-1784116800@chapelstpeters.org
SUMMARY:Worship Service
DESCRIPTION:
URL:https://chapelstpeters.org/e/worship-service-22/
END:VEVENT
BEGIN:VEVENT
DTSTART;TZID=America/Chicago:20260715T161500
DTEND;TZID=America/Chicago:20260715T171500
DTSTAMP:20260421T212304
CREATED:20260401T195855Z
LAST-MODIFIED:20260421T150928Z
UID:2485-1784132100-1784135700@chapelstpeters.org
SUMMARY:Zumba - Gym
DESCRIPTION:
URL:https://chapelstpeters.org/e/zumba-gym-39/
END:VEVENT
BEGIN:VEVENT
DTSTART;TZID=America/Chicago:20260715T180000
DTEND;TZID=America/Chicago:20260715T190000
DTSTAMP:20260421T212304
CREATED:20260417T152247Z
LAST-MODIFIED:20260421T150752Z
UID:2768-1784138400-1784142000@chapelstpeters.org
SUMMARY:Summer Nights
DESCRIPTION:
URL:https://chapelstpeters.org/e/summer-nights-4/
CATEGORIES:Youth Ministry
END:VEVENT
BEGIN:VEVENT
DTSTART;TZID=America/Chicago:20260716T103000
DTEND;TZID=America/Chicago:20260716T120000
DTSTAMP:20260421T212304
CREATED:20260401T195856Z
LAST-MODIFIED:20260421T150928Z
UID:2486-1784197800-1784203200@chapelstpeters.org
SUMMARY:Al-Anon - Rm114
DESCRIPTION:
URL:https://chapelstpeters.org/e/al-anon-rm114-40/
END:VEVENT
BEGIN:VEVENT
DTSTART;TZID=America/Chicago:20260716T120000
DTEND;TZID=America/Chicago:20260716T140000
DTSTAMP:20260421T212304
CREATED:20260401T195856Z
LAST-MODIFIED:20260421T150752Z
UID:2487-1784203200-1784210400@chapelstpeters.org
SUMMARY:LWML Chapel Circle - Rm114
DESCRIPTION:
URL:https://chapelstpeters.org/e/lwml-chapel-circle-rm114-5/
END:VEVENT
BEGIN:VEVENT
DTSTART;TZID=America/Chicago:20260716T174500
DTEND;TZID=America/Chicago:20260716T184500
DTSTAMP:20260421T212304
CREATED:20260401T195856Z
LAST-MODIFIED:20260421T150928Z
UID:2488-1784223900-1784227500@chapelstpeters.org
SUMMARY:Zumba - Gym
DESCRIPTION:
URL:https://chapelstpeters.org/e/zumba-gym-40/
END:VEVENT
BEGIN:VEVENT
DTSTART;TZID=America/Chicago:20260718T090000
DTEND;TZID=America/Chicago:20260718T100000
DTSTAMP:20260421T212304
CREATED:20260401T195857Z
LAST-MODIFIED:20260421T150928Z
UID:2489-1784365200-1784368800@chapelstpeters.org
SUMMARY:ACA - Rm222
DESCRIPTION:
URL:https://chapelstpeters.org/e/aca-rm222-20/
END:VEVENT
BEGIN:VEVENT
DTSTART;TZID=America/Chicago:20260718T101500
DTEND;TZID=America/Chicago:20260718T114500
DTSTAMP:20260421T212304
CREATED:20260401T195857Z
LAST-MODIFIED:20260421T151211Z
UID:2490-1784369700-1784375100@chapelstpeters.org
SUMMARY:AA - Rm224
DESCRIPTION:
URL:https://chapelstpeters.org/e/aa-rm224-20/
END:VEVENT
BEGIN:VEVENT
DTSTART;TZID=America/Chicago:20260719T080000
DTEND;TZID=America/Chicago:20260719T090000
DTSTAMP:20260421T212304
CREATED:20260401T195857Z
LAST-MODIFIED:20260421T151211Z
UID:2491-1784448000-1784451600@chapelstpeters.org
SUMMARY:Worship Service
DESCRIPTION:
URL:https://chapelstpeters.org/e/worship-service-23/
END:VEVENT
BEGIN:VEVENT
DTSTART;TZID=America/Chicago:20260719T091500
DTEND;TZID=America/Chicago:20260719T100000
DTSTAMP:20260421T212304
CREATED:20260401T195857Z
LAST-MODIFIED:20260421T151212Z
UID:2492-1784452500-1784455200@chapelstpeters.org
SUMMARY:Education Hour
DESCRIPTION:
URL:https://chapelstpeters.org/e/education-hour-18/
CATEGORIES:Youth Ministry
END:VEVENT
BEGIN:VEVENT
DTSTART;TZID=America/Chicago:20260719T101500
DTEND;TZID=America/Chicago:20260719T111500
DTSTAMP:20260421T212304
CREATED:20260401T195859Z
LAST-MODIFIED:20260421T151212Z
UID:2493-1784456100-1784459700@chapelstpeters.org
SUMMARY:Worship Service
DESCRIPTION:
URL:https://chapelstpeters.org/e/worship-service-24/
END:VEVENT
BEGIN:VEVENT
DTSTART;TZID=America/Chicago:20260719T183000
DTEND;TZID=America/Chicago:20260719T200000
DTSTAMP:20260421T212304
CREATED:20260401T195859Z
LAST-MODIFIED:20260421T151213Z
UID:2494-1784485800-1784491200@chapelstpeters.org
SUMMARY:Al-Anon - Rm114
DESCRIPTION:
URL:https://chapelstpeters.org/e/al-anon-rm114-41/
END:VEVENT
BEGIN:VEVENT
DTSTART;TZID=America/Chicago:20260720T130000
DTEND;TZID=America/Chicago:20260720T150000
DTSTAMP:20260421T212304
CREATED:20260401T195859Z
LAST-MODIFIED:20260421T152056Z
UID:2495-1784552400-1784559600@chapelstpeters.org
SUMMARY:Knitting and Crochet - Rm224
DESCRIPTION:
URL:https://chapelstpeters.org/e/knitting-and-crochet-rm224-21/
END:VEVENT
BEGIN:VEVENT
DTSTART;TZID=America/Chicago:20260720T173000
DTEND;TZID=America/Chicago:20260720T183000
DTSTAMP:20260421T212304
CREATED:20260401T195859Z
LAST-MODIFIED:20260421T152056Z
UID:2496-1784568600-1784572200@chapelstpeters.org
SUMMARY:Financial Control Board - Rm223
DESCRIPTION:
URL:https://chapelstpeters.org/e/financial-control-board-rm223-5/
END:VEVENT
BEGIN:VEVENT
DTSTART;TZID=America/Chicago:20260720T174500
DTEND;TZID=America/Chicago:20260720T184500
DTSTAMP:20260421T212304
CREATED:20260401T195900Z
LAST-MODIFIED:20260421T152057Z
UID:2497-1784569500-1784573100@chapelstpeters.org
SUMMARY:Refit - Gym
DESCRIPTION:
URL:https://chapelstpeters.org/e/refit-gym-41/
END:VEVENT
BEGIN:VEVENT
DTSTART;TZID=America/Chicago:20260720T180000
DTEND;TZID=America/Chicago:20260720T193000
DTSTAMP:20260421T212304
CREATED:20260401T195905Z
LAST-MODIFIED:20260421T152056Z
UID:2499-1784570400-1784575800@chapelstpeters.org
SUMMARY:AA - Rm114
DESCRIPTION:
URL:https://chapelstpeters.org/e/aa-rm114-41/
END:VEVENT
BEGIN:VEVENT
DTSTART;TZID=America/Chicago:20260720T190000
DTEND;TZID=America/Chicago:20260720T200000
DTSTAMP:20260421T212304
CREATED:20260401T195905Z
LAST-MODIFIED:20260401T195905Z
UID:2498-1784574000-1784577600@chapelstpeters.org
SUMMARY:Worship Serivce
DESCRIPTION:
URL:https://chapelstpeters.org/e/worship-serivce-19/
END:VEVENT
BEGIN:VEVENT
DTSTART;TZID=America/Chicago:20260721T173000
DTEND;TZID=America/Chicago:20260721T183000
DTSTAMP:20260421T212304
CREATED:20260401T195906Z
LAST-MODIFIED:20260401T195906Z
UID:2501-1784655000-1784658600@chapelstpeters.org
SUMMARY:Refit - Gym
DESCRIPTION:
URL:https://chapelstpeters.org/e/refit-gym-42/
END:VEVENT
BEGIN:VEVENT
DTSTART;TZID=America/Chicago:20260721T183000
DTEND;TZID=America/Chicago:20260721T193000
DTSTAMP:20260421T212304
CREATED:20260401T195905Z
LAST-MODIFIED:20260401T195905Z
UID:2500-1784658600-1784662200@chapelstpeters.org
SUMMARY:Spirit Squad - Gym
DESCRIPTION:
URL:https://chapelstpeters.org/e/spirit-squad-gym-4/
END:VEVENT
BEGIN:VEVENT
DTSTART;TZID=America/Chicago:20260722T083000
DTEND;TZID=America/Chicago:20260722T110000
DTSTAMP:20260421T212304
CREATED:20260401T195906Z
LAST-MODIFIED:20260401T195906Z
UID:2502-1784709000-1784718000@chapelstpeters.org
SUMMARY:AA -Rm114
DESCRIPTION:
URL:https://chapelstpeters.org/e/aa-rm114-42/
END:VEVENT
BEGIN:VEVENT
DTSTART;TZID=America/Chicago:20260722T083000
DTEND;TZID=America/Chicago:20260722T110000
DTSTAMP:20260421T212304
CREATED:20260401T195909Z
LAST-MODIFIED:20260401T195909Z
UID:2503-1784709000-1784718000@chapelstpeters.org
SUMMARY:TOPS - Rm224
DESCRIPTION:
URL:https://chapelstpeters.org/e/tops-rm224-21/
END:VEVENT
BEGIN:VEVENT
DTSTART;TZID=America/Chicago:20260722T090000
DTEND;TZID=America/Chicago:20260722T113000
DTSTAMP:20260421T212304
CREATED:20260401T195910Z
LAST-MODIFIED:20260401T195910Z
UID:2504-1784710800-1784719800@chapelstpeters.org
SUMMARY:Quilt Tacking - Lower Lobby
DESCRIPTION:
URL:https://chapelstpeters.org/e/quilt-tacking-lower-lobby-10/
END:VEVENT
BEGIN:VEVENT
DTSTART;TZID=America/Chicago:20260722T110000
DTEND;TZID=America/Chicago:20260722T120000
DTSTAMP:20260421T212304
CREATED:20260401T195910Z
LAST-MODIFIED:20260401T195910Z
UID:2505-1784718000-1784721600@chapelstpeters.org
SUMMARY:Worship Service
DESCRIPTION:
URL:https://chapelstpeters.org/e/worship-service-25/
END:VEVENT
BEGIN:VEVENT
DTSTART;TZID=America/Chicago:20260722T161500
DTEND;TZID=America/Chicago:20260722T171500
DTSTAMP:20260421T212304
CREATED:20260401T195910Z
LAST-MODIFIED:20260401T195910Z
UID:2506-1784736900-1784740500@chapelstpeters.org
SUMMARY:Zumba - Gym
DESCRIPTION:
URL:https://chapelstpeters.org/e/zumba-gym-41/
END:VEVENT
BEGIN:VEVENT
DTSTART;TZID=America/Chicago:20260723T103000
DTEND;TZID=America/Chicago:20260723T120000
DTSTAMP:20260421T212304
CREATED:20260401T195910Z
LAST-MODIFIED:20260401T195910Z
UID:2507-1784802600-1784808000@chapelstpeters.org
SUMMARY:Al-Anon - Rm114
DESCRIPTION:
URL:https://chapelstpeters.org/e/al-anon-rm114-42/
END:VEVENT
END:VCALENDAR