BEGIN:VCALENDAR
VERSION:2.0
PRODID:-//Chapel of the Cross Lutheran Church - St. Peters, MO - ECPv6.15.20//NONSGML v1.0//EN
CALSCALE:GREGORIAN
METHOD:PUBLISH
X-WR-CALNAME:Chapel of the Cross Lutheran Church - St. Peters, MO
X-ORIGINAL-URL:https://chapelstpeters.org
X-WR-CALDESC:Events for Chapel of the Cross Lutheran Church - St. Peters, MO
REFRESH-INTERVAL;VALUE=DURATION:PT1H
X-Robots-Tag:noindex
X-PUBLISHED-TTL:PT1H
BEGIN:VTIMEZONE
TZID:America/Chicago
BEGIN:DAYLIGHT
TZOFFSETFROM:-0600
TZOFFSETTO:-0500
TZNAME:CDT
DTSTART:20250309T080000
END:DAYLIGHT
BEGIN:STANDARD
TZOFFSETFROM:-0500
TZOFFSETTO:-0600
TZNAME:CST
DTSTART:20251102T070000
END:STANDARD
BEGIN:DAYLIGHT
TZOFFSETFROM:-0600
TZOFFSETTO:-0500
TZNAME:CDT
DTSTART:20260308T080000
END:DAYLIGHT
BEGIN:STANDARD
TZOFFSETFROM:-0500
TZOFFSETTO:-0600
TZNAME:CST
DTSTART:20261101T070000
END:STANDARD
BEGIN:DAYLIGHT
TZOFFSETFROM:-0600
TZOFFSETTO:-0500
TZNAME:CDT
DTSTART:20270314T080000
END:DAYLIGHT
BEGIN:STANDARD
TZOFFSETFROM:-0500
TZOFFSETTO:-0600
TZNAME:CST
DTSTART:20271107T070000
END:STANDARD
END:VTIMEZONE
BEGIN:VEVENT
DTSTART;TZID=America/Chicago:20260611T170000
DTEND;TZID=America/Chicago:20260611T200000
DTSTAMP:20260422T164911
CREATED:20260316T173036Z
LAST-MODIFIED:20260422T174231Z
UID:2253-1781197200-1781208000@chapelstpeters.org
SUMMARY:STL Group - Rm223
DESCRIPTION:
URL:https://chapelstpeters.org/e/stl-group-rm223-4/
END:VEVENT
BEGIN:VEVENT
DTSTART;TZID=America/Chicago:20260611T130000
DTEND;TZID=America/Chicago:20260611T143000
DTSTAMP:20260422T164911
CREATED:20260316T173036Z
LAST-MODIFIED:20260422T174231Z
UID:2252-1781182800-1781188200@chapelstpeters.org
SUMMARY:Comfort Group - Rm224
DESCRIPTION:
URL:https://chapelstpeters.org/e/comfort-group-rm224-4/
END:VEVENT
BEGIN:VEVENT
DTSTART;TZID=America/Chicago:20260611T103000
DTEND;TZID=America/Chicago:20260611T120000
DTSTAMP:20260422T164911
CREATED:20260316T173036Z
LAST-MODIFIED:20260422T174231Z
UID:2251-1781173800-1781179200@chapelstpeters.org
SUMMARY:Al-Anon - Rm114
DESCRIPTION:
URL:https://chapelstpeters.org/e/al-anon-rm114-30/
END:VEVENT
BEGIN:VEVENT
DTSTART;TZID=America/Chicago:20260610T161500
DTEND;TZID=America/Chicago:20260610T171500
DTSTAMP:20260422T164911
CREATED:20260316T173036Z
LAST-MODIFIED:20260422T174225Z
UID:2250-1781108100-1781111700@chapelstpeters.org
SUMMARY:Zumba - Gym
DESCRIPTION:
URL:https://chapelstpeters.org/e/zumba-gym-29/
END:VEVENT
BEGIN:VEVENT
DTSTART;TZID=America/Chicago:20260610T110000
DTEND;TZID=America/Chicago:20260610T120000
DTSTAMP:20260422T164911
CREATED:20260316T173031Z
LAST-MODIFIED:20260422T174225Z
UID:2246-1781089200-1781092800@chapelstpeters.org
SUMMARY:Worship Service
DESCRIPTION:
URL:https://chapelstpeters.org/e/worship-service-7/
END:VEVENT
BEGIN:VEVENT
DTSTART;TZID=America/Chicago:20260610T090000
DTEND;TZID=America/Chicago:20260610T113000
DTSTAMP:20260422T164911
CREATED:20260316T173031Z
LAST-MODIFIED:20260422T174224Z
UID:2247-1781082000-1781091000@chapelstpeters.org
SUMMARY:Quilt Tacking - Lower Lobby
DESCRIPTION:
URL:https://chapelstpeters.org/e/quilt-tacking-lower-lobby-7/
END:VEVENT
BEGIN:VEVENT
DTSTART;TZID=America/Chicago:20260610T083000
DTEND;TZID=America/Chicago:20260610T110000
DTSTAMP:20260422T164911
CREATED:20260316T173031Z
LAST-MODIFIED:20260422T174225Z
UID:2248-1781080200-1781089200@chapelstpeters.org
SUMMARY:AA -Rm114
DESCRIPTION:
URL:https://chapelstpeters.org/e/aa-rm114-30/
END:VEVENT
BEGIN:VEVENT
DTSTART;TZID=America/Chicago:20260610T083000
DTEND;TZID=America/Chicago:20260610T110000
DTSTAMP:20260422T164911
CREATED:20260316T173031Z
LAST-MODIFIED:20260422T174224Z
UID:2249-1781080200-1781089200@chapelstpeters.org
SUMMARY:TOPS - Rm224
DESCRIPTION:
URL:https://chapelstpeters.org/e/tops-rm224-15/
END:VEVENT
BEGIN:VEVENT
DTSTART;TZID=America/Chicago:20260609T173000
DTEND;TZID=America/Chicago:20260609T183000
DTSTAMP:20260422T164911
CREATED:20260311T144657Z
LAST-MODIFIED:20260422T174220Z
UID:2216-1781026200-1781029800@chapelstpeters.org
SUMMARY:Refit - Gym
DESCRIPTION:
URL:https://chapelstpeters.org/e/refit-gym-30/
END:VEVENT
BEGIN:VEVENT
DTSTART;TZID=America/Chicago:20260608T190000
DTEND;TZID=America/Chicago:20260608T200000
DTSTAMP:20260422T164911
CREATED:20260311T144657Z
LAST-MODIFIED:20260422T174220Z
UID:2215-1780945200-1780948800@chapelstpeters.org
SUMMARY:Worship Serivce
DESCRIPTION:
URL:https://chapelstpeters.org/e/worship-serivce-13/
END:VEVENT
BEGIN:VEVENT
DTSTART;TZID=America/Chicago:20260608T180000
DTEND;TZID=America/Chicago:20260608T193000
DTSTAMP:20260422T164911
CREATED:20260311T144656Z
LAST-MODIFIED:20260422T174220Z
UID:2213-1780941600-1780947000@chapelstpeters.org
SUMMARY:AA - Rm114
DESCRIPTION:
URL:https://chapelstpeters.org/e/aa-rm114-29/
END:VEVENT
BEGIN:VEVENT
DTSTART;TZID=America/Chicago:20260608T174500
DTEND;TZID=America/Chicago:20260608T184500
DTSTAMP:20260422T164911
CREATED:20260311T144657Z
LAST-MODIFIED:20260422T174220Z
UID:2214-1780940700-1780944300@chapelstpeters.org
SUMMARY:Refit - Gym
DESCRIPTION:
URL:https://chapelstpeters.org/e/refit-gym-29/
END:VEVENT
BEGIN:VEVENT
DTSTART;TZID=America/Chicago:20260608T173000
DTEND;TZID=America/Chicago:20260608T193000
DTSTAMP:20260422T164911
CREATED:20260311T144655Z
LAST-MODIFIED:20260422T174219Z
UID:2212-1780939800-1780947000@chapelstpeters.org
SUMMARY:Executive Council -Rm223
DESCRIPTION:
URL:https://chapelstpeters.org/e/executive-council-rm223-4/
END:VEVENT
BEGIN:VEVENT
DTSTART;TZID=America/Chicago:20260608T130000
DTEND;TZID=America/Chicago:20260608T150000
DTSTAMP:20260422T164911
CREATED:20260311T144655Z
LAST-MODIFIED:20260422T174217Z
UID:2211-1780923600-1780930800@chapelstpeters.org
SUMMARY:Knitting and Crochet - Rm224
DESCRIPTION:
URL:https://chapelstpeters.org/e/knitting-and-crochet-rm224-15/
END:VEVENT
BEGIN:VEVENT
DTSTART;TZID=America/Chicago:20260607T183000
DTEND;TZID=America/Chicago:20260607T200000
DTSTAMP:20260422T164911
CREATED:20260311T144655Z
LAST-MODIFIED:20260422T174217Z
UID:2210-1780857000-1780862400@chapelstpeters.org
SUMMARY:Al-Anon - Rm114
DESCRIPTION:
URL:https://chapelstpeters.org/e/al-anon-rm114-29/
END:VEVENT
BEGIN:VEVENT
DTSTART;TZID=America/Chicago:20260607T101500
DTEND;TZID=America/Chicago:20260607T111500
DTSTAMP:20260422T164911
CREATED:20260311T144654Z
LAST-MODIFIED:20260422T174216Z
UID:2209-1780827300-1780830900@chapelstpeters.org
SUMMARY:Worship Service
DESCRIPTION:
URL:https://chapelstpeters.org/e/worship-service-6/
END:VEVENT
BEGIN:VEVENT
DTSTART;TZID=America/Chicago:20260607T091500
DTEND;TZID=America/Chicago:20260607T100000
DTSTAMP:20260422T164911
CREATED:20260311T144654Z
LAST-MODIFIED:20260422T174216Z
UID:2208-1780823700-1780826400@chapelstpeters.org
SUMMARY:Education Hour
DESCRIPTION:
URL:https://chapelstpeters.org/e/education-hour-6/
CATEGORIES:Youth Ministry
END:VEVENT
BEGIN:VEVENT
DTSTART;TZID=America/Chicago:20260607T080000
DTEND;TZID=America/Chicago:20260607T090000
DTSTAMP:20260422T164911
CREATED:20260311T144643Z
LAST-MODIFIED:20260422T174216Z
UID:2207-1780819200-1780822800@chapelstpeters.org
SUMMARY:Worship Service
DESCRIPTION:
URL:https://chapelstpeters.org/e/worship-service-5/
END:VEVENT
BEGIN:VEVENT
DTSTART;TZID=America/Chicago:20260606T101500
DTEND;TZID=America/Chicago:20260606T114500
DTSTAMP:20260422T164911
CREATED:20260311T144643Z
LAST-MODIFIED:20260422T174211Z
UID:2206-1780740900-1780746300@chapelstpeters.org
SUMMARY:AA - Rm224
DESCRIPTION:
URL:https://chapelstpeters.org/e/aa-rm224-14/
END:VEVENT
BEGIN:VEVENT
DTSTART;TZID=America/Chicago:20260606T090000
DTEND;TZID=America/Chicago:20260606T100000
DTSTAMP:20260422T164911
CREATED:20260311T144642Z
LAST-MODIFIED:20260422T174210Z
UID:2205-1780736400-1780740000@chapelstpeters.org
SUMMARY:ACA - Rm222
DESCRIPTION:
URL:https://chapelstpeters.org/e/aca-rm222-14/
END:VEVENT
BEGIN:VEVENT
DTSTART;TZID=America/Chicago:20260604T174500
DTEND;TZID=America/Chicago:20260604T184500
DTSTAMP:20260422T164911
CREATED:20260311T144642Z
LAST-MODIFIED:20260422T174210Z
UID:2204-1780595100-1780598700@chapelstpeters.org
SUMMARY:Zumba - Gym
DESCRIPTION:
URL:https://chapelstpeters.org/e/zumba-gym-28/
END:VEVENT
BEGIN:VEVENT
DTSTART;TZID=America/Chicago:20260604T130000
DTEND;TZID=America/Chicago:20260604T150000
DTSTAMP:20260422T164911
CREATED:20260311T144642Z
LAST-MODIFIED:20260422T174208Z
UID:2203-1780578000-1780585200@chapelstpeters.org
SUMMARY:LWML Board Meeting - Rm224
DESCRIPTION:
URL:https://chapelstpeters.org/e/lwml-board-meeting-rm224-4/
END:VEVENT
BEGIN:VEVENT
DTSTART;TZID=America/Chicago:20260604T120000
DTEND;TZID=America/Chicago:20260604T133000
DTSTAMP:20260422T164911
CREATED:20260311T144641Z
LAST-MODIFIED:20260422T174209Z
UID:2202-1780574400-1780579800@chapelstpeters.org
SUMMARY:Staff Meeting - Rm223
DESCRIPTION:
URL:https://chapelstpeters.org/e/staff-meeting-rm223-4/
END:VEVENT
BEGIN:VEVENT
DTSTART;TZID=America/Chicago:20260604T103000
DTEND;TZID=America/Chicago:20260604T120000
DTSTAMP:20260422T164911
CREATED:20260311T144641Z
LAST-MODIFIED:20260422T174159Z
UID:2201-1780569000-1780574400@chapelstpeters.org
SUMMARY:Al-Anon - Rm114
DESCRIPTION:
URL:https://chapelstpeters.org/e/al-anon-rm114-28/
END:VEVENT
BEGIN:VEVENT
DTSTART;TZID=America/Chicago:20260603T180000
DTEND;TZID=America/Chicago:20260603T190000
DTSTAMP:20260422T164911
CREATED:20260416T153644Z
LAST-MODIFIED:20260422T174159Z
UID:2702-1780509600-1780513200@chapelstpeters.org
SUMMARY:Summer Nights - Outside/Gym
DESCRIPTION:
URL:https://chapelstpeters.org/e/summer-nights/
CATEGORIES:Youth Ministry
END:VEVENT
BEGIN:VEVENT
DTSTART;TZID=America/Chicago:20260603T161500
DTEND;TZID=America/Chicago:20260603T171500
DTSTAMP:20260422T164911
CREATED:20260311T144641Z
LAST-MODIFIED:20260422T174158Z
UID:2200-1780503300-1780506900@chapelstpeters.org
SUMMARY:Zumba - Gym
DESCRIPTION:
URL:https://chapelstpeters.org/e/zumba-gym-27/
END:VEVENT
BEGIN:VEVENT
DTSTART;TZID=America/Chicago:20260603T110000
DTEND;TZID=America/Chicago:20260603T120000
DTSTAMP:20260422T164911
CREATED:20260311T144640Z
LAST-MODIFIED:20260422T174157Z
UID:2199-1780484400-1780488000@chapelstpeters.org
SUMMARY:Worship Service
DESCRIPTION:
URL:https://chapelstpeters.org/e/worship-service-4/
END:VEVENT
BEGIN:VEVENT
DTSTART;TZID=America/Chicago:20260603T083000
DTEND;TZID=America/Chicago:20260603T110000
DTSTAMP:20260422T164911
CREATED:20260311T144640Z
LAST-MODIFIED:20260422T174153Z
UID:2198-1780475400-1780484400@chapelstpeters.org
SUMMARY:TOPS - Rm224
DESCRIPTION:
URL:https://chapelstpeters.org/e/tops-rm224-14/
END:VEVENT
BEGIN:VEVENT
DTSTART;TZID=America/Chicago:20260603T083000
DTEND;TZID=America/Chicago:20260603T110000
DTSTAMP:20260422T164911
CREATED:20260311T144634Z
LAST-MODIFIED:20260422T174158Z
UID:2197-1780475400-1780484400@chapelstpeters.org
SUMMARY:AA -Rm114
DESCRIPTION:
URL:https://chapelstpeters.org/e/aa-rm114-28/
END:VEVENT
BEGIN:VEVENT
DTSTART;TZID=America/Chicago:20260602T180000
DTEND;TZID=America/Chicago:20260602T193000
DTSTAMP:20260422T164911
CREATED:20260304T190328Z
LAST-MODIFIED:20260422T174152Z
UID:2107-1780423200-1780428600@chapelstpeters.org
SUMMARY:Elders - Rm222
DESCRIPTION:
URL:https://chapelstpeters.org/e/elders-rm222-4/
END:VEVENT
END:VCALENDAR