BEGIN:VCALENDAR
VERSION:2.0
PRODID:-//Chapel of the Cross Lutheran Church - St. Peters, MO - ECPv6.15.20//NONSGML v1.0//EN
CALSCALE:GREGORIAN
METHOD:PUBLISH
X-WR-CALNAME:Chapel of the Cross Lutheran Church - St. Peters, MO
X-ORIGINAL-URL:https://chapelstpeters.org
X-WR-CALDESC:Events for Chapel of the Cross Lutheran Church - St. Peters, MO
REFRESH-INTERVAL;VALUE=DURATION:PT1H
X-Robots-Tag:noindex
X-PUBLISHED-TTL:PT1H
BEGIN:VTIMEZONE
TZID:America/Chicago
BEGIN:DAYLIGHT
TZOFFSETFROM:-0600
TZOFFSETTO:-0500
TZNAME:CDT
DTSTART:20250309T080000
END:DAYLIGHT
BEGIN:STANDARD
TZOFFSETFROM:-0500
TZOFFSETTO:-0600
TZNAME:CST
DTSTART:20251102T070000
END:STANDARD
BEGIN:DAYLIGHT
TZOFFSETFROM:-0600
TZOFFSETTO:-0500
TZNAME:CDT
DTSTART:20260308T080000
END:DAYLIGHT
BEGIN:STANDARD
TZOFFSETFROM:-0500
TZOFFSETTO:-0600
TZNAME:CST
DTSTART:20261101T070000
END:STANDARD
BEGIN:DAYLIGHT
TZOFFSETFROM:-0600
TZOFFSETTO:-0500
TZNAME:CDT
DTSTART:20270314T080000
END:DAYLIGHT
BEGIN:STANDARD
TZOFFSETFROM:-0500
TZOFFSETTO:-0600
TZNAME:CST
DTSTART:20271107T070000
END:STANDARD
END:VTIMEZONE
BEGIN:VEVENT
DTSTART;TZID=America/Chicago:20260609T173000
DTEND;TZID=America/Chicago:20260609T183000
DTSTAMP:20260422T175758
CREATED:20260311T144657Z
LAST-MODIFIED:20260422T174220Z
UID:2216-1781026200-1781029800@chapelstpeters.org
SUMMARY:Refit - Gym
DESCRIPTION:
URL:https://chapelstpeters.org/e/refit-gym-30/
END:VEVENT
BEGIN:VEVENT
DTSTART;TZID=America/Chicago:20260610T083000
DTEND;TZID=America/Chicago:20260610T110000
DTSTAMP:20260422T175758
CREATED:20260316T173031Z
LAST-MODIFIED:20260422T174225Z
UID:2248-1781080200-1781089200@chapelstpeters.org
SUMMARY:AA -Rm114
DESCRIPTION:
URL:https://chapelstpeters.org/e/aa-rm114-30/
END:VEVENT
BEGIN:VEVENT
DTSTART;TZID=America/Chicago:20260610T083000
DTEND;TZID=America/Chicago:20260610T110000
DTSTAMP:20260422T175758
CREATED:20260316T173031Z
LAST-MODIFIED:20260422T174224Z
UID:2249-1781080200-1781089200@chapelstpeters.org
SUMMARY:TOPS - Rm224
DESCRIPTION:
URL:https://chapelstpeters.org/e/tops-rm224-15/
END:VEVENT
BEGIN:VEVENT
DTSTART;TZID=America/Chicago:20260610T090000
DTEND;TZID=America/Chicago:20260610T113000
DTSTAMP:20260422T175758
CREATED:20260316T173031Z
LAST-MODIFIED:20260422T174224Z
UID:2247-1781082000-1781091000@chapelstpeters.org
SUMMARY:Quilt Tacking - Lower Lobby
DESCRIPTION:
URL:https://chapelstpeters.org/e/quilt-tacking-lower-lobby-7/
END:VEVENT
BEGIN:VEVENT
DTSTART;TZID=America/Chicago:20260610T110000
DTEND;TZID=America/Chicago:20260610T120000
DTSTAMP:20260422T175758
CREATED:20260316T173031Z
LAST-MODIFIED:20260422T174225Z
UID:2246-1781089200-1781092800@chapelstpeters.org
SUMMARY:Worship Service
DESCRIPTION:
URL:https://chapelstpeters.org/e/worship-service-7/
END:VEVENT
BEGIN:VEVENT
DTSTART;TZID=America/Chicago:20260610T161500
DTEND;TZID=America/Chicago:20260610T171500
DTSTAMP:20260422T175758
CREATED:20260316T173036Z
LAST-MODIFIED:20260422T174225Z
UID:2250-1781108100-1781111700@chapelstpeters.org
SUMMARY:Zumba - Gym
DESCRIPTION:
URL:https://chapelstpeters.org/e/zumba-gym-29/
END:VEVENT
BEGIN:VEVENT
DTSTART;TZID=America/Chicago:20260611T103000
DTEND;TZID=America/Chicago:20260611T120000
DTSTAMP:20260422T175758
CREATED:20260316T173036Z
LAST-MODIFIED:20260422T174231Z
UID:2251-1781173800-1781179200@chapelstpeters.org
SUMMARY:Al-Anon - Rm114
DESCRIPTION:
URL:https://chapelstpeters.org/e/al-anon-rm114-30/
END:VEVENT
BEGIN:VEVENT
DTSTART;TZID=America/Chicago:20260611T130000
DTEND;TZID=America/Chicago:20260611T143000
DTSTAMP:20260422T175758
CREATED:20260316T173036Z
LAST-MODIFIED:20260422T174231Z
UID:2252-1781182800-1781188200@chapelstpeters.org
SUMMARY:Comfort Group - Rm224
DESCRIPTION:
URL:https://chapelstpeters.org/e/comfort-group-rm224-4/
END:VEVENT
BEGIN:VEVENT
DTSTART;TZID=America/Chicago:20260611T170000
DTEND;TZID=America/Chicago:20260611T200000
DTSTAMP:20260422T175758
CREATED:20260316T173036Z
LAST-MODIFIED:20260422T174231Z
UID:2253-1781197200-1781208000@chapelstpeters.org
SUMMARY:STL Group - Rm223
DESCRIPTION:
URL:https://chapelstpeters.org/e/stl-group-rm223-4/
END:VEVENT
BEGIN:VEVENT
DTSTART;TZID=America/Chicago:20260611T174500
DTEND;TZID=America/Chicago:20260611T184500
DTSTAMP:20260422T175758
CREATED:20260316T173036Z
LAST-MODIFIED:20260422T174231Z
UID:2254-1781199900-1781203500@chapelstpeters.org
SUMMARY:Zumba - Gym
DESCRIPTION:
URL:https://chapelstpeters.org/e/zumba-gym-30/
END:VEVENT
BEGIN:VEVENT
DTSTART;TZID=America/Chicago:20260612T113000
DTEND;TZID=America/Chicago:20260612T133000
DTSTAMP:20260422T175758
CREATED:20260316T173040Z
LAST-MODIFIED:20260422T174232Z
UID:2255-1781263800-1781271000@chapelstpeters.org
SUMMARY:OWLS - Rm224
DESCRIPTION:
URL:https://chapelstpeters.org/e/owls-rm224-4/
END:VEVENT
BEGIN:VEVENT
DTSTART;TZID=America/Chicago:20260613T073000
DTEND;TZID=America/Chicago:20260613T090000
DTSTAMP:20260422T175758
CREATED:20260316T173040Z
LAST-MODIFIED:20260422T174239Z
UID:2256-1781335800-1781341200@chapelstpeters.org
SUMMARY:Men's Bible Study - Rm224
DESCRIPTION:
URL:https://chapelstpeters.org/e/mens-bible-study-rm224-7/
END:VEVENT
BEGIN:VEVENT
DTSTART;TZID=America/Chicago:20260613T090000
DTEND;TZID=America/Chicago:20260613T100000
DTSTAMP:20260422T175758
CREATED:20260316T173041Z
LAST-MODIFIED:20260422T174239Z
UID:2257-1781341200-1781344800@chapelstpeters.org
SUMMARY:ACA - Rm222
DESCRIPTION:
URL:https://chapelstpeters.org/e/aca-rm222-15/
END:VEVENT
BEGIN:VEVENT
DTSTART;TZID=America/Chicago:20260613T101500
DTEND;TZID=America/Chicago:20260613T114500
DTSTAMP:20260422T175758
CREATED:20260316T173041Z
LAST-MODIFIED:20260422T174239Z
UID:2258-1781345700-1781351100@chapelstpeters.org
SUMMARY:AA - Rm224
DESCRIPTION:
URL:https://chapelstpeters.org/e/aa-rm224-15/
END:VEVENT
BEGIN:VEVENT
DTSTART;TZID=America/Chicago:20260614T080000
DTEND;TZID=America/Chicago:20260614T090000
DTSTAMP:20260422T175758
CREATED:20260316T173041Z
LAST-MODIFIED:20260422T174240Z
UID:2259-1781424000-1781427600@chapelstpeters.org
SUMMARY:Worship Service
DESCRIPTION:
URL:https://chapelstpeters.org/e/worship-service-8/
END:VEVENT
BEGIN:VEVENT
DTSTART;TZID=America/Chicago:20260614T091500
DTEND;TZID=America/Chicago:20260614T100000
DTSTAMP:20260422T175758
CREATED:20260316T173049Z
LAST-MODIFIED:20260422T174240Z
UID:2260-1781428500-1781431200@chapelstpeters.org
SUMMARY:Education Hour
DESCRIPTION:
URL:https://chapelstpeters.org/e/education-hour-13/
CATEGORIES:Youth Ministry
END:VEVENT
BEGIN:VEVENT
DTSTART;TZID=America/Chicago:20260614T101500
DTEND;TZID=America/Chicago:20260614T111500
DTSTAMP:20260422T175758
CREATED:20260316T173049Z
LAST-MODIFIED:20260422T174246Z
UID:2261-1781432100-1781435700@chapelstpeters.org
SUMMARY:Worship Service
DESCRIPTION:
URL:https://chapelstpeters.org/e/worship-service-9/
END:VEVENT
BEGIN:VEVENT
DTSTART;TZID=America/Chicago:20260614T103000
DTEND;TZID=America/Chicago:20260614T113000
DTSTAMP:20260422T175758
CREATED:20260316T173049Z
LAST-MODIFIED:20260422T174247Z
UID:2262-1781433000-1781436600@chapelstpeters.org
SUMMARY:E-Service - Rm224
DESCRIPTION:
URL:https://chapelstpeters.org/e/e-service-rm224-4/
END:VEVENT
BEGIN:VEVENT
DTSTART;TZID=America/Chicago:20260614T183000
DTEND;TZID=America/Chicago:20260614T200000
DTSTAMP:20260422T175758
CREATED:20260316T173049Z
LAST-MODIFIED:20260422T174247Z
UID:2263-1781461800-1781467200@chapelstpeters.org
SUMMARY:Al-Anon - Rm114
DESCRIPTION:
URL:https://chapelstpeters.org/e/al-anon-rm114-31/
END:VEVENT
BEGIN:VEVENT
DTSTART;TZID=America/Chicago:20260615T130000
DTEND;TZID=America/Chicago:20260615T150000
DTSTAMP:20260422T175758
CREATED:20260329T155859Z
LAST-MODIFIED:20260422T174247Z
UID:2316-1781528400-1781535600@chapelstpeters.org
SUMMARY:Knitting and Crochet - Rm224
DESCRIPTION:
URL:https://chapelstpeters.org/e/knitting-and-crochet-rm224-16/
END:VEVENT
BEGIN:VEVENT
DTSTART;TZID=America/Chicago:20260615T173000
DTEND;TZID=America/Chicago:20260615T183000
DTSTAMP:20260422T175758
CREATED:20260329T155859Z
LAST-MODIFIED:20260422T174252Z
UID:2317-1781544600-1781548200@chapelstpeters.org
SUMMARY:Financial Control Board - Rm223
DESCRIPTION:
URL:https://chapelstpeters.org/e/financial-control-board-rm223-4/
END:VEVENT
BEGIN:VEVENT
DTSTART;TZID=America/Chicago:20260615T174500
DTEND;TZID=America/Chicago:20260615T184500
DTSTAMP:20260422T175758
CREATED:20260329T155859Z
LAST-MODIFIED:20260422T174252Z
UID:2319-1781545500-1781549100@chapelstpeters.org
SUMMARY:Refit - Gym
DESCRIPTION:
URL:https://chapelstpeters.org/e/refit-gym-31/
END:VEVENT
BEGIN:VEVENT
DTSTART;TZID=America/Chicago:20260615T180000
DTEND;TZID=America/Chicago:20260615T193000
DTSTAMP:20260422T175758
CREATED:20260329T155859Z
LAST-MODIFIED:20260422T174247Z
UID:2318-1781546400-1781551800@chapelstpeters.org
SUMMARY:AA - Rm114
DESCRIPTION:
URL:https://chapelstpeters.org/e/aa-rm114-31/
END:VEVENT
BEGIN:VEVENT
DTSTART;TZID=America/Chicago:20260615T190000
DTEND;TZID=America/Chicago:20260615T200000
DTSTAMP:20260422T175758
CREATED:20260329T155859Z
LAST-MODIFIED:20260422T174253Z
UID:2320-1781550000-1781553600@chapelstpeters.org
SUMMARY:Worship Serivce
DESCRIPTION:
URL:https://chapelstpeters.org/e/worship-serivce-14/
END:VEVENT
BEGIN:VEVENT
DTSTART;TZID=America/Chicago:20260616T173000
DTEND;TZID=America/Chicago:20260616T183000
DTSTAMP:20260422T175758
CREATED:20260329T160300Z
LAST-MODIFIED:20260422T174253Z
UID:2321-1781631000-1781634600@chapelstpeters.org
SUMMARY:Refit - Gym
DESCRIPTION:
URL:https://chapelstpeters.org/e/refit-gym-32/
END:VEVENT
BEGIN:VEVENT
DTSTART;TZID=America/Chicago:20260617T083000
DTEND;TZID=America/Chicago:20260617T110000
DTSTAMP:20260422T175758
CREATED:20260329T160301Z
LAST-MODIFIED:20260422T174254Z
UID:2322-1781685000-1781694000@chapelstpeters.org
SUMMARY:AA -Rm114
DESCRIPTION:
URL:https://chapelstpeters.org/e/aa-rm114-32/
END:VEVENT
BEGIN:VEVENT
DTSTART;TZID=America/Chicago:20260617T083000
DTEND;TZID=America/Chicago:20260617T110000
DTSTAMP:20260422T175758
CREATED:20260329T160301Z
LAST-MODIFIED:20260422T174301Z
UID:2323-1781685000-1781694000@chapelstpeters.org
SUMMARY:TOPS - Rm224
DESCRIPTION:
URL:https://chapelstpeters.org/e/tops-rm224-16/
END:VEVENT
BEGIN:VEVENT
DTSTART;TZID=America/Chicago:20260617T110000
DTEND;TZID=America/Chicago:20260617T120000
DTSTAMP:20260422T175758
CREATED:20260329T160301Z
LAST-MODIFIED:20260422T174302Z
UID:2324-1781694000-1781697600@chapelstpeters.org
SUMMARY:Worship Service
DESCRIPTION:
URL:https://chapelstpeters.org/e/worship-service-10/
END:VEVENT
BEGIN:VEVENT
DTSTART;TZID=America/Chicago:20260617T161500
DTEND;TZID=America/Chicago:20260617T171500
DTSTAMP:20260422T175758
CREATED:20260329T160301Z
LAST-MODIFIED:20260422T174302Z
UID:2325-1781712900-1781716500@chapelstpeters.org
SUMMARY:Zumba - Gym
DESCRIPTION:
URL:https://chapelstpeters.org/e/zumba-gym-31/
END:VEVENT
BEGIN:VEVENT
DTSTART;TZID=America/Chicago:20260617T180000
DTEND;TZID=America/Chicago:20260617T190000
DTSTAMP:20260422T175758
CREATED:20260417T152040Z
LAST-MODIFIED:20260422T174302Z
UID:2714-1781719200-1781722800@chapelstpeters.org
SUMMARY:Summer Nights
DESCRIPTION:
URL:https://chapelstpeters.org/e/summer-nights-2/
CATEGORIES:Youth Ministry
END:VEVENT
END:VCALENDAR