BEGIN:VCALENDAR
VERSION:2.0
PRODID:-//Chapel of the Cross Lutheran Church - St. Peters, MO - ECPv6.15.20//NONSGML v1.0//EN
CALSCALE:GREGORIAN
METHOD:PUBLISH
X-WR-CALNAME:Chapel of the Cross Lutheran Church - St. Peters, MO
X-ORIGINAL-URL:https://chapelstpeters.org
X-WR-CALDESC:Events for Chapel of the Cross Lutheran Church - St. Peters, MO
REFRESH-INTERVAL;VALUE=DURATION:PT1H
X-Robots-Tag:noindex
X-PUBLISHED-TTL:PT1H
BEGIN:VTIMEZONE
TZID:America/Chicago
BEGIN:DAYLIGHT
TZOFFSETFROM:-0600
TZOFFSETTO:-0500
TZNAME:CDT
DTSTART:20250309T080000
END:DAYLIGHT
BEGIN:STANDARD
TZOFFSETFROM:-0500
TZOFFSETTO:-0600
TZNAME:CST
DTSTART:20251102T070000
END:STANDARD
BEGIN:DAYLIGHT
TZOFFSETFROM:-0600
TZOFFSETTO:-0500
TZNAME:CDT
DTSTART:20260308T080000
END:DAYLIGHT
BEGIN:STANDARD
TZOFFSETFROM:-0500
TZOFFSETTO:-0600
TZNAME:CST
DTSTART:20261101T070000
END:STANDARD
BEGIN:DAYLIGHT
TZOFFSETFROM:-0600
TZOFFSETTO:-0500
TZNAME:CDT
DTSTART:20270314T080000
END:DAYLIGHT
BEGIN:STANDARD
TZOFFSETFROM:-0500
TZOFFSETTO:-0600
TZNAME:CST
DTSTART:20271107T070000
END:STANDARD
END:VTIMEZONE
BEGIN:VEVENT
DTSTART;TZID=America/Chicago:20260308T113000
DTEND;TZID=America/Chicago:20260308T130000
DTSTAMP:20260421T155531
CREATED:20260304T190307Z
LAST-MODIFIED:20260304T211410Z
UID:2089-1772969400-1772974800@chapelstpeters.org
SUMMARY:Memorial Garden Meeting - Rm223
DESCRIPTION:
URL:https://chapelstpeters.org/e/memorial-garden-meeting-rm223/
END:VEVENT
BEGIN:VEVENT
DTSTART;TZID=America/Chicago:20260308T183000
DTEND;TZID=America/Chicago:20260308T200000
DTSTAMP:20260421T155531
CREATED:20260219T175611Z
LAST-MODIFIED:20260304T211415Z
UID:1331-1772994600-1773000000@chapelstpeters.org
SUMMARY:Al-Anon - Rm114
DESCRIPTION:
URL:https://chapelstpeters.org/e/al-anon-rm114-3/
END:VEVENT
BEGIN:VEVENT
DTSTART;TZID=America/Chicago:20260309T130000
DTEND;TZID=America/Chicago:20260309T150000
DTSTAMP:20260421T155531
CREATED:20260219T175611Z
LAST-MODIFIED:20260309T181023Z
UID:1332-1773061200-1773068400@chapelstpeters.org
SUMMARY:Knitting and Crochet - Rm224
DESCRIPTION:
URL:https://chapelstpeters.org/e/knitting-and-crochet-rm224-2/
END:VEVENT
BEGIN:VEVENT
DTSTART;TZID=America/Chicago:20260309T173000
DTEND;TZID=America/Chicago:20260309T193000
DTSTAMP:20260421T155531
CREATED:20260219T175612Z
LAST-MODIFIED:20260309T181023Z
UID:1334-1773077400-1773084600@chapelstpeters.org
SUMMARY:Executive Council -Rm223
DESCRIPTION:
URL:https://chapelstpeters.org/e/executive-council-rm223/
END:VEVENT
BEGIN:VEVENT
DTSTART;TZID=America/Chicago:20260309T174500
DTEND;TZID=America/Chicago:20260309T184500
DTSTAMP:20260421T155531
CREATED:20260219T175612Z
LAST-MODIFIED:20260309T181027Z
UID:1336-1773078300-1773081900@chapelstpeters.org
SUMMARY:Refit - Gym
DESCRIPTION:
URL:https://chapelstpeters.org/e/refit-gym-3/
END:VEVENT
BEGIN:VEVENT
DTSTART;TZID=America/Chicago:20260309T180000
DTEND;TZID=America/Chicago:20260309T193000
DTSTAMP:20260421T155531
CREATED:20260219T175612Z
LAST-MODIFIED:20260309T181025Z
UID:1335-1773079200-1773084600@chapelstpeters.org
SUMMARY:AA - Rm114
DESCRIPTION:
URL:https://chapelstpeters.org/e/aa-rm114-3/
END:VEVENT
BEGIN:VEVENT
DTSTART;TZID=America/Chicago:20260309T183000
DTEND;TZID=America/Chicago:20260309T203000
DTSTAMP:20260421T155531
CREATED:20260219T175612Z
LAST-MODIFIED:20260309T181025Z
UID:1337-1773081000-1773088200@chapelstpeters.org
SUMMARY:Girlfriend Gathering Meeting - Rm224
DESCRIPTION:
URL:https://chapelstpeters.org/e/girlfriend-gathering-meeting-rm224/
END:VEVENT
BEGIN:VEVENT
DTSTART;TZID=America/Chicago:20260309T190000
DTEND;TZID=America/Chicago:20260309T200000
DTSTAMP:20260421T155531
CREATED:20260219T175611Z
LAST-MODIFIED:20260309T181024Z
UID:1333-1773082800-1773086400@chapelstpeters.org
SUMMARY:Worship Serivce
DESCRIPTION:
URL:https://chapelstpeters.org/e/worship-serivce-2/
END:VEVENT
BEGIN:VEVENT
DTSTART;TZID=America/Chicago:20260310T093000
DTEND;TZID=America/Chicago:20260310T110000
DTSTAMP:20260421T155531
CREATED:20260219T175612Z
LAST-MODIFIED:20260309T181028Z
UID:1338-1773135000-1773140400@chapelstpeters.org
SUMMARY:Bible Study - Rm224/Rm223/Rm222/Rm114
DESCRIPTION:
URL:https://chapelstpeters.org/e/bible-study-rm224-rm114-2/
END:VEVENT
BEGIN:VEVENT
DTSTART;TZID=America/Chicago:20260310T170000
DTEND;TZID=America/Chicago:20260310T180000
DTSTAMP:20260421T155531
CREATED:20260219T175613Z
LAST-MODIFIED:20260309T181029Z
UID:1340-1773162000-1773165600@chapelstpeters.org
SUMMARY:Handbell Choir - Rm301
DESCRIPTION:
URL:https://chapelstpeters.org/e/handbell-choir-rm301-2/
END:VEVENT
BEGIN:VEVENT
DTSTART;TZID=America/Chicago:20260310T173000
DTEND;TZID=America/Chicago:20260310T183000
DTSTAMP:20260421T155531
CREATED:20260219T175612Z
LAST-MODIFIED:20260309T181033Z
UID:1339-1773163800-1773167400@chapelstpeters.org
SUMMARY:Refit - Gym
DESCRIPTION:
URL:https://chapelstpeters.org/e/refit-gym-4/
END:VEVENT
BEGIN:VEVENT
DTSTART;TZID=America/Chicago:20260310T181500
DTEND;TZID=America/Chicago:20260310T193000
DTSTAMP:20260421T155531
CREATED:20260219T175613Z
LAST-MODIFIED:20260309T181029Z
UID:1342-1773166500-1773171000@chapelstpeters.org
SUMMARY:Adult Choir - Rm301
DESCRIPTION:
URL:https://chapelstpeters.org/e/adult-choir-rm301-2/
END:VEVENT
BEGIN:VEVENT
DTSTART;TZID=America/Chicago:20260310T190000
DTEND;TZID=America/Chicago:20260310T203000
DTSTAMP:20260421T155531
CREATED:20260219T175613Z
LAST-MODIFIED:20260309T181029Z
UID:1341-1773169200-1773174600@chapelstpeters.org
SUMMARY:Ladies Bible Study - Rm224
DESCRIPTION:
URL:https://chapelstpeters.org/e/ladies-bible-study-rm224-2/
END:VEVENT
BEGIN:VEVENT
DTSTART;TZID=America/Chicago:20260311T083000
DTEND;TZID=America/Chicago:20260311T110000
DTSTAMP:20260421T155531
CREATED:20260219T175613Z
LAST-MODIFIED:20260311T142737Z
UID:1343-1773217800-1773226800@chapelstpeters.org
SUMMARY:AA -Rm114
DESCRIPTION:
URL:https://chapelstpeters.org/e/aa-rm114-4/
END:VEVENT
BEGIN:VEVENT
DTSTART;TZID=America/Chicago:20260311T083000
DTEND;TZID=America/Chicago:20260311T110000
DTSTAMP:20260421T155531
CREATED:20260219T175613Z
LAST-MODIFIED:20260311T142737Z
UID:1344-1773217800-1773226800@chapelstpeters.org
SUMMARY:TOPS - Rm224
DESCRIPTION:
URL:https://chapelstpeters.org/e/tops-rm224-2/
END:VEVENT
BEGIN:VEVENT
DTSTART;TZID=America/Chicago:20260311T090000
DTEND;TZID=America/Chicago:20260311T113000
DTSTAMP:20260421T155531
CREATED:20260219T175613Z
LAST-MODIFIED:20260311T142735Z
UID:1346-1773219600-1773228600@chapelstpeters.org
SUMMARY:Quilt Tacking - Lower Lobby
DESCRIPTION:
URL:https://chapelstpeters.org/e/quilt-tacking-lower-lobby/
END:VEVENT
BEGIN:VEVENT
DTSTART;TZID=America/Chicago:20260311T110000
DTEND;TZID=America/Chicago:20260311T120000
DTSTAMP:20260421T155531
CREATED:20260219T175613Z
LAST-MODIFIED:20260311T142736Z
UID:1345-1773226800-1773230400@chapelstpeters.org
SUMMARY:Worship Service
DESCRIPTION:
URL:https://chapelstpeters.org/e/worship-service-111/
END:VEVENT
BEGIN:VEVENT
DTSTART;TZID=America/Chicago:20260311T161500
DTEND;TZID=America/Chicago:20260311T171500
DTSTAMP:20260421T155531
CREATED:20260219T175613Z
LAST-MODIFIED:20260311T142738Z
UID:1347-1773245700-1773249300@chapelstpeters.org
SUMMARY:Zumba - Gym
DESCRIPTION:
URL:https://chapelstpeters.org/e/zumba-gym-3/
END:VEVENT
BEGIN:VEVENT
DTSTART;TZID=America/Chicago:20260311T180000
DTEND;TZID=America/Chicago:20260311T184500
DTSTAMP:20260421T155531
CREATED:20260219T175614Z
LAST-MODIFIED:20260311T142743Z
UID:1348-1773252000-1773254700@chapelstpeters.org
SUMMARY:Soup Supper - Gym
DESCRIPTION:
URL:https://chapelstpeters.org/e/soup-supper-gym-2/
CATEGORIES:Youth Ministry
END:VEVENT
BEGIN:VEVENT
DTSTART;TZID=America/Chicago:20260311T190000
DTEND;TZID=America/Chicago:20260311T200000
DTSTAMP:20260421T155531
CREATED:20260219T175614Z
LAST-MODIFIED:20260311T142744Z
UID:1349-1773255600-1773259200@chapelstpeters.org
SUMMARY:Lent Service
DESCRIPTION:
URL:https://chapelstpeters.org/e/lent-serivce-2/
END:VEVENT
BEGIN:VEVENT
DTSTART;TZID=America/Chicago:20260312T103000
DTEND;TZID=America/Chicago:20260312T120000
DTSTAMP:20260421T155531
CREATED:20260219T175614Z
LAST-MODIFIED:20260311T142744Z
UID:1350-1773311400-1773316800@chapelstpeters.org
SUMMARY:Al-Anon - Rm114
DESCRIPTION:
URL:https://chapelstpeters.org/e/al-anon-rm114-4/
END:VEVENT
BEGIN:VEVENT
DTSTART;TZID=America/Chicago:20260312T130000
DTEND;TZID=America/Chicago:20260312T143000
DTSTAMP:20260421T155531
CREATED:20260219T175614Z
LAST-MODIFIED:20260311T142745Z
UID:1351-1773320400-1773325800@chapelstpeters.org
SUMMARY:Comfort Group - Rm224
DESCRIPTION:
URL:https://chapelstpeters.org/e/comfort-group-rm224/
END:VEVENT
BEGIN:VEVENT
DTSTART;TZID=America/Chicago:20260312T170000
DTEND;TZID=America/Chicago:20260312T200000
DTSTAMP:20260421T155531
CREATED:20260219T175614Z
LAST-MODIFIED:20260311T142745Z
UID:1353-1773334800-1773345600@chapelstpeters.org
SUMMARY:STL Group - Rm223
DESCRIPTION:
URL:https://chapelstpeters.org/e/stl-group-rm223/
END:VEVENT
BEGIN:VEVENT
DTSTART;TZID=America/Chicago:20260312T174500
DTEND;TZID=America/Chicago:20260312T184500
DTSTAMP:20260421T155531
CREATED:20260219T175614Z
LAST-MODIFIED:20260311T142746Z
UID:1352-1773337500-1773341100@chapelstpeters.org
SUMMARY:Zumba - Gym
DESCRIPTION:
URL:https://chapelstpeters.org/e/zumba-gym-4/
END:VEVENT
BEGIN:VEVENT
DTSTART;TZID=America/Chicago:20260313T113000
DTEND;TZID=America/Chicago:20260313T133000
DTSTAMP:20260421T155531
CREATED:20260219T175614Z
LAST-MODIFIED:20260311T142747Z
UID:1354-1773401400-1773408600@chapelstpeters.org
SUMMARY:OWLS - Rm224
DESCRIPTION:
URL:https://chapelstpeters.org/e/owls-rm224/
END:VEVENT
BEGIN:VEVENT
DTSTART;TZID=America/Chicago:20260314T073000
DTEND;TZID=America/Chicago:20260314T090000
DTSTAMP:20260421T155531
CREATED:20260219T175614Z
LAST-MODIFIED:20260311T142748Z
UID:1356-1773473400-1773478800@chapelstpeters.org
SUMMARY:Men's Bible Study - Rm224
DESCRIPTION:
URL:https://chapelstpeters.org/e/mens-bible-study-rm224/
END:VEVENT
BEGIN:VEVENT
DTSTART;TZID=America/Chicago:20260314T090000
DTEND;TZID=America/Chicago:20260314T100000
DTSTAMP:20260421T155531
CREATED:20260219T175614Z
LAST-MODIFIED:20260311T142747Z
UID:1355-1773478800-1773482400@chapelstpeters.org
SUMMARY:ACA - Rm222
DESCRIPTION:
URL:https://chapelstpeters.org/e/aca-rm222-2/
END:VEVENT
BEGIN:VEVENT
DTSTART;TZID=America/Chicago:20260314T101500
DTEND;TZID=America/Chicago:20260314T114500
DTSTAMP:20260421T155531
CREATED:20260219T175614Z
LAST-MODIFIED:20260311T142748Z
UID:1357-1773483300-1773488700@chapelstpeters.org
SUMMARY:AA - Rm224
DESCRIPTION:
URL:https://chapelstpeters.org/e/aa-rm224-2/
END:VEVENT
BEGIN:VEVENT
DTSTART;TZID=America/Chicago:20260314T130000
DTEND;TZID=America/Chicago:20260314T160000
DTSTAMP:20260421T155531
CREATED:20260219T175614Z
LAST-MODIFIED:20260311T142752Z
UID:1358-1773493200-1773504000@chapelstpeters.org
SUMMARY:AA Workshop - Rm114
DESCRIPTION:
URL:https://chapelstpeters.org/e/aa-workshop-rm114/
END:VEVENT
BEGIN:VEVENT
DTSTART;TZID=America/Chicago:20260315T080000
DTEND;TZID=America/Chicago:20260315T090000
DTSTAMP:20260421T155531
CREATED:20260219T175615Z
LAST-MODIFIED:20260311T142752Z
UID:1359-1773561600-1773565200@chapelstpeters.org
SUMMARY:Worship Service
DESCRIPTION:
URL:https://chapelstpeters.org/e/worship-service-112/
END:VEVENT
END:VCALENDAR