BEGIN:VCALENDAR
VERSION:2.0
PRODID:-//Chapel of the Cross Lutheran Church - St. Peters, MO - ECPv6.15.20//NONSGML v1.0//EN
CALSCALE:GREGORIAN
METHOD:PUBLISH
X-WR-CALNAME:Chapel of the Cross Lutheran Church - St. Peters, MO
X-ORIGINAL-URL:https://chapelstpeters.org
X-WR-CALDESC:Events for Chapel of the Cross Lutheran Church - St. Peters, MO
REFRESH-INTERVAL;VALUE=DURATION:PT1H
X-Robots-Tag:noindex
X-PUBLISHED-TTL:PT1H
BEGIN:VTIMEZONE
TZID:America/Chicago
BEGIN:DAYLIGHT
TZOFFSETFROM:-0600
TZOFFSETTO:-0500
TZNAME:CDT
DTSTART:20250309T080000
END:DAYLIGHT
BEGIN:STANDARD
TZOFFSETFROM:-0500
TZOFFSETTO:-0600
TZNAME:CST
DTSTART:20251102T070000
END:STANDARD
BEGIN:DAYLIGHT
TZOFFSETFROM:-0600
TZOFFSETTO:-0500
TZNAME:CDT
DTSTART:20260308T080000
END:DAYLIGHT
BEGIN:STANDARD
TZOFFSETFROM:-0500
TZOFFSETTO:-0600
TZNAME:CST
DTSTART:20261101T070000
END:STANDARD
BEGIN:DAYLIGHT
TZOFFSETFROM:-0600
TZOFFSETTO:-0500
TZNAME:CDT
DTSTART:20270314T080000
END:DAYLIGHT
BEGIN:STANDARD
TZOFFSETFROM:-0500
TZOFFSETTO:-0600
TZNAME:CST
DTSTART:20271107T070000
END:STANDARD
END:VTIMEZONE
BEGIN:VEVENT
DTSTART;TZID=America/Chicago:20260312T103000
DTEND;TZID=America/Chicago:20260312T120000
DTSTAMP:20260421T155537
CREATED:20260219T175614Z
LAST-MODIFIED:20260311T142744Z
UID:1350-1773311400-1773316800@chapelstpeters.org
SUMMARY:Al-Anon - Rm114
DESCRIPTION:
URL:https://chapelstpeters.org/e/al-anon-rm114-4/
END:VEVENT
BEGIN:VEVENT
DTSTART;TZID=America/Chicago:20260312T130000
DTEND;TZID=America/Chicago:20260312T143000
DTSTAMP:20260421T155537
CREATED:20260219T175614Z
LAST-MODIFIED:20260311T142745Z
UID:1351-1773320400-1773325800@chapelstpeters.org
SUMMARY:Comfort Group - Rm224
DESCRIPTION:
URL:https://chapelstpeters.org/e/comfort-group-rm224/
END:VEVENT
BEGIN:VEVENT
DTSTART;TZID=America/Chicago:20260312T170000
DTEND;TZID=America/Chicago:20260312T200000
DTSTAMP:20260421T155537
CREATED:20260219T175614Z
LAST-MODIFIED:20260311T142745Z
UID:1353-1773334800-1773345600@chapelstpeters.org
SUMMARY:STL Group - Rm223
DESCRIPTION:
URL:https://chapelstpeters.org/e/stl-group-rm223/
END:VEVENT
BEGIN:VEVENT
DTSTART;TZID=America/Chicago:20260312T174500
DTEND;TZID=America/Chicago:20260312T184500
DTSTAMP:20260421T155537
CREATED:20260219T175614Z
LAST-MODIFIED:20260311T142746Z
UID:1352-1773337500-1773341100@chapelstpeters.org
SUMMARY:Zumba - Gym
DESCRIPTION:
URL:https://chapelstpeters.org/e/zumba-gym-4/
END:VEVENT
BEGIN:VEVENT
DTSTART;TZID=America/Chicago:20260313T113000
DTEND;TZID=America/Chicago:20260313T133000
DTSTAMP:20260421T155537
CREATED:20260219T175614Z
LAST-MODIFIED:20260311T142747Z
UID:1354-1773401400-1773408600@chapelstpeters.org
SUMMARY:OWLS - Rm224
DESCRIPTION:
URL:https://chapelstpeters.org/e/owls-rm224/
END:VEVENT
BEGIN:VEVENT
DTSTART;TZID=America/Chicago:20260314T073000
DTEND;TZID=America/Chicago:20260314T090000
DTSTAMP:20260421T155537
CREATED:20260219T175614Z
LAST-MODIFIED:20260311T142748Z
UID:1356-1773473400-1773478800@chapelstpeters.org
SUMMARY:Men's Bible Study - Rm224
DESCRIPTION:
URL:https://chapelstpeters.org/e/mens-bible-study-rm224/
END:VEVENT
BEGIN:VEVENT
DTSTART;TZID=America/Chicago:20260314T090000
DTEND;TZID=America/Chicago:20260314T100000
DTSTAMP:20260421T155537
CREATED:20260219T175614Z
LAST-MODIFIED:20260311T142747Z
UID:1355-1773478800-1773482400@chapelstpeters.org
SUMMARY:ACA - Rm222
DESCRIPTION:
URL:https://chapelstpeters.org/e/aca-rm222-2/
END:VEVENT
BEGIN:VEVENT
DTSTART;TZID=America/Chicago:20260314T101500
DTEND;TZID=America/Chicago:20260314T114500
DTSTAMP:20260421T155537
CREATED:20260219T175614Z
LAST-MODIFIED:20260311T142748Z
UID:1357-1773483300-1773488700@chapelstpeters.org
SUMMARY:AA - Rm224
DESCRIPTION:
URL:https://chapelstpeters.org/e/aa-rm224-2/
END:VEVENT
BEGIN:VEVENT
DTSTART;TZID=America/Chicago:20260314T130000
DTEND;TZID=America/Chicago:20260314T160000
DTSTAMP:20260421T155537
CREATED:20260219T175614Z
LAST-MODIFIED:20260311T142752Z
UID:1358-1773493200-1773504000@chapelstpeters.org
SUMMARY:AA Workshop - Rm114
DESCRIPTION:
URL:https://chapelstpeters.org/e/aa-workshop-rm114/
END:VEVENT
BEGIN:VEVENT
DTSTART;TZID=America/Chicago:20260315T080000
DTEND;TZID=America/Chicago:20260315T090000
DTSTAMP:20260421T155537
CREATED:20260219T175615Z
LAST-MODIFIED:20260311T142752Z
UID:1359-1773561600-1773565200@chapelstpeters.org
SUMMARY:Worship Service
DESCRIPTION:
URL:https://chapelstpeters.org/e/worship-service-112/
END:VEVENT
BEGIN:VEVENT
DTSTART;TZID=America/Chicago:20260315T091500
DTEND;TZID=America/Chicago:20260315T100000
DTSTAMP:20260421T155537
CREATED:20260219T175615Z
LAST-MODIFIED:20260311T142753Z
UID:1360-1773566100-1773568800@chapelstpeters.org
SUMMARY:Education Hour
DESCRIPTION:
URL:https://chapelstpeters.org/e/education-hour-3/
END:VEVENT
BEGIN:VEVENT
DTSTART;TZID=America/Chicago:20260315T101500
DTEND;TZID=America/Chicago:20260315T111500
DTSTAMP:20260421T155537
CREATED:20260219T175615Z
LAST-MODIFIED:20260311T142753Z
UID:1361-1773569700-1773573300@chapelstpeters.org
SUMMARY:Worship Service
DESCRIPTION:
URL:https://chapelstpeters.org/e/worship-service-113/
END:VEVENT
BEGIN:VEVENT
DTSTART;TZID=America/Chicago:20260315T113000
DTEND;TZID=America/Chicago:20260315T130000
DTSTAMP:20260421T155537
CREATED:20260219T175615Z
LAST-MODIFIED:20260311T142753Z
UID:1364-1773574200-1773579600@chapelstpeters.org
SUMMARY:Church Bag Training- Coffee Shoppe
DESCRIPTION:
URL:https://chapelstpeters.org/e/doodle-bag-training-coffee-shoppe/
END:VEVENT
BEGIN:VEVENT
DTSTART;TZID=America/Chicago:20260315T113000
DTEND;TZID=America/Chicago:20260315T140000
DTSTAMP:20260421T155537
CREATED:20260219T175615Z
LAST-MODIFIED:20260311T142755Z
UID:1362-1773574200-1773583200@chapelstpeters.org
SUMMARY:Youth Group
DESCRIPTION:
URL:https://chapelstpeters.org/e/youth-group-daniels-den-gym/
CATEGORIES:Youth Ministry
END:VEVENT
BEGIN:VEVENT
DTSTART;TZID=America/Chicago:20260315T183000
DTEND;TZID=America/Chicago:20260315T200000
DTSTAMP:20260421T155537
CREATED:20260219T175615Z
LAST-MODIFIED:20260311T142755Z
UID:1363-1773599400-1773604800@chapelstpeters.org
SUMMARY:Al-Anon - Rm114
DESCRIPTION:
URL:https://chapelstpeters.org/e/al-anon-rm114-5/
END:VEVENT
BEGIN:VEVENT
DTSTART;TZID=America/Chicago:20260316T130000
DTEND;TZID=America/Chicago:20260316T150000
DTSTAMP:20260421T155537
CREATED:20260219T175615Z
LAST-MODIFIED:20260316T171813Z
UID:1365-1773666000-1773673200@chapelstpeters.org
SUMMARY:Knitting and Crochet - Rm224
DESCRIPTION:
URL:https://chapelstpeters.org/e/knitting-and-crochet-rm224-3/
END:VEVENT
BEGIN:VEVENT
DTSTART;TZID=America/Chicago:20260316T173000
DTEND;TZID=America/Chicago:20260316T183000
DTSTAMP:20260421T155537
CREATED:20260219T175616Z
LAST-MODIFIED:20260316T171814Z
UID:1368-1773682200-1773685800@chapelstpeters.org
SUMMARY:Financial Control Board - Rm223
DESCRIPTION:
URL:https://chapelstpeters.org/e/financial-control-board-rm223/
END:VEVENT
BEGIN:VEVENT
DTSTART;TZID=America/Chicago:20260316T174500
DTEND;TZID=America/Chicago:20260316T184500
DTSTAMP:20260421T155537
CREATED:20260219T175616Z
LAST-MODIFIED:20260316T171814Z
UID:1367-1773683100-1773686700@chapelstpeters.org
SUMMARY:Refit - Gym
DESCRIPTION:
URL:https://chapelstpeters.org/e/refit-gym-5/
END:VEVENT
BEGIN:VEVENT
DTSTART;TZID=America/Chicago:20260316T180000
DTEND;TZID=America/Chicago:20260316T190000
DTSTAMP:20260421T155537
CREATED:20260219T175616Z
LAST-MODIFIED:20260304T190309Z
UID:1366-1773684000-1773687600@chapelstpeters.org
SUMMARY:PTSD Group - Rm222
DESCRIPTION:
URL:https://chapelstpeters.org/e/ptsd-group-rm222/
END:VEVENT
BEGIN:VEVENT
DTSTART;TZID=America/Chicago:20260316T180000
DTEND;TZID=America/Chicago:20260316T193000
DTSTAMP:20260421T155537
CREATED:20260219T175616Z
LAST-MODIFIED:20260316T171813Z
UID:1370-1773684000-1773689400@chapelstpeters.org
SUMMARY:AA - Rm114
DESCRIPTION:
URL:https://chapelstpeters.org/e/aa-rm114-5/
END:VEVENT
BEGIN:VEVENT
DTSTART;TZID=America/Chicago:20260316T180000
DTEND;TZID=America/Chicago:20260316T200000
DTSTAMP:20260421T155537
CREATED:20260225T201529Z
LAST-MODIFIED:20260316T171814Z
UID:1998-1773684000-1773691200@chapelstpeters.org
SUMMARY:Softball Manger's Meeting - Rm224
DESCRIPTION:
URL:https://chapelstpeters.org/e/softball-mangers-meeting-rm224/
END:VEVENT
BEGIN:VEVENT
DTSTART;TZID=America/Chicago:20260316T190000
DTEND;TZID=America/Chicago:20260316T200000
DTSTAMP:20260421T155537
CREATED:20260219T175616Z
LAST-MODIFIED:20260316T171827Z
UID:1369-1773687600-1773691200@chapelstpeters.org
SUMMARY:Worship Serivce
DESCRIPTION:
URL:https://chapelstpeters.org/e/worship-serivce-3/
END:VEVENT
BEGIN:VEVENT
DTSTART;TZID=America/Chicago:20260317T093000
DTEND;TZID=America/Chicago:20260317T110000
DTSTAMP:20260421T155537
CREATED:20260219T175616Z
LAST-MODIFIED:20260316T171828Z
UID:1371-1773739800-1773745200@chapelstpeters.org
SUMMARY:Bible Study - Rm224/Rm223/Rm222/Rm114
DESCRIPTION:
URL:https://chapelstpeters.org/e/bible-study-rm224-rm114-3/
END:VEVENT
BEGIN:VEVENT
DTSTART;TZID=America/Chicago:20260317T170000
DTEND;TZID=America/Chicago:20260317T180000
DTSTAMP:20260421T155537
CREATED:20260219T175616Z
LAST-MODIFIED:20260316T171828Z
UID:1372-1773766800-1773770400@chapelstpeters.org
SUMMARY:Handbell Choir - Rm301
DESCRIPTION:
URL:https://chapelstpeters.org/e/handbell-choir-rm301-3/
END:VEVENT
BEGIN:VEVENT
DTSTART;TZID=America/Chicago:20260317T173000
DTEND;TZID=America/Chicago:20260317T183000
DTSTAMP:20260421T155537
CREATED:20260219T175616Z
LAST-MODIFIED:20260316T171829Z
UID:1374-1773768600-1773772200@chapelstpeters.org
SUMMARY:Refit - Gym
DESCRIPTION:
URL:https://chapelstpeters.org/e/refit-gym-6/
END:VEVENT
BEGIN:VEVENT
DTSTART;TZID=America/Chicago:20260317T181500
DTEND;TZID=America/Chicago:20260317T193000
DTSTAMP:20260421T155537
CREATED:20260219T175616Z
LAST-MODIFIED:20260316T171832Z
UID:1373-1773771300-1773775800@chapelstpeters.org
SUMMARY:Adult Choir - Rm301
DESCRIPTION:
URL:https://chapelstpeters.org/e/adult-choir-rm301-3/
END:VEVENT
BEGIN:VEVENT
DTSTART;TZID=America/Chicago:20260317T190000
DTEND;TZID=America/Chicago:20260317T203000
DTSTAMP:20260421T155537
CREATED:20260219T175616Z
LAST-MODIFIED:20260316T171829Z
UID:1375-1773774000-1773779400@chapelstpeters.org
SUMMARY:Ladies Bible Study - Rm224
DESCRIPTION:
URL:https://chapelstpeters.org/e/ladies-bible-study-rm224-3/
END:VEVENT
BEGIN:VEVENT
DTSTART;TZID=America/Chicago:20260318T083000
DTEND;TZID=America/Chicago:20260318T110000
DTSTAMP:20260421T155537
CREATED:20260219T175616Z
LAST-MODIFIED:20260316T171833Z
UID:1376-1773822600-1773831600@chapelstpeters.org
SUMMARY:TOPS - Rm224
DESCRIPTION:
URL:https://chapelstpeters.org/e/tops-rm224-3/
END:VEVENT
BEGIN:VEVENT
DTSTART;TZID=America/Chicago:20260318T083000
DTEND;TZID=America/Chicago:20260318T110000
DTSTAMP:20260421T155537
CREATED:20260219T175617Z
LAST-MODIFIED:20260316T171833Z
UID:1377-1773822600-1773831600@chapelstpeters.org
SUMMARY:AA -Rm114
DESCRIPTION:
URL:https://chapelstpeters.org/e/aa-rm114-6/
END:VEVENT
BEGIN:VEVENT
DTSTART;TZID=America/Chicago:20260318T110000
DTEND;TZID=America/Chicago:20260318T120000
DTSTAMP:20260421T155537
CREATED:20260219T175617Z
LAST-MODIFIED:20260316T171832Z
UID:1378-1773831600-1773835200@chapelstpeters.org
SUMMARY:Worship Service
DESCRIPTION:
URL:https://chapelstpeters.org/e/worship-service-114/
END:VEVENT
END:VCALENDAR