BEGIN:VCALENDAR
VERSION:2.0
PRODID:-//Chapel of the Cross Lutheran Church - St. Peters, MO - ECPv6.15.20//NONSGML v1.0//EN
CALSCALE:GREGORIAN
METHOD:PUBLISH
X-WR-CALNAME:Chapel of the Cross Lutheran Church - St. Peters, MO
X-ORIGINAL-URL:https://chapelstpeters.org
X-WR-CALDESC:Events for Chapel of the Cross Lutheran Church - St. Peters, MO
REFRESH-INTERVAL;VALUE=DURATION:PT1H
X-Robots-Tag:noindex
X-PUBLISHED-TTL:PT1H
BEGIN:VTIMEZONE
TZID:America/Chicago
BEGIN:DAYLIGHT
TZOFFSETFROM:-0600
TZOFFSETTO:-0500
TZNAME:CDT
DTSTART:20250309T080000
END:DAYLIGHT
BEGIN:STANDARD
TZOFFSETFROM:-0500
TZOFFSETTO:-0600
TZNAME:CST
DTSTART:20251102T070000
END:STANDARD
BEGIN:DAYLIGHT
TZOFFSETFROM:-0600
TZOFFSETTO:-0500
TZNAME:CDT
DTSTART:20260308T080000
END:DAYLIGHT
BEGIN:STANDARD
TZOFFSETFROM:-0500
TZOFFSETTO:-0600
TZNAME:CST
DTSTART:20261101T070000
END:STANDARD
BEGIN:DAYLIGHT
TZOFFSETFROM:-0600
TZOFFSETTO:-0500
TZNAME:CDT
DTSTART:20270314T080000
END:DAYLIGHT
BEGIN:STANDARD
TZOFFSETFROM:-0500
TZOFFSETTO:-0600
TZNAME:CST
DTSTART:20271107T070000
END:STANDARD
END:VTIMEZONE
BEGIN:VEVENT
DTSTART;TZID=America/Chicago:20260502T090000
DTEND;TZID=America/Chicago:20260502T100000
DTSTAMP:20260421T102443
CREATED:20260220T153755Z
LAST-MODIFIED:20260421T143712Z
UID:1665-1777712400-1777716000@chapelstpeters.org
SUMMARY:ACA - Rm222
DESCRIPTION:
URL:https://chapelstpeters.org/e/aca-rm222-9/
END:VEVENT
BEGIN:VEVENT
DTSTART;TZID=America/Chicago:20260502T101500
DTEND;TZID=America/Chicago:20260502T114500
DTSTAMP:20260421T102443
CREATED:20260220T153755Z
LAST-MODIFIED:20260421T143713Z
UID:1666-1777716900-1777722300@chapelstpeters.org
SUMMARY:AA - Rm224
DESCRIPTION:
URL:https://chapelstpeters.org/e/aa-rm224-9/
END:VEVENT
BEGIN:VEVENT
DTSTART;TZID=America/Chicago:20260502T140000
DTEND;TZID=America/Chicago:20260502T160000
DTSTAMP:20260421T102443
CREATED:20260402T190013Z
LAST-MODIFIED:20260421T143713Z
UID:2664-1777730400-1777737600@chapelstpeters.org
SUMMARY:Youth Ding Dong Ditch Groceries
DESCRIPTION:Help provide some groceries to those in need – in a FUN way! After gathering grocery lists and making a trip to Walmart\, we’ll leave meal ingredients on the doorsteps of neighbors in need. We will meet in the Gym and leave for Walmart as a group! Sign up to participate HERE
URL:https://chapelstpeters.org/e/youth-ding-dong-ditch-groceries-gym/
CATEGORIES:Youth Ministry
END:VEVENT
BEGIN:VEVENT
DTSTART;TZID=America/Chicago:20260503T080000
DTEND;TZID=America/Chicago:20260503T090000
DTSTAMP:20260421T102443
CREATED:20260220T153755Z
LAST-MODIFIED:20260421T143757Z
UID:1667-1777795200-1777798800@chapelstpeters.org
SUMMARY:Worship Service
DESCRIPTION:
URL:https://chapelstpeters.org/e/worship-service-132/
END:VEVENT
BEGIN:VEVENT
DTSTART;TZID=America/Chicago:20260503T091500
DTEND;TZID=America/Chicago:20260503T100000
DTSTAMP:20260421T102443
CREATED:20260220T153755Z
LAST-MODIFIED:20260421T143757Z
UID:1668-1777799700-1777802400@chapelstpeters.org
SUMMARY:Education Hour
DESCRIPTION:Adult Bible Class – Sanctuary or Room 224 \nNursery – Room 108 \nPreschool – 5th grade – Room 114 \nMiddle School Confirmation – Room 222 \nHigh School – Daniel’s Den
URL:https://chapelstpeters.org/e/education-hour-10/
CATEGORIES:Youth Ministry
END:VEVENT
BEGIN:VEVENT
DTSTART;TZID=America/Chicago:20260503T101500
DTEND;TZID=America/Chicago:20260503T111500
DTSTAMP:20260421T102443
CREATED:20260220T153755Z
LAST-MODIFIED:20260421T143758Z
UID:1669-1777803300-1777806900@chapelstpeters.org
SUMMARY:Worship Service
DESCRIPTION:
URL:https://chapelstpeters.org/e/worship-service-133/
END:VEVENT
BEGIN:VEVENT
DTSTART;TZID=America/Chicago:20260503T113000
DTEND;TZID=America/Chicago:20260503T130000
DTSTAMP:20260421T102443
CREATED:20260226T181411Z
LAST-MODIFIED:20260421T143758Z
UID:2040-1777807800-1777813200@chapelstpeters.org
SUMMARY:Faith Milestone - Living By Faith - Gym/Daniel's Den
DESCRIPTION:
URL:https://chapelstpeters.org/e/faith-milestone-living-by-faith/
CATEGORIES:Faith Milestones,Youth Ministry
END:VEVENT
BEGIN:VEVENT
DTSTART;TZID=America/Chicago:20260503T183000
DTEND;TZID=America/Chicago:20260503T200000
DTSTAMP:20260421T102443
CREATED:20260220T153755Z
LAST-MODIFIED:20260421T143759Z
UID:1670-1777833000-1777838400@chapelstpeters.org
SUMMARY:Al-Anon - Rm114
DESCRIPTION:
URL:https://chapelstpeters.org/e/al-anon-rm114-19/
END:VEVENT
BEGIN:VEVENT
DTSTART;TZID=America/Chicago:20260504T130000
DTEND;TZID=America/Chicago:20260504T150000
DTSTAMP:20260421T102443
CREATED:20260220T153755Z
LAST-MODIFIED:20260421T143839Z
UID:1671-1777899600-1777906800@chapelstpeters.org
SUMMARY:Knitting and Crochet - Rm224
DESCRIPTION:
URL:https://chapelstpeters.org/e/knitting-and-crochet-rm224-10/
END:VEVENT
BEGIN:VEVENT
DTSTART;TZID=America/Chicago:20260504T174500
DTEND;TZID=America/Chicago:20260504T184500
DTSTAMP:20260421T102443
CREATED:20260220T153755Z
LAST-MODIFIED:20260421T143839Z
UID:1672-1777916700-1777920300@chapelstpeters.org
SUMMARY:Refit - Gym
DESCRIPTION:
URL:https://chapelstpeters.org/e/refit-gym-19/
END:VEVENT
BEGIN:VEVENT
DTSTART;TZID=America/Chicago:20260504T180000
DTEND;TZID=America/Chicago:20260504T193000
DTSTAMP:20260421T102443
CREATED:20260220T153755Z
LAST-MODIFIED:20260421T143840Z
UID:1673-1777917600-1777923000@chapelstpeters.org
SUMMARY:AA - Rm114
DESCRIPTION:
URL:https://chapelstpeters.org/e/aa-rm114-19/
END:VEVENT
BEGIN:VEVENT
DTSTART;TZID=America/Chicago:20260504T190000
DTEND;TZID=America/Chicago:20260504T200000
DTSTAMP:20260421T102443
CREATED:20260220T153755Z
LAST-MODIFIED:20260421T143840Z
UID:1674-1777921200-1777924800@chapelstpeters.org
SUMMARY:Worship Serivce
DESCRIPTION:
URL:https://chapelstpeters.org/e/worship-serivce-9/
END:VEVENT
BEGIN:VEVENT
DTSTART;TZID=America/Chicago:20260505T093000
DTEND;TZID=America/Chicago:20260505T110000
DTSTAMP:20260421T102443
CREATED:20260226T170826Z
LAST-MODIFIED:20260421T143841Z
UID:2029-1777973400-1777978800@chapelstpeters.org
SUMMARY:Bible Study - Sanctuary
DESCRIPTION:
URL:https://chapelstpeters.org/e/bible-study-sanctuary/
END:VEVENT
BEGIN:VEVENT
DTSTART;TZID=America/Chicago:20260505T170000
DTEND;TZID=America/Chicago:20260505T180000
DTSTAMP:20260421T102443
CREATED:20260220T153756Z
LAST-MODIFIED:20260421T144025Z
UID:1678-1778000400-1778004000@chapelstpeters.org
SUMMARY:Handbell Choir - Rm301
DESCRIPTION:
URL:https://chapelstpeters.org/e/handbell-choir-rm301-10/
END:VEVENT
BEGIN:VEVENT
DTSTART;TZID=America/Chicago:20260505T173000
DTEND;TZID=America/Chicago:20260505T183000
DTSTAMP:20260421T102443
CREATED:20260220T153756Z
LAST-MODIFIED:20260421T144025Z
UID:1677-1778002200-1778005800@chapelstpeters.org
SUMMARY:Refit - Gym
DESCRIPTION:
URL:https://chapelstpeters.org/e/refit-gym-20/
END:VEVENT
BEGIN:VEVENT
DTSTART;TZID=America/Chicago:20260505T180000
DTEND;TZID=America/Chicago:20260505T193000
DTSTAMP:20260421T102443
CREATED:20260220T153756Z
LAST-MODIFIED:20260421T144025Z
UID:1676-1778004000-1778009400@chapelstpeters.org
SUMMARY:Elders - Rm222
DESCRIPTION:
URL:https://chapelstpeters.org/e/elders-rm222-3/
END:VEVENT
BEGIN:VEVENT
DTSTART;TZID=America/Chicago:20260505T181500
DTEND;TZID=America/Chicago:20260505T193000
DTSTAMP:20260421T102443
CREATED:20260220T153756Z
LAST-MODIFIED:20260421T144026Z
UID:1679-1778004900-1778009400@chapelstpeters.org
SUMMARY:Adult Choir - Rm301
DESCRIPTION:
URL:https://chapelstpeters.org/e/adult-choir-rm301-10/
END:VEVENT
BEGIN:VEVENT
DTSTART;TZID=America/Chicago:20260505T190000
DTEND;TZID=America/Chicago:20260505T203000
DTSTAMP:20260421T102443
CREATED:20260220T153756Z
LAST-MODIFIED:20260226T154630Z
UID:1680-1778007600-1778013000@chapelstpeters.org
SUMMARY:Ladies Bible Study - Rm224
DESCRIPTION:
URL:https://chapelstpeters.org/e/ladies-bible-study-rm224-10/
END:VEVENT
BEGIN:VEVENT
DTSTART;TZID=America/Chicago:20260505T190000
DTEND;TZID=America/Chicago:20260505T203000
DTSTAMP:20260421T102443
CREATED:20260227T144416Z
LAST-MODIFIED:20260421T144026Z
UID:2057-1778007600-1778013000@chapelstpeters.org
SUMMARY:Ladies Bible Study - Rm224
DESCRIPTION:
URL:https://chapelstpeters.org/e/ladies-bible-study-rm224-5/
END:VEVENT
BEGIN:VEVENT
DTSTART;TZID=America/Chicago:20260506T083000
DTEND;TZID=America/Chicago:20260506T110000
DTSTAMP:20260421T102443
CREATED:20260220T153756Z
LAST-MODIFIED:20260421T144037Z
UID:1681-1778056200-1778065200@chapelstpeters.org
SUMMARY:AA -Rm114
DESCRIPTION:
URL:https://chapelstpeters.org/e/aa-rm114-20/
END:VEVENT
BEGIN:VEVENT
DTSTART;TZID=America/Chicago:20260506T083000
DTEND;TZID=America/Chicago:20260506T110000
DTSTAMP:20260421T102443
CREATED:20260220T153756Z
LAST-MODIFIED:20260421T144036Z
UID:1683-1778056200-1778065200@chapelstpeters.org
SUMMARY:TOPS - Rm224
DESCRIPTION:
URL:https://chapelstpeters.org/e/tops-rm224-10/
END:VEVENT
BEGIN:VEVENT
DTSTART;TZID=America/Chicago:20260506T110000
DTEND;TZID=America/Chicago:20260506T120000
DTSTAMP:20260421T102443
CREATED:20260220T153756Z
LAST-MODIFIED:20260421T144036Z
UID:1682-1778065200-1778068800@chapelstpeters.org
SUMMARY:Worship Service
DESCRIPTION:
URL:https://chapelstpeters.org/e/worship-service-134/
END:VEVENT
BEGIN:VEVENT
DTSTART;TZID=America/Chicago:20260506T161500
DTEND;TZID=America/Chicago:20260506T171500
DTSTAMP:20260421T102443
CREATED:20260220T153756Z
LAST-MODIFIED:20260421T144037Z
UID:1684-1778084100-1778087700@chapelstpeters.org
SUMMARY:Zumba - Gym
DESCRIPTION:
URL:https://chapelstpeters.org/e/zumba-gym-19/
END:VEVENT
BEGIN:VEVENT
DTSTART;TZID=America/Chicago:20260506T183000
DTEND;TZID=America/Chicago:20260506T193000
DTSTAMP:20260421T102443
CREATED:20260226T181418Z
LAST-MODIFIED:20260421T144037Z
UID:2041-1778092200-1778095800@chapelstpeters.org
SUMMARY:Confirmation
DESCRIPTION:6th Grade – Room 224 \n7th Grade – Room 222 \n8th Grade – Room 223 (Library)
URL:https://chapelstpeters.org/e/confirmation-rm222-223-224-4/
CATEGORIES:Faith Milestones,Youth Ministry
END:VEVENT
BEGIN:VEVENT
DTSTART;TZID=America/Chicago:20260507T103000
DTEND;TZID=America/Chicago:20260507T120000
DTSTAMP:20260421T102443
CREATED:20260220T153756Z
LAST-MODIFIED:20260421T144103Z
UID:1685-1778149800-1778155200@chapelstpeters.org
SUMMARY:Al-Anon - Rm114
DESCRIPTION:
URL:https://chapelstpeters.org/e/al-anon-rm114-20/
END:VEVENT
BEGIN:VEVENT
DTSTART;TZID=America/Chicago:20260507T120000
DTEND;TZID=America/Chicago:20260507T133000
DTSTAMP:20260421T102443
CREATED:20260220T153756Z
LAST-MODIFIED:20260421T144103Z
UID:1687-1778155200-1778160600@chapelstpeters.org
SUMMARY:Staff Meeting - Rm223
DESCRIPTION:
URL:https://chapelstpeters.org/e/staff-meeting-rm223-3/
END:VEVENT
BEGIN:VEVENT
DTSTART;TZID=America/Chicago:20260507T130000
DTEND;TZID=America/Chicago:20260507T150000
DTSTAMP:20260421T102443
CREATED:20260220T153756Z
LAST-MODIFIED:20260421T144103Z
UID:1686-1778158800-1778166000@chapelstpeters.org
SUMMARY:LWML Board Meeting - Rm224
DESCRIPTION:
URL:https://chapelstpeters.org/e/lwml-board-meeting-rm224-3/
END:VEVENT
BEGIN:VEVENT
DTSTART;TZID=America/Chicago:20260507T174500
DTEND;TZID=America/Chicago:20260507T184500
DTSTAMP:20260421T102443
CREATED:20260220T153757Z
LAST-MODIFIED:20260421T144103Z
UID:1688-1778175900-1778179500@chapelstpeters.org
SUMMARY:Zumba - Gym
DESCRIPTION:
URL:https://chapelstpeters.org/e/zumba-gym-20/
END:VEVENT
BEGIN:VEVENT
DTSTART;TZID=America/Chicago:20260508T093000
DTEND;TZID=America/Chicago:20260508T133000
DTSTAMP:20260421T102443
CREATED:20260220T153757Z
LAST-MODIFIED:20260421T144104Z
UID:1689-1778232600-1778247000@chapelstpeters.org
SUMMARY:OWLS - "Hit the Bricks"
DESCRIPTION:OWLS (Older Wiser Lutherans) will “Hit The Bricks” Friday\, May 8\, for a walking history tour of S Main St In St Charles.  As we walk the 400 – 900 S Main St in St Charles\, we will hear about some fascinating places and people in St Charles since 1769.  After the tour. we will gather together for lunch at Lewis and Clark’s Restaurant on S Main Street.  The cost of the tour is $10\, and we will leave the church parking lot at 9:30 am.  RSVP by Tuesday\, May 5
URL:https://chapelstpeters.org/e/owls-rm224-3/
END:VEVENT
BEGIN:VEVENT
DTSTART;TZID=America/Chicago:20260509T073000
DTEND;TZID=America/Chicago:20260509T090000
DTSTAMP:20260421T102443
CREATED:20260220T153757Z
LAST-MODIFIED:20260421T144242Z
UID:1690-1778311800-1778317200@chapelstpeters.org
SUMMARY:Men's Bible Study - Rm224
DESCRIPTION:
URL:https://chapelstpeters.org/e/mens-bible-study-rm224-5/
END:VEVENT
END:VCALENDAR