BEGIN:VCALENDAR
VERSION:2.0
PRODID:-//Chapel of the Cross Lutheran Church - St. Peters, MO - ECPv6.15.20//NONSGML v1.0//EN
CALSCALE:GREGORIAN
METHOD:PUBLISH
X-WR-CALNAME:Chapel of the Cross Lutheran Church - St. Peters, MO
X-ORIGINAL-URL:https://chapelstpeters.org
X-WR-CALDESC:Events for Chapel of the Cross Lutheran Church - St. Peters, MO
REFRESH-INTERVAL;VALUE=DURATION:PT1H
X-Robots-Tag:noindex
X-PUBLISHED-TTL:PT1H
BEGIN:VTIMEZONE
TZID:America/Chicago
BEGIN:DAYLIGHT
TZOFFSETFROM:-0600
TZOFFSETTO:-0500
TZNAME:CDT
DTSTART:20250309T080000
END:DAYLIGHT
BEGIN:STANDARD
TZOFFSETFROM:-0500
TZOFFSETTO:-0600
TZNAME:CST
DTSTART:20251102T070000
END:STANDARD
BEGIN:DAYLIGHT
TZOFFSETFROM:-0600
TZOFFSETTO:-0500
TZNAME:CDT
DTSTART:20260308T080000
END:DAYLIGHT
BEGIN:STANDARD
TZOFFSETFROM:-0500
TZOFFSETTO:-0600
TZNAME:CST
DTSTART:20261101T070000
END:STANDARD
BEGIN:DAYLIGHT
TZOFFSETFROM:-0600
TZOFFSETTO:-0500
TZNAME:CDT
DTSTART:20270314T080000
END:DAYLIGHT
BEGIN:STANDARD
TZOFFSETFROM:-0500
TZOFFSETTO:-0600
TZNAME:CST
DTSTART:20271107T070000
END:STANDARD
END:VTIMEZONE
BEGIN:VEVENT
DTSTART;TZID=America/Chicago:20260722T083000
DTEND;TZID=America/Chicago:20260722T110000
DTSTAMP:20260421T212337
CREATED:20260401T195909Z
LAST-MODIFIED:20260401T195909Z
UID:2503-1784709000-1784718000@chapelstpeters.org
SUMMARY:TOPS - Rm224
DESCRIPTION:
URL:https://chapelstpeters.org/e/tops-rm224-21/
END:VEVENT
BEGIN:VEVENT
DTSTART;TZID=America/Chicago:20260722T090000
DTEND;TZID=America/Chicago:20260722T113000
DTSTAMP:20260421T212337
CREATED:20260401T195910Z
LAST-MODIFIED:20260401T195910Z
UID:2504-1784710800-1784719800@chapelstpeters.org
SUMMARY:Quilt Tacking - Lower Lobby
DESCRIPTION:
URL:https://chapelstpeters.org/e/quilt-tacking-lower-lobby-10/
END:VEVENT
BEGIN:VEVENT
DTSTART;TZID=America/Chicago:20260722T110000
DTEND;TZID=America/Chicago:20260722T120000
DTSTAMP:20260421T212337
CREATED:20260401T195910Z
LAST-MODIFIED:20260401T195910Z
UID:2505-1784718000-1784721600@chapelstpeters.org
SUMMARY:Worship Service
DESCRIPTION:
URL:https://chapelstpeters.org/e/worship-service-25/
END:VEVENT
BEGIN:VEVENT
DTSTART;TZID=America/Chicago:20260722T161500
DTEND;TZID=America/Chicago:20260722T171500
DTSTAMP:20260421T212337
CREATED:20260401T195910Z
LAST-MODIFIED:20260401T195910Z
UID:2506-1784736900-1784740500@chapelstpeters.org
SUMMARY:Zumba - Gym
DESCRIPTION:
URL:https://chapelstpeters.org/e/zumba-gym-41/
END:VEVENT
BEGIN:VEVENT
DTSTART;TZID=America/Chicago:20260723T103000
DTEND;TZID=America/Chicago:20260723T120000
DTSTAMP:20260421T212337
CREATED:20260401T195910Z
LAST-MODIFIED:20260401T195910Z
UID:2507-1784802600-1784808000@chapelstpeters.org
SUMMARY:Al-Anon - Rm114
DESCRIPTION:
URL:https://chapelstpeters.org/e/al-anon-rm114-42/
END:VEVENT
BEGIN:VEVENT
DTSTART;TZID=America/Chicago:20260723T174500
DTEND;TZID=America/Chicago:20260723T184500
DTSTAMP:20260421T212337
CREATED:20260401T195918Z
LAST-MODIFIED:20260401T195918Z
UID:2508-1784828700-1784832300@chapelstpeters.org
SUMMARY:Zumba - Gym
DESCRIPTION:
URL:https://chapelstpeters.org/e/zumba-gym-42/
END:VEVENT
BEGIN:VEVENT
DTSTART;TZID=America/Chicago:20260725T073000
DTEND;TZID=America/Chicago:20260725T090000
DTSTAMP:20260421T212337
CREATED:20260401T195919Z
LAST-MODIFIED:20260401T195919Z
UID:2510-1784964600-1784970000@chapelstpeters.org
SUMMARY:Men's Bible Study - Rm224
DESCRIPTION:
URL:https://chapelstpeters.org/e/mens-bible-study-rm224-10/
END:VEVENT
BEGIN:VEVENT
DTSTART;TZID=America/Chicago:20260725T090000
DTEND;TZID=America/Chicago:20260725T100000
DTSTAMP:20260421T212337
CREATED:20260401T195918Z
LAST-MODIFIED:20260401T195918Z
UID:2509-1784970000-1784973600@chapelstpeters.org
SUMMARY:ACA - Rm222
DESCRIPTION:
URL:https://chapelstpeters.org/e/aca-rm222-21/
END:VEVENT
BEGIN:VEVENT
DTSTART;TZID=America/Chicago:20260725T101500
DTEND;TZID=America/Chicago:20260725T114500
DTSTAMP:20260421T212337
CREATED:20260401T195919Z
LAST-MODIFIED:20260401T195919Z
UID:2511-1784974500-1784979900@chapelstpeters.org
SUMMARY:AA - Rm224
DESCRIPTION:
URL:https://chapelstpeters.org/e/aa-rm224-21/
END:VEVENT
BEGIN:VEVENT
DTSTART;TZID=America/Chicago:20260726T080000
DTEND;TZID=America/Chicago:20260726T090000
DTSTAMP:20260421T212337
CREATED:20260401T195919Z
LAST-MODIFIED:20260401T195919Z
UID:2512-1785052800-1785056400@chapelstpeters.org
SUMMARY:Worship Service
DESCRIPTION:
URL:https://chapelstpeters.org/e/worship-service-26/
END:VEVENT
BEGIN:VEVENT
DTSTART;TZID=America/Chicago:20260726T091500
DTEND;TZID=America/Chicago:20260726T100000
DTSTAMP:20260421T212337
CREATED:20260401T195926Z
LAST-MODIFIED:20260402T154335Z
UID:2513-1785057300-1785060000@chapelstpeters.org
SUMMARY:Education Hour
DESCRIPTION:
URL:https://chapelstpeters.org/e/education-hour-19/
CATEGORIES:Youth Ministry
END:VEVENT
BEGIN:VEVENT
DTSTART;TZID=America/Chicago:20260726T101500
DTEND;TZID=America/Chicago:20260726T111500
DTSTAMP:20260421T212337
CREATED:20260401T195926Z
LAST-MODIFIED:20260401T195926Z
UID:2514-1785060900-1785064500@chapelstpeters.org
SUMMARY:Worship Service
DESCRIPTION:
URL:https://chapelstpeters.org/e/worship-service-27/
END:VEVENT
BEGIN:VEVENT
DTSTART;TZID=America/Chicago:20260726T183000
DTEND;TZID=America/Chicago:20260726T200000
DTSTAMP:20260421T212337
CREATED:20260401T195926Z
LAST-MODIFIED:20260401T195926Z
UID:2515-1785090600-1785096000@chapelstpeters.org
SUMMARY:Al-Anon - Rm114
DESCRIPTION:
URL:https://chapelstpeters.org/e/al-anon-rm114-43/
END:VEVENT
BEGIN:VEVENT
DTSTART;TZID=America/Chicago:20260727T130000
DTEND;TZID=America/Chicago:20260727T150000
DTSTAMP:20260421T212337
CREATED:20260401T195927Z
LAST-MODIFIED:20260401T195927Z
UID:2516-1785157200-1785164400@chapelstpeters.org
SUMMARY:Knitting and Crochet - Rm224
DESCRIPTION:
URL:https://chapelstpeters.org/e/knitting-and-crochet-rm224-22/
END:VEVENT
BEGIN:VEVENT
DTSTART;TZID=America/Chicago:20260727T174500
DTEND;TZID=America/Chicago:20260727T184500
DTSTAMP:20260421T212337
CREATED:20260401T195932Z
LAST-MODIFIED:20260401T195932Z
UID:2519-1785174300-1785177900@chapelstpeters.org
SUMMARY:Refit - Gym
DESCRIPTION:
URL:https://chapelstpeters.org/e/refit-gym-43/
END:VEVENT
BEGIN:VEVENT
DTSTART;TZID=America/Chicago:20260727T180000
DTEND;TZID=America/Chicago:20260727T193000
DTSTAMP:20260421T212337
CREATED:20260401T195932Z
LAST-MODIFIED:20260401T195932Z
UID:2518-1785175200-1785180600@chapelstpeters.org
SUMMARY:AA - Rm114
DESCRIPTION:
URL:https://chapelstpeters.org/e/aa-rm114-43/
END:VEVENT
BEGIN:VEVENT
DTSTART;TZID=America/Chicago:20260727T190000
DTEND;TZID=America/Chicago:20260727T200000
DTSTAMP:20260421T212337
CREATED:20260401T195927Z
LAST-MODIFIED:20260401T195927Z
UID:2517-1785178800-1785182400@chapelstpeters.org
SUMMARY:Worship Serivce
DESCRIPTION:
URL:https://chapelstpeters.org/e/worship-serivce-20/
END:VEVENT
BEGIN:VEVENT
DTSTART;TZID=America/Chicago:20260728T173000
DTEND;TZID=America/Chicago:20260728T183000
DTSTAMP:20260421T212337
CREATED:20260401T195932Z
LAST-MODIFIED:20260401T195932Z
UID:2520-1785259800-1785263400@chapelstpeters.org
SUMMARY:Refit - Gym
DESCRIPTION:
URL:https://chapelstpeters.org/e/refit-gym-44/
END:VEVENT
BEGIN:VEVENT
DTSTART;TZID=America/Chicago:20260728T183000
DTEND;TZID=America/Chicago:20260728T193000
DTSTAMP:20260421T212337
CREATED:20260401T195932Z
LAST-MODIFIED:20260401T195932Z
UID:2521-1785263400-1785267000@chapelstpeters.org
SUMMARY:Spirit Squad - Gym
DESCRIPTION:
URL:https://chapelstpeters.org/e/spirit-squad-gym-5/
END:VEVENT
BEGIN:VEVENT
DTSTART;TZID=America/Chicago:20260729T083000
DTEND;TZID=America/Chicago:20260729T110000
DTSTAMP:20260421T212337
CREATED:20260401T200035Z
LAST-MODIFIED:20260401T200035Z
UID:2523-1785313800-1785322800@chapelstpeters.org
SUMMARY:AA -Rm114
DESCRIPTION:
URL:https://chapelstpeters.org/e/aa-rm114-44/
END:VEVENT
BEGIN:VEVENT
DTSTART;TZID=America/Chicago:20260729T083000
DTEND;TZID=America/Chicago:20260729T110000
DTSTAMP:20260421T212337
CREATED:20260401T200035Z
LAST-MODIFIED:20260401T200035Z
UID:2524-1785313800-1785322800@chapelstpeters.org
SUMMARY:TOPS - Rm224
DESCRIPTION:
URL:https://chapelstpeters.org/e/tops-rm224-22/
END:VEVENT
BEGIN:VEVENT
DTSTART;TZID=America/Chicago:20260729T110000
DTEND;TZID=America/Chicago:20260729T120000
DTSTAMP:20260421T212337
CREATED:20260401T195933Z
LAST-MODIFIED:20260401T195933Z
UID:2522-1785322800-1785326400@chapelstpeters.org
SUMMARY:Worship Service
DESCRIPTION:
URL:https://chapelstpeters.org/e/worship-service-28/
END:VEVENT
BEGIN:VEVENT
DTSTART;TZID=America/Chicago:20260729T161500
DTEND;TZID=America/Chicago:20260729T171500
DTSTAMP:20260421T212337
CREATED:20260401T200035Z
LAST-MODIFIED:20260401T200035Z
UID:2525-1785341700-1785345300@chapelstpeters.org
SUMMARY:Zumba - Gym
DESCRIPTION:
URL:https://chapelstpeters.org/e/zumba-gym-43/
END:VEVENT
BEGIN:VEVENT
DTSTART;TZID=America/Chicago:20260730T103000
DTEND;TZID=America/Chicago:20260730T120000
DTSTAMP:20260421T212337
CREATED:20260401T200035Z
LAST-MODIFIED:20260401T200035Z
UID:2526-1785407400-1785412800@chapelstpeters.org
SUMMARY:Al-Anon - Rm114
DESCRIPTION:
URL:https://chapelstpeters.org/e/al-anon-rm114-44/
END:VEVENT
BEGIN:VEVENT
DTSTART;TZID=America/Chicago:20260730T174500
DTEND;TZID=America/Chicago:20260730T184500
DTSTAMP:20260421T212337
CREATED:20260401T200036Z
LAST-MODIFIED:20260401T200036Z
UID:2527-1785433500-1785437100@chapelstpeters.org
SUMMARY:Zumba - Gym
DESCRIPTION:
URL:https://chapelstpeters.org/e/zumba-gym-44/
END:VEVENT
BEGIN:VEVENT
DTSTART;TZID=America/Chicago:20260801T090000
DTEND;TZID=America/Chicago:20260801T100000
DTSTAMP:20260421T212337
CREATED:20260401T200037Z
LAST-MODIFIED:20260401T200037Z
UID:2528-1785574800-1785578400@chapelstpeters.org
SUMMARY:ACA - Rm222
DESCRIPTION:
URL:https://chapelstpeters.org/e/aca-rm222-22/
END:VEVENT
BEGIN:VEVENT
DTSTART;TZID=America/Chicago:20260801T101500
DTEND;TZID=America/Chicago:20260801T114500
DTSTAMP:20260421T212337
CREATED:20260401T200037Z
LAST-MODIFIED:20260401T200037Z
UID:2529-1785579300-1785584700@chapelstpeters.org
SUMMARY:AA - Rm224
DESCRIPTION:
URL:https://chapelstpeters.org/e/aa-rm224-22/
END:VEVENT
BEGIN:VEVENT
DTSTART;TZID=America/Chicago:20260802T080000
DTEND;TZID=America/Chicago:20260802T090000
DTSTAMP:20260421T212337
CREATED:20260401T200038Z
LAST-MODIFIED:20260401T200038Z
UID:2530-1785657600-1785661200@chapelstpeters.org
SUMMARY:Worship Service
DESCRIPTION:
URL:https://chapelstpeters.org/e/worship-service-29/
END:VEVENT
BEGIN:VEVENT
DTSTART;TZID=America/Chicago:20260802T091500
DTEND;TZID=America/Chicago:20260802T100000
DTSTAMP:20260421T212337
CREATED:20260401T200038Z
LAST-MODIFIED:20260402T154334Z
UID:2531-1785662100-1785664800@chapelstpeters.org
SUMMARY:Education Hour
DESCRIPTION:
URL:https://chapelstpeters.org/e/education-hour-20/
CATEGORIES:Youth Ministry
END:VEVENT
BEGIN:VEVENT
DTSTART;TZID=America/Chicago:20260802T101500
DTEND;TZID=America/Chicago:20260802T111500
DTSTAMP:20260421T212337
CREATED:20260401T200038Z
LAST-MODIFIED:20260401T200038Z
UID:2532-1785665700-1785669300@chapelstpeters.org
SUMMARY:Worship Service
DESCRIPTION:
URL:https://chapelstpeters.org/e/worship-service-30/
END:VEVENT
END:VCALENDAR