BEGIN:VCALENDAR
VERSION:2.0
PRODID:-//Chapel of the Cross Lutheran Church - St. Peters, MO - ECPv6.15.20//NONSGML v1.0//EN
CALSCALE:GREGORIAN
METHOD:PUBLISH
X-ORIGINAL-URL:https://chapelstpeters.org
X-WR-CALDESC:Events for Chapel of the Cross Lutheran Church - St. Peters, MO
REFRESH-INTERVAL;VALUE=DURATION:PT1H
X-Robots-Tag:noindex
X-PUBLISHED-TTL:PT1H
BEGIN:VTIMEZONE
TZID:America/Chicago
BEGIN:DAYLIGHT
TZOFFSETFROM:-0600
TZOFFSETTO:-0500
TZNAME:CDT
DTSTART:20250309T080000
END:DAYLIGHT
BEGIN:STANDARD
TZOFFSETFROM:-0500
TZOFFSETTO:-0600
TZNAME:CST
DTSTART:20251102T070000
END:STANDARD
BEGIN:DAYLIGHT
TZOFFSETFROM:-0600
TZOFFSETTO:-0500
TZNAME:CDT
DTSTART:20260308T080000
END:DAYLIGHT
BEGIN:STANDARD
TZOFFSETFROM:-0500
TZOFFSETTO:-0600
TZNAME:CST
DTSTART:20261101T070000
END:STANDARD
BEGIN:DAYLIGHT
TZOFFSETFROM:-0600
TZOFFSETTO:-0500
TZNAME:CDT
DTSTART:20270314T080000
END:DAYLIGHT
BEGIN:STANDARD
TZOFFSETFROM:-0500
TZOFFSETTO:-0600
TZNAME:CST
DTSTART:20271107T070000
END:STANDARD
END:VTIMEZONE
BEGIN:VEVENT
DTSTART;TZID=America/Chicago:20260815T101500
DTEND;TZID=America/Chicago:20260815T114500
DTSTAMP:20260422T170751
CREATED:20260401T200227Z
LAST-MODIFIED:20260401T200227Z
UID:2574-1786788900-1786794300@chapelstpeters.org
SUMMARY:AA - Rm224
DESCRIPTION:
URL:https://chapelstpeters.org/e/aa-rm224-24/
END:VEVENT
BEGIN:VEVENT
DTSTART;TZID=America/Chicago:20260816T080000
DTEND;TZID=America/Chicago:20260816T090000
DTSTAMP:20260422T170751
CREATED:20260401T200227Z
LAST-MODIFIED:20260401T200227Z
UID:2575-1786867200-1786870800@chapelstpeters.org
SUMMARY:Worship Service
DESCRIPTION:
URL:https://chapelstpeters.org/e/worship-service-35/
END:VEVENT
BEGIN:VEVENT
DTSTART;TZID=America/Chicago:20260816T091500
DTEND;TZID=America/Chicago:20260816T100000
DTSTAMP:20260422T170751
CREATED:20260401T200227Z
LAST-MODIFIED:20260402T154331Z
UID:2576-1786871700-1786874400@chapelstpeters.org
SUMMARY:Education Hour
DESCRIPTION:
URL:https://chapelstpeters.org/e/education-hour-22/
CATEGORIES:Youth Ministry
END:VEVENT
BEGIN:VEVENT
DTSTART;TZID=America/Chicago:20260816T101500
DTEND;TZID=America/Chicago:20260816T111500
DTSTAMP:20260422T170751
CREATED:20260401T200227Z
LAST-MODIFIED:20260401T200227Z
UID:2577-1786875300-1786878900@chapelstpeters.org
SUMMARY:Worship Service
DESCRIPTION:
URL:https://chapelstpeters.org/e/worship-service-36/
END:VEVENT
BEGIN:VEVENT
DTSTART;TZID=America/Chicago:20260816T183000
DTEND;TZID=America/Chicago:20260816T200000
DTSTAMP:20260422T170751
CREATED:20260401T200231Z
LAST-MODIFIED:20260401T200231Z
UID:2578-1786905000-1786910400@chapelstpeters.org
SUMMARY:Al-Anon - Rm114
DESCRIPTION:
URL:https://chapelstpeters.org/e/al-anon-rm114-49/
END:VEVENT
BEGIN:VEVENT
DTSTART;TZID=America/Chicago:20260817T130000
DTEND;TZID=America/Chicago:20260817T150000
DTSTAMP:20260422T170751
CREATED:20260401T200231Z
LAST-MODIFIED:20260401T200231Z
UID:2579-1786971600-1786978800@chapelstpeters.org
SUMMARY:Knitting and Crochet - Rm224
DESCRIPTION:
URL:https://chapelstpeters.org/e/knitting-and-crochet-rm224-25/
END:VEVENT
BEGIN:VEVENT
DTSTART;TZID=America/Chicago:20260817T173000
DTEND;TZID=America/Chicago:20260817T183000
DTSTAMP:20260422T170751
CREATED:20260401T200231Z
LAST-MODIFIED:20260401T200231Z
UID:2580-1786987800-1786991400@chapelstpeters.org
SUMMARY:Financial Control Board - Rm223
DESCRIPTION:
URL:https://chapelstpeters.org/e/financial-control-board-rm223-6/
END:VEVENT
BEGIN:VEVENT
DTSTART;TZID=America/Chicago:20260817T174500
DTEND;TZID=America/Chicago:20260817T184500
DTSTAMP:20260422T170751
CREATED:20260401T200231Z
LAST-MODIFIED:20260401T200231Z
UID:2582-1786988700-1786992300@chapelstpeters.org
SUMMARY:Refit - Gym
DESCRIPTION:
URL:https://chapelstpeters.org/e/refit-gym-49/
END:VEVENT
BEGIN:VEVENT
DTSTART;TZID=America/Chicago:20260817T180000
DTEND;TZID=America/Chicago:20260817T193000
DTSTAMP:20260422T170751
CREATED:20260401T200231Z
LAST-MODIFIED:20260401T200231Z
UID:2581-1786989600-1786995000@chapelstpeters.org
SUMMARY:AA - Rm114
DESCRIPTION:
URL:https://chapelstpeters.org/e/aa-rm114-49/
END:VEVENT
BEGIN:VEVENT
DTSTART;TZID=America/Chicago:20260817T190000
DTEND;TZID=America/Chicago:20260817T200000
DTSTAMP:20260422T170751
CREATED:20260401T200240Z
LAST-MODIFIED:20260401T200240Z
UID:2583-1786993200-1786996800@chapelstpeters.org
SUMMARY:Worship Serivce
DESCRIPTION:
URL:https://chapelstpeters.org/e/worship-serivce-23/
END:VEVENT
BEGIN:VEVENT
DTSTART;TZID=America/Chicago:20260818T173000
DTEND;TZID=America/Chicago:20260818T183000
DTSTAMP:20260422T170751
CREATED:20260401T200241Z
LAST-MODIFIED:20260401T200241Z
UID:2585-1787074200-1787077800@chapelstpeters.org
SUMMARY:Refit - Gym
DESCRIPTION:
URL:https://chapelstpeters.org/e/refit-gym-50/
END:VEVENT
BEGIN:VEVENT
DTSTART;TZID=America/Chicago:20260818T183000
DTEND;TZID=America/Chicago:20260818T193000
DTSTAMP:20260422T170751
CREATED:20260401T200240Z
LAST-MODIFIED:20260401T200240Z
UID:2584-1787077800-1787081400@chapelstpeters.org
SUMMARY:Spirit Squad - Gym
DESCRIPTION:
URL:https://chapelstpeters.org/e/spirit-squad-gym-8/
END:VEVENT
BEGIN:VEVENT
DTSTART;TZID=America/Chicago:20260819T083000
DTEND;TZID=America/Chicago:20260819T110000
DTSTAMP:20260422T170751
CREATED:20260401T200241Z
LAST-MODIFIED:20260401T200241Z
UID:2586-1787128200-1787137200@chapelstpeters.org
SUMMARY:AA -Rm114
DESCRIPTION:
URL:https://chapelstpeters.org/e/aa-rm114-50/
END:VEVENT
BEGIN:VEVENT
DTSTART;TZID=America/Chicago:20260819T083000
DTEND;TZID=America/Chicago:20260819T110000
DTSTAMP:20260422T170751
CREATED:20260401T200250Z
LAST-MODIFIED:20260401T200250Z
UID:2588-1787128200-1787137200@chapelstpeters.org
SUMMARY:TOPS - Rm224
DESCRIPTION:
URL:https://chapelstpeters.org/e/tops-rm224-25/
END:VEVENT
BEGIN:VEVENT
DTSTART;TZID=America/Chicago:20260819T110000
DTEND;TZID=America/Chicago:20260819T120000
DTSTAMP:20260422T170751
CREATED:20260401T200241Z
LAST-MODIFIED:20260401T200241Z
UID:2587-1787137200-1787140800@chapelstpeters.org
SUMMARY:Worship Service
DESCRIPTION:
URL:https://chapelstpeters.org/e/worship-service-37/
END:VEVENT
BEGIN:VEVENT
DTSTART;TZID=America/Chicago:20260819T161500
DTEND;TZID=America/Chicago:20260819T171500
DTSTAMP:20260422T170751
CREATED:20260401T200251Z
LAST-MODIFIED:20260401T200251Z
UID:2589-1787156100-1787159700@chapelstpeters.org
SUMMARY:Zumba - Gym
DESCRIPTION:
URL:https://chapelstpeters.org/e/zumba-gym-49/
END:VEVENT
BEGIN:VEVENT
DTSTART;TZID=America/Chicago:20260820T103000
DTEND;TZID=America/Chicago:20260820T120000
DTSTAMP:20260422T170751
CREATED:20260401T200252Z
LAST-MODIFIED:20260401T200252Z
UID:2591-1787221800-1787227200@chapelstpeters.org
SUMMARY:Al-Anon - Rm114
DESCRIPTION:
URL:https://chapelstpeters.org/e/al-anon-rm114-50/
END:VEVENT
BEGIN:VEVENT
DTSTART;TZID=America/Chicago:20260820T120000
DTEND;TZID=America/Chicago:20260820T140000
DTSTAMP:20260422T170751
CREATED:20260401T200252Z
LAST-MODIFIED:20260401T200252Z
UID:2590-1787227200-1787234400@chapelstpeters.org
SUMMARY:LWML Chapel Circle - Rm114
DESCRIPTION:
URL:https://chapelstpeters.org/e/lwml-chapel-circle-rm114-6/
END:VEVENT
BEGIN:VEVENT
DTSTART;TZID=America/Chicago:20260820T174500
DTEND;TZID=America/Chicago:20260820T184500
DTSTAMP:20260422T170751
CREATED:20260401T200253Z
LAST-MODIFIED:20260401T200253Z
UID:2592-1787247900-1787251500@chapelstpeters.org
SUMMARY:Zumba - Gym
DESCRIPTION:
URL:https://chapelstpeters.org/e/zumba-gym-50/
END:VEVENT
BEGIN:VEVENT
DTSTART;TZID=America/Chicago:20260822T073000
DTEND;TZID=America/Chicago:20260822T090000
DTSTAMP:20260422T170751
CREATED:20260401T200259Z
LAST-MODIFIED:20260401T200259Z
UID:2593-1787383800-1787389200@chapelstpeters.org
SUMMARY:Men's Bible Study - Rm224
DESCRIPTION:
URL:https://chapelstpeters.org/e/mens-bible-study-rm224-12/
END:VEVENT
BEGIN:VEVENT
DTSTART;TZID=America/Chicago:20260822T090000
DTEND;TZID=America/Chicago:20260822T100000
DTSTAMP:20260422T170751
CREATED:20260401T200259Z
LAST-MODIFIED:20260401T200259Z
UID:2594-1787389200-1787392800@chapelstpeters.org
SUMMARY:ACA - Rm222
DESCRIPTION:
URL:https://chapelstpeters.org/e/aca-rm222-25/
END:VEVENT
BEGIN:VEVENT
DTSTART;TZID=America/Chicago:20260822T101500
DTEND;TZID=America/Chicago:20260822T114500
DTSTAMP:20260422T170751
CREATED:20260401T200259Z
LAST-MODIFIED:20260401T200259Z
UID:2595-1787393700-1787399100@chapelstpeters.org
SUMMARY:AA - Rm224
DESCRIPTION:
URL:https://chapelstpeters.org/e/aa-rm224-25/
END:VEVENT
BEGIN:VEVENT
DTSTART;TZID=America/Chicago:20260823T080000
DTEND;TZID=America/Chicago:20260823T090000
DTSTAMP:20260422T170751
CREATED:20260401T200259Z
LAST-MODIFIED:20260401T200259Z
UID:2596-1787472000-1787475600@chapelstpeters.org
SUMMARY:Worship Service
DESCRIPTION:
URL:https://chapelstpeters.org/e/worship-service-38/
END:VEVENT
BEGIN:VEVENT
DTSTART;TZID=America/Chicago:20260823T091500
DTEND;TZID=America/Chicago:20260823T100000
DTSTAMP:20260422T170751
CREATED:20260401T200259Z
LAST-MODIFIED:20260402T154330Z
UID:2597-1787476500-1787479200@chapelstpeters.org
SUMMARY:Education Hour
DESCRIPTION:
URL:https://chapelstpeters.org/e/education-hour-23/
CATEGORIES:Youth Ministry
END:VEVENT
BEGIN:VEVENT
DTSTART;TZID=America/Chicago:20260823T101500
DTEND;TZID=America/Chicago:20260823T111500
DTSTAMP:20260422T170751
CREATED:20260401T200302Z
LAST-MODIFIED:20260401T200302Z
UID:2598-1787480100-1787483700@chapelstpeters.org
SUMMARY:Worship Service
DESCRIPTION:
URL:https://chapelstpeters.org/e/worship-service-39/
END:VEVENT
BEGIN:VEVENT
DTSTART;TZID=America/Chicago:20260823T183000
DTEND;TZID=America/Chicago:20260823T200000
DTSTAMP:20260422T170751
CREATED:20260401T200302Z
LAST-MODIFIED:20260401T200302Z
UID:2599-1787509800-1787515200@chapelstpeters.org
SUMMARY:Al-Anon - Rm114
DESCRIPTION:
URL:https://chapelstpeters.org/e/al-anon-rm114-51/
END:VEVENT
BEGIN:VEVENT
DTSTART;TZID=America/Chicago:20260824T130000
DTEND;TZID=America/Chicago:20260824T150000
DTSTAMP:20260422T170751
CREATED:20260401T200302Z
LAST-MODIFIED:20260401T200302Z
UID:2600-1787576400-1787583600@chapelstpeters.org
SUMMARY:Knitting and Crochet - Rm224
DESCRIPTION:
URL:https://chapelstpeters.org/e/knitting-and-crochet-rm224-26/
END:VEVENT
BEGIN:VEVENT
DTSTART;TZID=America/Chicago:20260824T174500
DTEND;TZID=America/Chicago:20260824T184500
DTSTAMP:20260422T170751
CREATED:20260401T200303Z
LAST-MODIFIED:20260401T200303Z
UID:2602-1787593500-1787597100@chapelstpeters.org
SUMMARY:Refit - Gym
DESCRIPTION:
URL:https://chapelstpeters.org/e/refit-gym-51/
END:VEVENT
BEGIN:VEVENT
DTSTART;TZID=America/Chicago:20260824T180000
DTEND;TZID=America/Chicago:20260824T193000
DTSTAMP:20260422T170751
CREATED:20260401T200302Z
LAST-MODIFIED:20260401T200302Z
UID:2601-1787594400-1787599800@chapelstpeters.org
SUMMARY:AA - Rm114
DESCRIPTION:
URL:https://chapelstpeters.org/e/aa-rm114-51/
END:VEVENT
BEGIN:VEVENT
DTSTART;TZID=America/Chicago:20260824T190000
DTEND;TZID=America/Chicago:20260824T200000
DTSTAMP:20260422T170751
CREATED:20260401T200303Z
LAST-MODIFIED:20260401T200303Z
UID:2603-1787598000-1787601600@chapelstpeters.org
SUMMARY:Worship Serivce
DESCRIPTION:
URL:https://chapelstpeters.org/e/worship-serivce-24/
END:VEVENT
END:VCALENDAR