BEGIN:VCALENDAR
VERSION:2.0
PRODID:-//Chapel of the Cross Lutheran Church - St. Peters, MO - ECPv6.15.20//NONSGML v1.0//EN
CALSCALE:GREGORIAN
METHOD:PUBLISH
X-WR-CALNAME:Chapel of the Cross Lutheran Church - St. Peters, MO
X-ORIGINAL-URL:https://chapelstpeters.org
X-WR-CALDESC:Events for Chapel of the Cross Lutheran Church - St. Peters, MO
REFRESH-INTERVAL;VALUE=DURATION:PT1H
X-Robots-Tag:noindex
X-PUBLISHED-TTL:PT1H
BEGIN:VTIMEZONE
TZID:America/Chicago
BEGIN:DAYLIGHT
TZOFFSETFROM:-0600
TZOFFSETTO:-0500
TZNAME:CDT
DTSTART:20250309T080000
END:DAYLIGHT
BEGIN:STANDARD
TZOFFSETFROM:-0500
TZOFFSETTO:-0600
TZNAME:CST
DTSTART:20251102T070000
END:STANDARD
BEGIN:DAYLIGHT
TZOFFSETFROM:-0600
TZOFFSETTO:-0500
TZNAME:CDT
DTSTART:20260308T080000
END:DAYLIGHT
BEGIN:STANDARD
TZOFFSETFROM:-0500
TZOFFSETTO:-0600
TZNAME:CST
DTSTART:20261101T070000
END:STANDARD
BEGIN:DAYLIGHT
TZOFFSETFROM:-0600
TZOFFSETTO:-0500
TZNAME:CDT
DTSTART:20270314T080000
END:DAYLIGHT
BEGIN:STANDARD
TZOFFSETFROM:-0500
TZOFFSETTO:-0600
TZNAME:CST
DTSTART:20271107T070000
END:STANDARD
END:VTIMEZONE
BEGIN:VEVENT
DTSTART;TZID=America/Chicago:20260403T110000
DTEND;TZID=America/Chicago:20260403T120000
DTSTAMP:20260421T165838
CREATED:20260220T153744Z
LAST-MODIFIED:20260402T185700Z
UID:1566-1775214000-1775217600@chapelstpeters.org
SUMMARY:Good Friday Service
DESCRIPTION:
URL:https://chapelstpeters.org/e/good-friday-service/
END:VEVENT
BEGIN:VEVENT
DTSTART;TZID=America/Chicago:20260403T190000
DTEND;TZID=America/Chicago:20260403T200000
DTSTAMP:20260421T165838
CREATED:20260220T153744Z
LAST-MODIFIED:20260402T185700Z
UID:1567-1775242800-1775246400@chapelstpeters.org
SUMMARY:Good Friday Service
DESCRIPTION:
URL:https://chapelstpeters.org/e/good-friday-service-2/
END:VEVENT
BEGIN:VEVENT
DTSTART;TZID=America/Chicago:20260404T090000
DTEND;TZID=America/Chicago:20260404T100000
DTSTAMP:20260421T165838
CREATED:20260220T153745Z
LAST-MODIFIED:20260402T185705Z
UID:1568-1775293200-1775296800@chapelstpeters.org
SUMMARY:ACA - Rm222
DESCRIPTION:
URL:https://chapelstpeters.org/e/aca-rm222-5/
END:VEVENT
BEGIN:VEVENT
DTSTART;TZID=America/Chicago:20260404T100000
DTEND;TZID=America/Chicago:20260404T113000
DTSTAMP:20260421T165838
CREATED:20260224T205831Z
LAST-MODIFIED:20260402T185706Z
UID:1783-1775296800-1775302200@chapelstpeters.org
SUMMARY:Easter Egg Hunt
DESCRIPTION:
URL:https://chapelstpeters.org/e/easter-egg-hunt/
CATEGORIES:Youth Ministry
ATTACH;FMTTYPE=image/jpeg:https://chapelstpeters.org/wp-content/uploads/2026/02/Featured-Events-Website-Size.jpg
END:VEVENT
BEGIN:VEVENT
DTSTART;TZID=America/Chicago:20260404T101500
DTEND;TZID=America/Chicago:20260404T114500
DTSTAMP:20260421T165838
CREATED:20260220T153745Z
LAST-MODIFIED:20260402T185705Z
UID:1569-1775297700-1775303100@chapelstpeters.org
SUMMARY:AA - Rm224
DESCRIPTION:
URL:https://chapelstpeters.org/e/aa-rm224-5/
END:VEVENT
BEGIN:VEVENT
DTSTART;TZID=America/Chicago:20260405T060000
DTEND;TZID=America/Chicago:20260405T070000
DTSTAMP:20260421T165838
CREATED:20260220T153745Z
LAST-MODIFIED:20260402T185706Z
UID:1570-1775368800-1775372400@chapelstpeters.org
SUMMARY:Sunrise Service
DESCRIPTION:Worship with us this Holy Week at Chapel of the Cross\n\n\n\nPALM SUNDAY (3/29) – 8:00am & 10:15am\nMAUNDY THURSDAY (4/2) – 11:00am & 7:00pm\nGOOD FRIDAY (4/3) – 11:00am & 7:00pm\nEASTER SUNDAY (4/5) – 6:00am\, 8:00am\, & 10:15am
URL:https://chapelstpeters.org/e/sunrise-service/
ATTACH;FMTTYPE=image/jpeg:https://chapelstpeters.org/wp-content/uploads/2026/02/Featured-Events-Website-Size-1.jpg
END:VEVENT
BEGIN:VEVENT
DTSTART;TZID=America/Chicago:20260405T080000
DTEND;TZID=America/Chicago:20260405T090000
DTSTAMP:20260421T165838
CREATED:20260220T153745Z
LAST-MODIFIED:20260402T185707Z
UID:1571-1775376000-1775379600@chapelstpeters.org
SUMMARY:Worship Service
DESCRIPTION:
URL:https://chapelstpeters.org/e/worship-service-120/
END:VEVENT
BEGIN:VEVENT
DTSTART;TZID=America/Chicago:20260405T101500
DTEND;TZID=America/Chicago:20260405T111500
DTSTAMP:20260421T165838
CREATED:20260220T153745Z
LAST-MODIFIED:20260402T185709Z
UID:1573-1775384100-1775387700@chapelstpeters.org
SUMMARY:Worship Service
DESCRIPTION:
URL:https://chapelstpeters.org/e/worship-service-121/
END:VEVENT
BEGIN:VEVENT
DTSTART;TZID=America/Chicago:20260405T183000
DTEND;TZID=America/Chicago:20260405T200000
DTSTAMP:20260421T165838
CREATED:20260220T153745Z
LAST-MODIFIED:20260402T185709Z
UID:1574-1775413800-1775419200@chapelstpeters.org
SUMMARY:Al-Anon - Rm114
DESCRIPTION:
URL:https://chapelstpeters.org/e/al-anon-rm114-11/
END:VEVENT
BEGIN:VEVENT
DTSTART;TZID=America/Chicago:20260406T130000
DTEND;TZID=America/Chicago:20260406T150000
DTSTAMP:20260421T165838
CREATED:20260220T153745Z
LAST-MODIFIED:20260402T185710Z
UID:1575-1775480400-1775487600@chapelstpeters.org
SUMMARY:Knitting and Crochet - Rm224
DESCRIPTION:
URL:https://chapelstpeters.org/e/knitting-and-crochet-rm224-6/
END:VEVENT
BEGIN:VEVENT
DTSTART;TZID=America/Chicago:20260406T174500
DTEND;TZID=America/Chicago:20260406T184500
DTSTAMP:20260421T165838
CREATED:20260220T153746Z
LAST-MODIFIED:20260402T185710Z
UID:1577-1775497500-1775501100@chapelstpeters.org
SUMMARY:Refit - Gym
DESCRIPTION:
URL:https://chapelstpeters.org/e/refit-gym-11/
END:VEVENT
BEGIN:VEVENT
DTSTART;TZID=America/Chicago:20260406T180000
DTEND;TZID=America/Chicago:20260406T193000
DTSTAMP:20260421T165838
CREATED:20260220T153746Z
LAST-MODIFIED:20260402T185710Z
UID:1576-1775498400-1775503800@chapelstpeters.org
SUMMARY:AA - Rm114
DESCRIPTION:
URL:https://chapelstpeters.org/e/aa-rm114-11/
END:VEVENT
BEGIN:VEVENT
DTSTART;TZID=America/Chicago:20260407T170000
DTEND;TZID=America/Chicago:20260407T180000
DTSTAMP:20260421T165838
CREATED:20260220T153746Z
LAST-MODIFIED:20260402T185712Z
UID:1581-1775581200-1775584800@chapelstpeters.org
SUMMARY:Handbell Choir - Rm301
DESCRIPTION:
URL:https://chapelstpeters.org/e/handbell-choir-rm301-6/
END:VEVENT
BEGIN:VEVENT
DTSTART;TZID=America/Chicago:20260407T173000
DTEND;TZID=America/Chicago:20260407T183000
DTSTAMP:20260421T165838
CREATED:20260220T153746Z
LAST-MODIFIED:20260402T185712Z
UID:1582-1775583000-1775586600@chapelstpeters.org
SUMMARY:Refit - Gym
DESCRIPTION:
URL:https://chapelstpeters.org/e/refit-gym-12/
END:VEVENT
BEGIN:VEVENT
DTSTART;TZID=America/Chicago:20260407T180000
DTEND;TZID=America/Chicago:20260407T193000
DTSTAMP:20260421T165838
CREATED:20260220T153746Z
LAST-MODIFIED:20260402T185712Z
UID:1580-1775584800-1775590200@chapelstpeters.org
SUMMARY:Elders - Rm222
DESCRIPTION:
URL:https://chapelstpeters.org/e/elders-rm222-2/
END:VEVENT
BEGIN:VEVENT
DTSTART;TZID=America/Chicago:20260407T181500
DTEND;TZID=America/Chicago:20260407T193000
DTSTAMP:20260421T165838
CREATED:20260220T153746Z
LAST-MODIFIED:20260402T185712Z
UID:1583-1775585700-1775590200@chapelstpeters.org
SUMMARY:Adult Choir - Rm301
DESCRIPTION:
URL:https://chapelstpeters.org/e/adult-choir-rm301-6/
END:VEVENT
BEGIN:VEVENT
DTSTART;TZID=America/Chicago:20260408T083000
DTEND;TZID=America/Chicago:20260408T110000
DTSTAMP:20260421T165838
CREATED:20260220T153746Z
LAST-MODIFIED:20260402T185727Z
UID:1584-1775637000-1775646000@chapelstpeters.org
SUMMARY:TOPS - Rm224
DESCRIPTION:
URL:https://chapelstpeters.org/e/tops-rm224-6/
END:VEVENT
BEGIN:VEVENT
DTSTART;TZID=America/Chicago:20260408T083000
DTEND;TZID=America/Chicago:20260408T110000
DTSTAMP:20260421T165838
CREATED:20260220T153747Z
LAST-MODIFIED:20260402T185727Z
UID:1586-1775637000-1775646000@chapelstpeters.org
SUMMARY:AA -Rm114
DESCRIPTION:
URL:https://chapelstpeters.org/e/aa-rm114-12/
END:VEVENT
BEGIN:VEVENT
DTSTART;TZID=America/Chicago:20260408T090000
DTEND;TZID=America/Chicago:20260408T113000
DTSTAMP:20260421T165838
CREATED:20260220T153746Z
LAST-MODIFIED:20260402T185713Z
UID:1585-1775638800-1775647800@chapelstpeters.org
SUMMARY:Quilt Tacking - Lower Lobby
DESCRIPTION:
URL:https://chapelstpeters.org/e/quilt-tacking-lower-lobby-3/
END:VEVENT
BEGIN:VEVENT
DTSTART;TZID=America/Chicago:20260408T110000
DTEND;TZID=America/Chicago:20260408T120000
DTSTAMP:20260421T165838
CREATED:20260220T153747Z
LAST-MODIFIED:20260402T185727Z
UID:1587-1775646000-1775649600@chapelstpeters.org
SUMMARY:Worship Service
DESCRIPTION:
URL:https://chapelstpeters.org/e/worship-service-122/
END:VEVENT
BEGIN:VEVENT
DTSTART;TZID=America/Chicago:20260408T161500
DTEND;TZID=America/Chicago:20260408T171500
DTSTAMP:20260421T165838
CREATED:20260220T153747Z
LAST-MODIFIED:20260402T185728Z
UID:1588-1775664900-1775668500@chapelstpeters.org
SUMMARY:Zumba - Gym
DESCRIPTION:
URL:https://chapelstpeters.org/e/zumba-gym-11/
END:VEVENT
BEGIN:VEVENT
DTSTART;TZID=America/Chicago:20260409T103000
DTEND;TZID=America/Chicago:20260409T120000
DTSTAMP:20260421T165838
CREATED:20260220T153747Z
LAST-MODIFIED:20260402T185728Z
UID:1589-1775730600-1775736000@chapelstpeters.org
SUMMARY:Al-Anon - Rm114
DESCRIPTION:
URL:https://chapelstpeters.org/e/al-anon-rm114-12/
END:VEVENT
BEGIN:VEVENT
DTSTART;TZID=America/Chicago:20260409T130000
DTEND;TZID=America/Chicago:20260409T143000
DTSTAMP:20260421T165838
CREATED:20260220T153747Z
LAST-MODIFIED:20260402T185742Z
UID:1590-1775739600-1775745000@chapelstpeters.org
SUMMARY:Comfort Group - Rm224
DESCRIPTION:
URL:https://chapelstpeters.org/e/comfort-group-rm224-2/
END:VEVENT
BEGIN:VEVENT
DTSTART;TZID=America/Chicago:20260409T170000
DTEND;TZID=America/Chicago:20260409T200000
DTSTAMP:20260421T165838
CREATED:20260220T153747Z
LAST-MODIFIED:20260402T185743Z
UID:1591-1775754000-1775764800@chapelstpeters.org
SUMMARY:STL Group - Rm223
DESCRIPTION:
URL:https://chapelstpeters.org/e/stl-group-rm223-2/
END:VEVENT
BEGIN:VEVENT
DTSTART;TZID=America/Chicago:20260409T174500
DTEND;TZID=America/Chicago:20260409T184500
DTSTAMP:20260421T165838
CREATED:20260220T153747Z
LAST-MODIFIED:20260402T185742Z
UID:1592-1775756700-1775760300@chapelstpeters.org
SUMMARY:Zumba - Gym
DESCRIPTION:
URL:https://chapelstpeters.org/e/zumba-gym-12/
END:VEVENT
BEGIN:VEVENT
DTSTART;TZID=America/Chicago:20260410T113000
DTEND;TZID=America/Chicago:20260410T133000
DTSTAMP:20260421T165838
CREATED:20260220T153747Z
LAST-MODIFIED:20260402T185744Z
UID:1593-1775820600-1775827800@chapelstpeters.org
SUMMARY:OWLS - Rm224
DESCRIPTION:
URL:https://chapelstpeters.org/e/owls-rm224-2/
END:VEVENT
BEGIN:VEVENT
DTSTART;TZID=America/Chicago:20260411T073000
DTEND;TZID=America/Chicago:20260411T090000
DTSTAMP:20260421T165838
CREATED:20260220T153747Z
LAST-MODIFIED:20260402T185744Z
UID:1595-1775892600-1775898000@chapelstpeters.org
SUMMARY:Men's Bible Study - Rm224
DESCRIPTION:
URL:https://chapelstpeters.org/e/mens-bible-study-rm224-3/
END:VEVENT
BEGIN:VEVENT
DTSTART;TZID=America/Chicago:20260411T090000
DTEND;TZID=America/Chicago:20260411T100000
DTSTAMP:20260421T165838
CREATED:20260220T153747Z
LAST-MODIFIED:20260402T185757Z
UID:1594-1775898000-1775901600@chapelstpeters.org
SUMMARY:ACA - Rm222
DESCRIPTION:
URL:https://chapelstpeters.org/e/aca-rm222-6/
END:VEVENT
BEGIN:VEVENT
DTSTART;TZID=America/Chicago:20260411T101500
DTEND;TZID=America/Chicago:20260411T114500
DTSTAMP:20260421T165838
CREATED:20260220T153747Z
LAST-MODIFIED:20260402T185757Z
UID:1596-1775902500-1775907900@chapelstpeters.org
SUMMARY:AA - Rm224
DESCRIPTION:
URL:https://chapelstpeters.org/e/aa-rm224-6/
END:VEVENT
BEGIN:VEVENT
DTSTART;TZID=America/Chicago:20260411T123000
DTEND;TZID=America/Chicago:20260411T153000
DTSTAMP:20260421T165838
CREATED:20260304T190314Z
LAST-MODIFIED:20260402T185757Z
UID:2091-1775910600-1775921400@chapelstpeters.org
SUMMARY:Al-Anon Workshop - Gym
DESCRIPTION:
URL:https://chapelstpeters.org/e/al-anon-workshop-gym/
END:VEVENT
END:VCALENDAR