BEGIN:VCALENDAR
VERSION:2.0
PRODID:-//Chapel of the Cross Lutheran Church - St. Peters, MO - ECPv6.15.20//NONSGML v1.0//EN
CALSCALE:GREGORIAN
METHOD:PUBLISH
X-WR-CALNAME:Chapel of the Cross Lutheran Church - St. Peters, MO
X-ORIGINAL-URL:https://chapelstpeters.org
X-WR-CALDESC:Events for Chapel of the Cross Lutheran Church - St. Peters, MO
REFRESH-INTERVAL;VALUE=DURATION:PT1H
X-Robots-Tag:noindex
X-PUBLISHED-TTL:PT1H
BEGIN:VTIMEZONE
TZID:America/Chicago
BEGIN:DAYLIGHT
TZOFFSETFROM:-0600
TZOFFSETTO:-0500
TZNAME:CDT
DTSTART:20250309T080000
END:DAYLIGHT
BEGIN:STANDARD
TZOFFSETFROM:-0500
TZOFFSETTO:-0600
TZNAME:CST
DTSTART:20251102T070000
END:STANDARD
BEGIN:DAYLIGHT
TZOFFSETFROM:-0600
TZOFFSETTO:-0500
TZNAME:CDT
DTSTART:20260308T080000
END:DAYLIGHT
BEGIN:STANDARD
TZOFFSETFROM:-0500
TZOFFSETTO:-0600
TZNAME:CST
DTSTART:20261101T070000
END:STANDARD
BEGIN:DAYLIGHT
TZOFFSETFROM:-0600
TZOFFSETTO:-0500
TZNAME:CDT
DTSTART:20270314T080000
END:DAYLIGHT
BEGIN:STANDARD
TZOFFSETFROM:-0500
TZOFFSETTO:-0600
TZNAME:CST
DTSTART:20271107T070000
END:STANDARD
END:VTIMEZONE
BEGIN:VEVENT
DTSTART;TZID=America/Chicago:20260323T180000
DTEND;TZID=America/Chicago:20260323T193000
DTSTAMP:20260421T212534
CREATED:20260219T175618Z
LAST-MODIFIED:20260316T171858Z
UID:1394-1774288800-1774294200@chapelstpeters.org
SUMMARY:AA - Rm114
DESCRIPTION:
URL:https://chapelstpeters.org/e/aa-rm114-7/
END:VEVENT
BEGIN:VEVENT
DTSTART;TZID=America/Chicago:20260323T190000
DTEND;TZID=America/Chicago:20260323T200000
DTSTAMP:20260421T212534
CREATED:20260219T175619Z
LAST-MODIFIED:20260316T171910Z
UID:1395-1774292400-1774296000@chapelstpeters.org
SUMMARY:Worship Serivce
DESCRIPTION:
URL:https://chapelstpeters.org/e/worship-serivce-4/
END:VEVENT
BEGIN:VEVENT
DTSTART;TZID=America/Chicago:20260324T093000
DTEND;TZID=America/Chicago:20260324T110000
DTSTAMP:20260421T212534
CREATED:20260219T175619Z
LAST-MODIFIED:20260316T171911Z
UID:1396-1774344600-1774350000@chapelstpeters.org
SUMMARY:Bible Study - Rm224/Rm223/Rm222/Rm114
DESCRIPTION:
URL:https://chapelstpeters.org/e/bible-study-rm224-rm114-4/
END:VEVENT
BEGIN:VEVENT
DTSTART;TZID=America/Chicago:20260324T170000
DTEND;TZID=America/Chicago:20260324T180000
DTSTAMP:20260421T212534
CREATED:20260219T175619Z
LAST-MODIFIED:20260316T171911Z
UID:1398-1774371600-1774375200@chapelstpeters.org
SUMMARY:Handbell Choir - Rm301
DESCRIPTION:
URL:https://chapelstpeters.org/e/handbell-choir-rm301-4/
END:VEVENT
BEGIN:VEVENT
DTSTART;TZID=America/Chicago:20260324T173000
DTEND;TZID=America/Chicago:20260324T183000
DTSTAMP:20260421T212534
CREATED:20260219T175619Z
LAST-MODIFIED:20260316T171911Z
UID:1397-1774373400-1774377000@chapelstpeters.org
SUMMARY:Refit - Gym
DESCRIPTION:
URL:https://chapelstpeters.org/e/refit-gym-8/
END:VEVENT
BEGIN:VEVENT
DTSTART;TZID=America/Chicago:20260324T181500
DTEND;TZID=America/Chicago:20260324T193000
DTSTAMP:20260421T212534
CREATED:20260219T175619Z
LAST-MODIFIED:20260316T171916Z
UID:1400-1774376100-1774380600@chapelstpeters.org
SUMMARY:Adult Choir - Rm301
DESCRIPTION:
URL:https://chapelstpeters.org/e/adult-choir-rm301-4/
END:VEVENT
BEGIN:VEVENT
DTSTART;TZID=America/Chicago:20260324T190000
DTEND;TZID=America/Chicago:20260324T203000
DTSTAMP:20260421T212534
CREATED:20260219T175619Z
LAST-MODIFIED:20260316T171912Z
UID:1399-1774378800-1774384200@chapelstpeters.org
SUMMARY:Ladies Bible Study - Rm224
DESCRIPTION:
URL:https://chapelstpeters.org/e/ladies-bible-study-rm224-4/
END:VEVENT
BEGIN:VEVENT
DTSTART;TZID=America/Chicago:20260325T083000
DTEND;TZID=America/Chicago:20260325T110000
DTSTAMP:20260421T212534
CREATED:20260219T175619Z
LAST-MODIFIED:20260316T171919Z
UID:1401-1774427400-1774436400@chapelstpeters.org
SUMMARY:AA -Rm114
DESCRIPTION:
URL:https://chapelstpeters.org/e/aa-rm114-8/
END:VEVENT
BEGIN:VEVENT
DTSTART;TZID=America/Chicago:20260325T083000
DTEND;TZID=America/Chicago:20260325T110000
DTSTAMP:20260421T212534
CREATED:20260219T175620Z
LAST-MODIFIED:20260316T171917Z
UID:1403-1774427400-1774436400@chapelstpeters.org
SUMMARY:TOPS - Rm224
DESCRIPTION:
URL:https://chapelstpeters.org/e/tops-rm224-4/
END:VEVENT
BEGIN:VEVENT
DTSTART;TZID=America/Chicago:20260325T090000
DTEND;TZID=America/Chicago:20260325T113000
DTSTAMP:20260421T212534
CREATED:20260219T175620Z
LAST-MODIFIED:20260316T171920Z
UID:1404-1774429200-1774438200@chapelstpeters.org
SUMMARY:Quilt Tacking - Lower Lobby
DESCRIPTION:
URL:https://chapelstpeters.org/e/quilt-tacking-lower-lobby-2/
END:VEVENT
BEGIN:VEVENT
DTSTART;TZID=America/Chicago:20260325T110000
DTEND;TZID=America/Chicago:20260325T120000
DTSTAMP:20260421T212534
CREATED:20260219T175619Z
LAST-MODIFIED:20260316T171919Z
UID:1402-1774436400-1774440000@chapelstpeters.org
SUMMARY:Worship Service
DESCRIPTION:
URL:https://chapelstpeters.org/e/worship-service-117/
END:VEVENT
BEGIN:VEVENT
DTSTART;TZID=America/Chicago:20260325T161500
DTEND;TZID=America/Chicago:20260325T171500
DTSTAMP:20260421T212534
CREATED:20260219T175620Z
LAST-MODIFIED:20260316T171933Z
UID:1405-1774455300-1774458900@chapelstpeters.org
SUMMARY:Zumba - Gym
DESCRIPTION:
URL:https://chapelstpeters.org/e/zumba-gym-7/
END:VEVENT
BEGIN:VEVENT
DTSTART;TZID=America/Chicago:20260325T180000
DTEND;TZID=America/Chicago:20260325T184500
DTSTAMP:20260421T212534
CREATED:20260219T175620Z
LAST-MODIFIED:20260316T171943Z
UID:1406-1774461600-1774464300@chapelstpeters.org
SUMMARY:Soup Supper - Gym
DESCRIPTION:
URL:https://chapelstpeters.org/e/soup-supper-gym-4/
CATEGORIES:Youth Ministry
END:VEVENT
BEGIN:VEVENT
DTSTART;TZID=America/Chicago:20260325T190000
DTEND;TZID=America/Chicago:20260325T200000
DTSTAMP:20260421T212534
CREATED:20260219T175620Z
LAST-MODIFIED:20260316T171943Z
UID:1407-1774465200-1774468800@chapelstpeters.org
SUMMARY:Lent Service
DESCRIPTION:
URL:https://chapelstpeters.org/e/lent-serivce-4/
END:VEVENT
BEGIN:VEVENT
DTSTART;TZID=America/Chicago:20260326T103000
DTEND;TZID=America/Chicago:20260326T120000
DTSTAMP:20260421T212534
CREATED:20260219T175620Z
LAST-MODIFIED:20260316T171943Z
UID:1408-1774521000-1774526400@chapelstpeters.org
SUMMARY:Al-Anon - Rm114
DESCRIPTION:
URL:https://chapelstpeters.org/e/al-anon-rm114-8/
END:VEVENT
BEGIN:VEVENT
DTSTART;TZID=America/Chicago:20260326T174500
DTEND;TZID=America/Chicago:20260326T184500
DTSTAMP:20260421T212534
CREATED:20260219T175620Z
LAST-MODIFIED:20260316T171944Z
UID:1409-1774547100-1774550700@chapelstpeters.org
SUMMARY:Zumba - Gym
DESCRIPTION:
URL:https://chapelstpeters.org/e/zumba-gym-8/
END:VEVENT
BEGIN:VEVENT
DTSTART;TZID=America/Chicago:20260328T073000
DTEND;TZID=America/Chicago:20260328T090000
DTSTAMP:20260421T212534
CREATED:20260219T175620Z
LAST-MODIFIED:20260316T172134Z
UID:1411-1774683000-1774688400@chapelstpeters.org
SUMMARY:Men's Bible Study - Rm224
DESCRIPTION:
URL:https://chapelstpeters.org/e/mens-bible-study-rm224-2/
END:VEVENT
BEGIN:VEVENT
DTSTART;TZID=America/Chicago:20260328T090000
DTEND;TZID=America/Chicago:20260328T100000
DTSTAMP:20260421T212534
CREATED:20260219T175620Z
LAST-MODIFIED:20260316T172134Z
UID:1410-1774688400-1774692000@chapelstpeters.org
SUMMARY:ACA - Rm222
DESCRIPTION:
URL:https://chapelstpeters.org/e/aca-rm222-4/
END:VEVENT
BEGIN:VEVENT
DTSTART;TZID=America/Chicago:20260328T101500
DTEND;TZID=America/Chicago:20260328T114500
DTSTAMP:20260421T212534
CREATED:20260219T175621Z
LAST-MODIFIED:20260316T172135Z
UID:1412-1774692900-1774698300@chapelstpeters.org
SUMMARY:AA - Rm224
DESCRIPTION:
URL:https://chapelstpeters.org/e/aa-rm224-4/
END:VEVENT
BEGIN:VEVENT
DTSTART;TZID=America/Chicago:20260329T080000
DTEND;TZID=America/Chicago:20260329T090000
DTSTAMP:20260421T212534
CREATED:20260219T175621Z
LAST-MODIFIED:20260316T172135Z
UID:1413-1774771200-1774774800@chapelstpeters.org
SUMMARY:Worship Service
DESCRIPTION:
URL:https://chapelstpeters.org/e/worship-service-118/
END:VEVENT
BEGIN:VEVENT
DTSTART;TZID=America/Chicago:20260329T091500
DTEND;TZID=America/Chicago:20260329T100000
DTSTAMP:20260421T212534
CREATED:20260219T175621Z
LAST-MODIFIED:20260402T154339Z
UID:1414-1774775700-1774778400@chapelstpeters.org
SUMMARY:Education Hour
DESCRIPTION:
URL:https://chapelstpeters.org/e/education-hour-5/
CATEGORIES:Youth Ministry
END:VEVENT
BEGIN:VEVENT
DTSTART;TZID=America/Chicago:20260329T101500
DTEND;TZID=America/Chicago:20260329T111500
DTSTAMP:20260421T212534
CREATED:20260219T175621Z
LAST-MODIFIED:20260329T145646Z
UID:1415-1774779300-1774782900@chapelstpeters.org
SUMMARY:Worship Service
DESCRIPTION:
URL:https://chapelstpeters.org/e/worship-service-119/
END:VEVENT
BEGIN:VEVENT
DTSTART;TZID=America/Chicago:20260329T113000
DTEND;TZID=America/Chicago:20260329T140000
DTSTAMP:20260421T212534
CREATED:20260219T175621Z
LAST-MODIFIED:20260329T145647Z
UID:1416-1774783800-1774792800@chapelstpeters.org
SUMMARY:Youth Easter Eggssmbly Eggstravaganza
DESCRIPTION:
URL:https://chapelstpeters.org/e/youth-easter-eggsmbly-eggstravaganza-daniels-den-gym/
CATEGORIES:Youth Ministry
END:VEVENT
BEGIN:VEVENT
DTSTART;TZID=America/Chicago:20260329T183000
DTEND;TZID=America/Chicago:20260329T200000
DTSTAMP:20260421T212534
CREATED:20260219T175621Z
LAST-MODIFIED:20260329T145647Z
UID:1417-1774809000-1774814400@chapelstpeters.org
SUMMARY:Al-Anon - Rm114
DESCRIPTION:
URL:https://chapelstpeters.org/e/al-anon-rm114-9/
END:VEVENT
BEGIN:VEVENT
DTSTART;TZID=America/Chicago:20260330T130000
DTEND;TZID=America/Chicago:20260330T150000
DTSTAMP:20260421T212534
CREATED:20260219T175621Z
LAST-MODIFIED:20260329T145648Z
UID:1418-1774875600-1774882800@chapelstpeters.org
SUMMARY:Knitting and Crochet - Rm224
DESCRIPTION:
URL:https://chapelstpeters.org/e/knitting-and-crochet-rm224-5/
END:VEVENT
BEGIN:VEVENT
DTSTART;TZID=America/Chicago:20260330T174500
DTEND;TZID=America/Chicago:20260330T184500
DTSTAMP:20260421T212534
CREATED:20260219T175621Z
LAST-MODIFIED:20260329T145656Z
UID:1420-1774892700-1774896300@chapelstpeters.org
SUMMARY:Refit - Gym
DESCRIPTION:
URL:https://chapelstpeters.org/e/refit-gym-9/
END:VEVENT
BEGIN:VEVENT
DTSTART;TZID=America/Chicago:20260330T180000
DTEND;TZID=America/Chicago:20260330T193000
DTSTAMP:20260421T212534
CREATED:20260219T175621Z
LAST-MODIFIED:20260329T145657Z
UID:1419-1774893600-1774899000@chapelstpeters.org
SUMMARY:AA - Rm114
DESCRIPTION:
URL:https://chapelstpeters.org/e/aa-rm114-9/
END:VEVENT
BEGIN:VEVENT
DTSTART;TZID=America/Chicago:20260330T190000
DTEND;TZID=America/Chicago:20260330T200000
DTSTAMP:20260421T212534
CREATED:20260219T175622Z
LAST-MODIFIED:20260329T145657Z
UID:1421-1774897200-1774900800@chapelstpeters.org
SUMMARY:Worship Serivce
DESCRIPTION:
URL:https://chapelstpeters.org/e/worship-serivce-5/
END:VEVENT
BEGIN:VEVENT
DTSTART;TZID=America/Chicago:20260331T170000
DTEND;TZID=America/Chicago:20260331T180000
DTSTAMP:20260421T212534
CREATED:20260219T175622Z
LAST-MODIFIED:20260331T141320Z
UID:1423-1774976400-1774980000@chapelstpeters.org
SUMMARY:Handbell Choir - Rm301
DESCRIPTION:
URL:https://chapelstpeters.org/e/handbell-choir-rm301-5/
END:VEVENT
BEGIN:VEVENT
DTSTART;TZID=America/Chicago:20260331T173000
DTEND;TZID=America/Chicago:20260331T183000
DTSTAMP:20260421T212534
CREATED:20260219T175622Z
LAST-MODIFIED:20260331T141320Z
UID:1424-1774978200-1774981800@chapelstpeters.org
SUMMARY:Refit - Gym
DESCRIPTION:
URL:https://chapelstpeters.org/e/refit-gym-10/
END:VEVENT
END:VCALENDAR