BEGIN:VCALENDAR
VERSION:2.0
PRODID:-//Chapel of the Cross Lutheran Church - St. Peters, MO - ECPv6.15.20//NONSGML v1.0//EN
CALSCALE:GREGORIAN
METHOD:PUBLISH
X-WR-CALNAME:Chapel of the Cross Lutheran Church - St. Peters, MO
X-ORIGINAL-URL:https://chapelstpeters.org
X-WR-CALDESC:Events for Chapel of the Cross Lutheran Church - St. Peters, MO
REFRESH-INTERVAL;VALUE=DURATION:PT1H
X-Robots-Tag:noindex
X-PUBLISHED-TTL:PT1H
BEGIN:VTIMEZONE
TZID:America/Chicago
BEGIN:DAYLIGHT
TZOFFSETFROM:-0600
TZOFFSETTO:-0500
TZNAME:CDT
DTSTART:20250309T080000
END:DAYLIGHT
BEGIN:STANDARD
TZOFFSETFROM:-0500
TZOFFSETTO:-0600
TZNAME:CST
DTSTART:20251102T070000
END:STANDARD
BEGIN:DAYLIGHT
TZOFFSETFROM:-0600
TZOFFSETTO:-0500
TZNAME:CDT
DTSTART:20260308T080000
END:DAYLIGHT
BEGIN:STANDARD
TZOFFSETFROM:-0500
TZOFFSETTO:-0600
TZNAME:CST
DTSTART:20261101T070000
END:STANDARD
BEGIN:DAYLIGHT
TZOFFSETFROM:-0600
TZOFFSETTO:-0500
TZNAME:CDT
DTSTART:20270314T080000
END:DAYLIGHT
BEGIN:STANDARD
TZOFFSETFROM:-0500
TZOFFSETTO:-0600
TZNAME:CST
DTSTART:20271107T070000
END:STANDARD
END:VTIMEZONE
BEGIN:VEVENT
DTSTART;TZID=America/Chicago:20260628T091500
DTEND;TZID=America/Chicago:20260628T100000
DTSTAMP:20260421T212419
CREATED:20260331T141244Z
LAST-MODIFIED:20260421T145759Z
UID:2402-1782638100-1782640800@chapelstpeters.org
SUMMARY:IDES Meal Packing
DESCRIPTION:
URL:https://chapelstpeters.org/e/education-hour-15/
CATEGORIES:Youth Ministry
ATTACH;FMTTYPE=image/jpeg:https://chapelstpeters.org/wp-content/uploads/2026/03/26-06-28-IDES-Meal-Packing.jpg
END:VEVENT
BEGIN:VEVENT
DTSTART;TZID=America/Chicago:20260628T101500
DTEND;TZID=America/Chicago:20260628T111500
DTSTAMP:20260421T212419
CREATED:20260331T141244Z
LAST-MODIFIED:20260421T145823Z
UID:2403-1782641700-1782645300@chapelstpeters.org
SUMMARY:Worship Service
DESCRIPTION:
URL:https://chapelstpeters.org/e/worship-service-15/
END:VEVENT
BEGIN:VEVENT
DTSTART;TZID=America/Chicago:20260628T183000
DTEND;TZID=America/Chicago:20260628T200000
DTSTAMP:20260421T212419
CREATED:20260331T141253Z
LAST-MODIFIED:20260421T145823Z
UID:2405-1782671400-1782676800@chapelstpeters.org
SUMMARY:Al-Anon - Rm114
DESCRIPTION:
URL:https://chapelstpeters.org/e/al-anon-rm114-35/
END:VEVENT
BEGIN:VEVENT
DTSTART;TZID=America/Chicago:20260629T130000
DTEND;TZID=America/Chicago:20260629T150000
DTSTAMP:20260421T212419
CREATED:20260331T141254Z
LAST-MODIFIED:20260421T145823Z
UID:2406-1782738000-1782745200@chapelstpeters.org
SUMMARY:Knitting and Crochet - Rm224
DESCRIPTION:
URL:https://chapelstpeters.org/e/knitting-and-crochet-rm224-18/
END:VEVENT
BEGIN:VEVENT
DTSTART;TZID=America/Chicago:20260629T174500
DTEND;TZID=America/Chicago:20260629T184500
DTSTAMP:20260421T212419
CREATED:20260331T141254Z
LAST-MODIFIED:20260421T145823Z
UID:2408-1782755100-1782758700@chapelstpeters.org
SUMMARY:Refit - Gym
DESCRIPTION:
URL:https://chapelstpeters.org/e/refit-gym-35/
END:VEVENT
BEGIN:VEVENT
DTSTART;TZID=America/Chicago:20260629T180000
DTEND;TZID=America/Chicago:20260629T193000
DTSTAMP:20260421T212419
CREATED:20260331T141254Z
LAST-MODIFIED:20260421T150222Z
UID:2407-1782756000-1782761400@chapelstpeters.org
SUMMARY:AA - Rm114
DESCRIPTION:
URL:https://chapelstpeters.org/e/aa-rm114-35/
END:VEVENT
BEGIN:VEVENT
DTSTART;TZID=America/Chicago:20260629T190000
DTEND;TZID=America/Chicago:20260629T200000
DTSTAMP:20260421T212419
CREATED:20260401T195748Z
LAST-MODIFIED:20260421T145824Z
UID:2433-1782759600-1782763200@chapelstpeters.org
SUMMARY:Worship Serivce
DESCRIPTION:
URL:https://chapelstpeters.org/e/worship-serivce-16/
END:VEVENT
BEGIN:VEVENT
DTSTART;TZID=America/Chicago:20260630T173000
DTEND;TZID=America/Chicago:20260630T183000
DTSTAMP:20260421T212419
CREATED:20260401T195756Z
LAST-MODIFIED:20260421T150223Z
UID:2435-1782840600-1782844200@chapelstpeters.org
SUMMARY:Refit - Gym
DESCRIPTION:
URL:https://chapelstpeters.org/e/refit-gym-36/
END:VEVENT
BEGIN:VEVENT
DTSTART;TZID=America/Chicago:20260630T183000
DTEND;TZID=America/Chicago:20260630T193000
DTSTAMP:20260421T212419
CREATED:20260401T195756Z
LAST-MODIFIED:20260421T150223Z
UID:2434-1782844200-1782847800@chapelstpeters.org
SUMMARY:Spirit Squad - Gym
DESCRIPTION:
URL:https://chapelstpeters.org/e/spirit-squad-gym/
END:VEVENT
BEGIN:VEVENT
DTSTART;TZID=America/Chicago:20260701T083000
DTEND;TZID=America/Chicago:20260701T110000
DTSTAMP:20260421T212419
CREATED:20260401T195756Z
LAST-MODIFIED:20260421T150223Z
UID:2437-1782894600-1782903600@chapelstpeters.org
SUMMARY:TOPS - Rm224
DESCRIPTION:
URL:https://chapelstpeters.org/e/tops-rm224-18/
END:VEVENT
BEGIN:VEVENT
DTSTART;TZID=America/Chicago:20260701T083000
DTEND;TZID=America/Chicago:20260701T110000
DTSTAMP:20260421T212419
CREATED:20260401T195800Z
LAST-MODIFIED:20260421T150223Z
UID:2438-1782894600-1782903600@chapelstpeters.org
SUMMARY:AA -Rm114
DESCRIPTION:
URL:https://chapelstpeters.org/e/aa-rm114-36/
END:VEVENT
BEGIN:VEVENT
DTSTART;TZID=America/Chicago:20260701T110000
DTEND;TZID=America/Chicago:20260701T120000
DTSTAMP:20260421T212419
CREATED:20260401T195756Z
LAST-MODIFIED:20260421T150255Z
UID:2436-1782903600-1782907200@chapelstpeters.org
SUMMARY:Worship Service
DESCRIPTION:
URL:https://chapelstpeters.org/e/worship-service-16/
END:VEVENT
BEGIN:VEVENT
DTSTART;TZID=America/Chicago:20260701T161500
DTEND;TZID=America/Chicago:20260701T171500
DTSTAMP:20260421T212419
CREATED:20260401T195800Z
LAST-MODIFIED:20260421T150255Z
UID:2439-1782922500-1782926100@chapelstpeters.org
SUMMARY:Zumba - Gym
DESCRIPTION:
URL:https://chapelstpeters.org/e/zumba-gym-35/
END:VEVENT
BEGIN:VEVENT
DTSTART;TZID=America/Chicago:20260701T180000
DTEND;TZID=America/Chicago:20260701T190000
DTSTAMP:20260421T212419
CREATED:20260417T152128Z
LAST-MODIFIED:20260421T150256Z
UID:2722-1782928800-1782932400@chapelstpeters.org
SUMMARY:Summer Nights
DESCRIPTION:
URL:https://chapelstpeters.org/e/summer-nights-3/
CATEGORIES:Youth Ministry
END:VEVENT
BEGIN:VEVENT
DTSTART;TZID=America/Chicago:20260702T103000
DTEND;TZID=America/Chicago:20260702T120000
DTSTAMP:20260421T212419
CREATED:20260401T195800Z
LAST-MODIFIED:20260421T150256Z
UID:2440-1782988200-1782993600@chapelstpeters.org
SUMMARY:Al-Anon - Rm114
DESCRIPTION:
URL:https://chapelstpeters.org/e/al-anon-rm114-36/
END:VEVENT
BEGIN:VEVENT
DTSTART;TZID=America/Chicago:20260702T120000
DTEND;TZID=America/Chicago:20260702T133000
DTSTAMP:20260421T212419
CREATED:20260401T195801Z
LAST-MODIFIED:20260421T150256Z
UID:2442-1782993600-1782999000@chapelstpeters.org
SUMMARY:Staff Meeting - Rm223
DESCRIPTION:
URL:https://chapelstpeters.org/e/staff-meeting-rm223-5/
END:VEVENT
BEGIN:VEVENT
DTSTART;TZID=America/Chicago:20260702T130000
DTEND;TZID=America/Chicago:20260702T150000
DTSTAMP:20260421T212419
CREATED:20260401T195800Z
LAST-MODIFIED:20260421T150343Z
UID:2441-1782997200-1783004400@chapelstpeters.org
SUMMARY:LWML Board Meeting - Rm224
DESCRIPTION:
URL:https://chapelstpeters.org/e/lwml-board-meeting-rm224-5/
END:VEVENT
BEGIN:VEVENT
DTSTART;TZID=America/Chicago:20260702T174500
DTEND;TZID=America/Chicago:20260702T184500
DTSTAMP:20260421T212419
CREATED:20260401T195817Z
LAST-MODIFIED:20260421T150343Z
UID:2443-1783014300-1783017900@chapelstpeters.org
SUMMARY:Zumba - Gym
DESCRIPTION:
URL:https://chapelstpeters.org/e/zumba-gym-36/
END:VEVENT
BEGIN:VEVENT
DTSTART;TZID=America/Chicago:20260704T090000
DTEND;TZID=America/Chicago:20260704T100000
DTSTAMP:20260421T212419
CREATED:20260401T195817Z
LAST-MODIFIED:20260421T150343Z
UID:2444-1783155600-1783159200@chapelstpeters.org
SUMMARY:ACA - Rm222
DESCRIPTION:
URL:https://chapelstpeters.org/e/aca-rm222-18/
END:VEVENT
BEGIN:VEVENT
DTSTART;TZID=America/Chicago:20260704T101500
DTEND;TZID=America/Chicago:20260704T114500
DTSTAMP:20260421T212419
CREATED:20260401T195818Z
LAST-MODIFIED:20260421T150344Z
UID:2445-1783160100-1783165500@chapelstpeters.org
SUMMARY:AA - Rm224
DESCRIPTION:
URL:https://chapelstpeters.org/e/aa-rm224-18/
END:VEVENT
BEGIN:VEVENT
DTSTART;TZID=America/Chicago:20260705T080000
DTEND;TZID=America/Chicago:20260705T090000
DTSTAMP:20260421T212419
CREATED:20260401T195818Z
LAST-MODIFIED:20260421T150344Z
UID:2446-1783238400-1783242000@chapelstpeters.org
SUMMARY:Worship Service
DESCRIPTION:
URL:https://chapelstpeters.org/e/worship-service-17/
END:VEVENT
BEGIN:VEVENT
DTSTART;TZID=America/Chicago:20260705T091500
DTEND;TZID=America/Chicago:20260705T100000
DTSTAMP:20260421T212419
CREATED:20260401T195818Z
LAST-MODIFIED:20260421T150447Z
UID:2447-1783242900-1783245600@chapelstpeters.org
SUMMARY:Education Hour
DESCRIPTION:
URL:https://chapelstpeters.org/e/education-hour-16/
CATEGORIES:Youth Ministry
END:VEVENT
BEGIN:VEVENT
DTSTART;TZID=America/Chicago:20260705T101500
DTEND;TZID=America/Chicago:20260705T111500
DTSTAMP:20260421T212419
CREATED:20260401T195819Z
LAST-MODIFIED:20260421T150448Z
UID:2448-1783246500-1783250100@chapelstpeters.org
SUMMARY:Worship Service
DESCRIPTION:
URL:https://chapelstpeters.org/e/worship-service-18/
END:VEVENT
BEGIN:VEVENT
DTSTART;TZID=America/Chicago:20260705T183000
DTEND;TZID=America/Chicago:20260705T200000
DTSTAMP:20260421T212419
CREATED:20260401T195819Z
LAST-MODIFIED:20260421T150448Z
UID:2449-1783276200-1783281600@chapelstpeters.org
SUMMARY:Al-Anon - Rm114
DESCRIPTION:
URL:https://chapelstpeters.org/e/al-anon-rm114-37/
END:VEVENT
BEGIN:VEVENT
DTSTART;TZID=America/Chicago:20260706T130000
DTEND;TZID=America/Chicago:20260706T150000
DTSTAMP:20260421T212419
CREATED:20260401T195820Z
LAST-MODIFIED:20260421T150448Z
UID:2450-1783342800-1783350000@chapelstpeters.org
SUMMARY:Knitting and Crochet - Rm224
DESCRIPTION:
URL:https://chapelstpeters.org/e/knitting-and-crochet-rm224-19/
END:VEVENT
BEGIN:VEVENT
DTSTART;TZID=America/Chicago:20260706T174500
DTEND;TZID=America/Chicago:20260706T184500
DTSTAMP:20260421T212419
CREATED:20260401T195820Z
LAST-MODIFIED:20260421T150448Z
UID:2452-1783359900-1783363500@chapelstpeters.org
SUMMARY:Refit - Gym
DESCRIPTION:
URL:https://chapelstpeters.org/e/refit-gym-37/
END:VEVENT
BEGIN:VEVENT
DTSTART;TZID=America/Chicago:20260706T180000
DTEND;TZID=America/Chicago:20260706T193000
DTSTAMP:20260421T212419
CREATED:20260401T195820Z
LAST-MODIFIED:20260421T150505Z
UID:2451-1783360800-1783366200@chapelstpeters.org
SUMMARY:AA - Rm114
DESCRIPTION:
URL:https://chapelstpeters.org/e/aa-rm114-37/
END:VEVENT
BEGIN:VEVENT
DTSTART;TZID=America/Chicago:20260706T190000
DTEND;TZID=America/Chicago:20260706T200000
DTSTAMP:20260421T212419
CREATED:20260401T195828Z
LAST-MODIFIED:20260421T150504Z
UID:2453-1783364400-1783368000@chapelstpeters.org
SUMMARY:Worship Serivce
DESCRIPTION:
URL:https://chapelstpeters.org/e/worship-serivce-17/
END:VEVENT
BEGIN:VEVENT
DTSTART;TZID=America/Chicago:20260707T173000
DTEND;TZID=America/Chicago:20260707T183000
DTSTAMP:20260421T212419
CREATED:20260401T195828Z
LAST-MODIFIED:20260421T150505Z
UID:2454-1783445400-1783449000@chapelstpeters.org
SUMMARY:Refit - Gym
DESCRIPTION:
URL:https://chapelstpeters.org/e/refit-gym-38/
END:VEVENT
BEGIN:VEVENT
DTSTART;TZID=America/Chicago:20260707T180000
DTEND;TZID=America/Chicago:20260707T193000
DTSTAMP:20260421T212419
CREATED:20260401T195828Z
LAST-MODIFIED:20260421T150505Z
UID:2456-1783447200-1783452600@chapelstpeters.org
SUMMARY:Elders - Rm222
DESCRIPTION:
URL:https://chapelstpeters.org/e/elders-rm222-5/
END:VEVENT
END:VCALENDAR