BEGIN:VCALENDAR
VERSION:2.0
PRODID:-//Chapel of the Cross Lutheran Church - St. Peters, MO - ECPv6.15.20//NONSGML v1.0//EN
CALSCALE:GREGORIAN
METHOD:PUBLISH
X-WR-CALNAME:Chapel of the Cross Lutheran Church - St. Peters, MO
X-ORIGINAL-URL:https://chapelstpeters.org
X-WR-CALDESC:Events for Chapel of the Cross Lutheran Church - St. Peters, MO
REFRESH-INTERVAL;VALUE=DURATION:PT1H
X-Robots-Tag:noindex
X-PUBLISHED-TTL:PT1H
BEGIN:VTIMEZONE
TZID:America/Chicago
BEGIN:DAYLIGHT
TZOFFSETFROM:-0600
TZOFFSETTO:-0500
TZNAME:CDT
DTSTART:20250309T080000
END:DAYLIGHT
BEGIN:STANDARD
TZOFFSETFROM:-0500
TZOFFSETTO:-0600
TZNAME:CST
DTSTART:20251102T070000
END:STANDARD
BEGIN:DAYLIGHT
TZOFFSETFROM:-0600
TZOFFSETTO:-0500
TZNAME:CDT
DTSTART:20260308T080000
END:DAYLIGHT
BEGIN:STANDARD
TZOFFSETFROM:-0500
TZOFFSETTO:-0600
TZNAME:CST
DTSTART:20261101T070000
END:STANDARD
BEGIN:DAYLIGHT
TZOFFSETFROM:-0600
TZOFFSETTO:-0500
TZNAME:CDT
DTSTART:20270314T080000
END:DAYLIGHT
BEGIN:STANDARD
TZOFFSETFROM:-0500
TZOFFSETTO:-0600
TZNAME:CST
DTSTART:20271107T070000
END:STANDARD
END:VTIMEZONE
BEGIN:VEVENT
DTSTART;TZID=America/Chicago:20260507T120000
DTEND;TZID=America/Chicago:20260507T133000
DTSTAMP:20260421T182510
CREATED:20260220T153756Z
LAST-MODIFIED:20260421T144103Z
UID:1687-1778155200-1778160600@chapelstpeters.org
SUMMARY:Staff Meeting - Rm223
DESCRIPTION:
URL:https://chapelstpeters.org/e/staff-meeting-rm223-3/
END:VEVENT
BEGIN:VEVENT
DTSTART;TZID=America/Chicago:20260507T130000
DTEND;TZID=America/Chicago:20260507T150000
DTSTAMP:20260421T182510
CREATED:20260220T153756Z
LAST-MODIFIED:20260421T144103Z
UID:1686-1778158800-1778166000@chapelstpeters.org
SUMMARY:LWML Board Meeting - Rm224
DESCRIPTION:
URL:https://chapelstpeters.org/e/lwml-board-meeting-rm224-3/
END:VEVENT
BEGIN:VEVENT
DTSTART;TZID=America/Chicago:20260507T174500
DTEND;TZID=America/Chicago:20260507T184500
DTSTAMP:20260421T182510
CREATED:20260220T153757Z
LAST-MODIFIED:20260421T144103Z
UID:1688-1778175900-1778179500@chapelstpeters.org
SUMMARY:Zumba - Gym
DESCRIPTION:
URL:https://chapelstpeters.org/e/zumba-gym-20/
END:VEVENT
BEGIN:VEVENT
DTSTART;TZID=America/Chicago:20260508T093000
DTEND;TZID=America/Chicago:20260508T133000
DTSTAMP:20260421T182510
CREATED:20260220T153757Z
LAST-MODIFIED:20260421T144104Z
UID:1689-1778232600-1778247000@chapelstpeters.org
SUMMARY:OWLS - "Hit the Bricks"
DESCRIPTION:OWLS (Older Wiser Lutherans) will “Hit The Bricks” Friday\, May 8\, for a walking history tour of S Main St In St Charles.  As we walk the 400 – 900 S Main St in St Charles\, we will hear about some fascinating places and people in St Charles since 1769.  After the tour. we will gather together for lunch at Lewis and Clark’s Restaurant on S Main Street.  The cost of the tour is $10\, and we will leave the church parking lot at 9:30 am.  RSVP by Tuesday\, May 5
URL:https://chapelstpeters.org/e/owls-rm224-3/
END:VEVENT
BEGIN:VEVENT
DTSTART;TZID=America/Chicago:20260509T073000
DTEND;TZID=America/Chicago:20260509T090000
DTSTAMP:20260421T182510
CREATED:20260220T153757Z
LAST-MODIFIED:20260421T144242Z
UID:1690-1778311800-1778317200@chapelstpeters.org
SUMMARY:Men's Bible Study - Rm224
DESCRIPTION:
URL:https://chapelstpeters.org/e/mens-bible-study-rm224-5/
END:VEVENT
BEGIN:VEVENT
DTSTART;TZID=America/Chicago:20260509T090000
DTEND;TZID=America/Chicago:20260509T100000
DTSTAMP:20260421T182510
CREATED:20260220T153757Z
LAST-MODIFIED:20260421T144242Z
UID:1691-1778317200-1778320800@chapelstpeters.org
SUMMARY:ACA - Rm222
DESCRIPTION:
URL:https://chapelstpeters.org/e/aca-rm222-10/
END:VEVENT
BEGIN:VEVENT
DTSTART;TZID=America/Chicago:20260509T101500
DTEND;TZID=America/Chicago:20260509T114500
DTSTAMP:20260421T182510
CREATED:20260220T153757Z
LAST-MODIFIED:20260421T144243Z
UID:1692-1778321700-1778327100@chapelstpeters.org
SUMMARY:AA - Rm224
DESCRIPTION:
URL:https://chapelstpeters.org/e/aa-rm224-10/
END:VEVENT
BEGIN:VEVENT
DTSTART;TZID=America/Chicago:20260510T080000
DTEND;TZID=America/Chicago:20260510T090000
DTSTAMP:20260421T182510
CREATED:20260220T153757Z
LAST-MODIFIED:20260421T144243Z
UID:1693-1778400000-1778403600@chapelstpeters.org
SUMMARY:Worship Service
DESCRIPTION:
URL:https://chapelstpeters.org/e/worship-service-135/
END:VEVENT
BEGIN:VEVENT
DTSTART;TZID=America/Chicago:20260510T091500
DTEND;TZID=America/Chicago:20260510T100000
DTSTAMP:20260421T182510
CREATED:20260220T153757Z
LAST-MODIFIED:20260421T144243Z
UID:1694-1778404500-1778407200@chapelstpeters.org
SUMMARY:Education Hour
DESCRIPTION:Adult Bible Class – Sanctuary or Room 224 \nNursery – Room 108 \nPreschool – 5th grade – Room 114 \nMiddle School Confirmation – Room 222 \nHigh School – Daniel’s Den
URL:https://chapelstpeters.org/e/education-hour-11/
CATEGORIES:Youth Ministry
END:VEVENT
BEGIN:VEVENT
DTSTART;TZID=America/Chicago:20260510T101500
DTEND;TZID=America/Chicago:20260510T111500
DTSTAMP:20260421T182510
CREATED:20260220T153757Z
LAST-MODIFIED:20260421T144252Z
UID:1696-1778408100-1778411700@chapelstpeters.org
SUMMARY:Worship Service
DESCRIPTION:
URL:https://chapelstpeters.org/e/worship-service-136/
END:VEVENT
BEGIN:VEVENT
DTSTART;TZID=America/Chicago:20260510T103000
DTEND;TZID=America/Chicago:20260510T113000
DTSTAMP:20260421T182510
CREATED:20260220T153757Z
LAST-MODIFIED:20260421T144252Z
UID:1695-1778409000-1778412600@chapelstpeters.org
SUMMARY:E-Service - Rm224
DESCRIPTION:
URL:https://chapelstpeters.org/e/e-service-rm224-3/
END:VEVENT
BEGIN:VEVENT
DTSTART;TZID=America/Chicago:20260510T183000
DTEND;TZID=America/Chicago:20260510T200000
DTSTAMP:20260421T182510
CREATED:20260220T153757Z
LAST-MODIFIED:20260421T144252Z
UID:1697-1778437800-1778443200@chapelstpeters.org
SUMMARY:Al-Anon - Rm114
DESCRIPTION:
URL:https://chapelstpeters.org/e/al-anon-rm114-21/
END:VEVENT
BEGIN:VEVENT
DTSTART;TZID=America/Chicago:20260511T130000
DTEND;TZID=America/Chicago:20260511T150000
DTSTAMP:20260421T182510
CREATED:20260220T153757Z
LAST-MODIFIED:20260421T144253Z
UID:1698-1778504400-1778511600@chapelstpeters.org
SUMMARY:Knitting and Crochet - Rm224
DESCRIPTION:
URL:https://chapelstpeters.org/e/knitting-and-crochet-rm224-11/
END:VEVENT
BEGIN:VEVENT
DTSTART;TZID=America/Chicago:20260511T173000
DTEND;TZID=America/Chicago:20260511T193000
DTSTAMP:20260421T182510
CREATED:20260220T153758Z
LAST-MODIFIED:20260421T144253Z
UID:1702-1778520600-1778527800@chapelstpeters.org
SUMMARY:Executive Council -Rm223
DESCRIPTION:
URL:https://chapelstpeters.org/e/executive-council-rm223-3/
END:VEVENT
BEGIN:VEVENT
DTSTART;TZID=America/Chicago:20260511T174500
DTEND;TZID=America/Chicago:20260511T184500
DTSTAMP:20260421T182510
CREATED:20260220T153758Z
LAST-MODIFIED:20260421T144311Z
UID:1699-1778521500-1778525100@chapelstpeters.org
SUMMARY:Refit - Gym
DESCRIPTION:
URL:https://chapelstpeters.org/e/refit-gym-21/
END:VEVENT
BEGIN:VEVENT
DTSTART;TZID=America/Chicago:20260511T180000
DTEND;TZID=America/Chicago:20260511T193000
DTSTAMP:20260421T182510
CREATED:20260220T153758Z
LAST-MODIFIED:20260421T144311Z
UID:1701-1778522400-1778527800@chapelstpeters.org
SUMMARY:AA - Rm114
DESCRIPTION:
URL:https://chapelstpeters.org/e/aa-rm114-21/
END:VEVENT
BEGIN:VEVENT
DTSTART;TZID=America/Chicago:20260511T190000
DTEND;TZID=America/Chicago:20260511T200000
DTSTAMP:20260421T182510
CREATED:20260220T153758Z
LAST-MODIFIED:20260421T144311Z
UID:1700-1778526000-1778529600@chapelstpeters.org
SUMMARY:Worship Serivce
DESCRIPTION:
URL:https://chapelstpeters.org/e/worship-serivce-10/
END:VEVENT
BEGIN:VEVENT
DTSTART;TZID=America/Chicago:20260512T170000
DTEND;TZID=America/Chicago:20260512T180000
DTSTAMP:20260421T182510
CREATED:20260220T153758Z
LAST-MODIFIED:20260421T144312Z
UID:1704-1778605200-1778608800@chapelstpeters.org
SUMMARY:Handbell Choir - Rm301
DESCRIPTION:
URL:https://chapelstpeters.org/e/handbell-choir-rm301-11/
END:VEVENT
BEGIN:VEVENT
DTSTART;TZID=America/Chicago:20260512T173000
DTEND;TZID=America/Chicago:20260512T183000
DTSTAMP:20260421T182510
CREATED:20260220T153758Z
LAST-MODIFIED:20260421T144312Z
UID:1707-1778607000-1778610600@chapelstpeters.org
SUMMARY:Refit - Gym
DESCRIPTION:
URL:https://chapelstpeters.org/e/refit-gym-22/
END:VEVENT
BEGIN:VEVENT
DTSTART;TZID=America/Chicago:20260512T181500
DTEND;TZID=America/Chicago:20260512T193000
DTSTAMP:20260421T182510
CREATED:20260220T153758Z
LAST-MODIFIED:20260421T144416Z
UID:1706-1778609700-1778614200@chapelstpeters.org
SUMMARY:Adult Choir - Rm301
DESCRIPTION:
URL:https://chapelstpeters.org/e/adult-choir-rm301-11/
END:VEVENT
BEGIN:VEVENT
DTSTART;TZID=America/Chicago:20260513T083000
DTEND;TZID=America/Chicago:20260513T110000
DTSTAMP:20260421T182510
CREATED:20260220T153758Z
LAST-MODIFIED:20260421T144417Z
UID:1708-1778661000-1778670000@chapelstpeters.org
SUMMARY:AA -Rm114
DESCRIPTION:
URL:https://chapelstpeters.org/e/aa-rm114-22/
END:VEVENT
BEGIN:VEVENT
DTSTART;TZID=America/Chicago:20260513T083000
DTEND;TZID=America/Chicago:20260513T110000
DTSTAMP:20260421T182510
CREATED:20260220T153759Z
LAST-MODIFIED:20260421T144417Z
UID:1709-1778661000-1778670000@chapelstpeters.org
SUMMARY:TOPS - Rm224
DESCRIPTION:
URL:https://chapelstpeters.org/e/tops-rm224-11/
END:VEVENT
BEGIN:VEVENT
DTSTART;TZID=America/Chicago:20260513T090000
DTEND;TZID=America/Chicago:20260513T113000
DTSTAMP:20260421T182510
CREATED:20260220T153759Z
LAST-MODIFIED:20260421T144416Z
UID:1711-1778662800-1778671800@chapelstpeters.org
SUMMARY:Quilt Tacking - Lower Lobby
DESCRIPTION:
URL:https://chapelstpeters.org/e/quilt-tacking-lower-lobby-5/
END:VEVENT
BEGIN:VEVENT
DTSTART;TZID=America/Chicago:20260513T110000
DTEND;TZID=America/Chicago:20260513T120000
DTSTAMP:20260421T182510
CREATED:20260220T153759Z
LAST-MODIFIED:20260421T144418Z
UID:1710-1778670000-1778673600@chapelstpeters.org
SUMMARY:Worship Service
DESCRIPTION:
URL:https://chapelstpeters.org/e/worship-service-137/
END:VEVENT
BEGIN:VEVENT
DTSTART;TZID=America/Chicago:20260513T161500
DTEND;TZID=America/Chicago:20260513T171500
DTSTAMP:20260421T182510
CREATED:20260220T153759Z
LAST-MODIFIED:20260421T144442Z
UID:1712-1778688900-1778692500@chapelstpeters.org
SUMMARY:Zumba - Gym
DESCRIPTION:
URL:https://chapelstpeters.org/e/zumba-gym-21/
END:VEVENT
BEGIN:VEVENT
DTSTART;TZID=America/Chicago:20260514T103000
DTEND;TZID=America/Chicago:20260514T120000
DTSTAMP:20260421T182510
CREATED:20260220T153759Z
LAST-MODIFIED:20260421T144443Z
UID:1713-1778754600-1778760000@chapelstpeters.org
SUMMARY:Al-Anon - Rm114
DESCRIPTION:
URL:https://chapelstpeters.org/e/al-anon-rm114-22/
END:VEVENT
BEGIN:VEVENT
DTSTART;TZID=America/Chicago:20260514T130000
DTEND;TZID=America/Chicago:20260514T143000
DTSTAMP:20260421T182510
CREATED:20260220T153759Z
LAST-MODIFIED:20260421T144443Z
UID:1714-1778763600-1778769000@chapelstpeters.org
SUMMARY:Comfort Group - Rm224
DESCRIPTION:
URL:https://chapelstpeters.org/e/comfort-group-rm224-3/
END:VEVENT
BEGIN:VEVENT
DTSTART;TZID=America/Chicago:20260514T170000
DTEND;TZID=America/Chicago:20260514T200000
DTSTAMP:20260421T182510
CREATED:20260220T153759Z
LAST-MODIFIED:20260421T144538Z
UID:1716-1778778000-1778788800@chapelstpeters.org
SUMMARY:STL Group - Rm223
DESCRIPTION:
URL:https://chapelstpeters.org/e/stl-group-rm223-3/
END:VEVENT
BEGIN:VEVENT
DTSTART;TZID=America/Chicago:20260514T174500
DTEND;TZID=America/Chicago:20260514T184500
DTSTAMP:20260421T182510
CREATED:20260220T153759Z
LAST-MODIFIED:20260421T144443Z
UID:1715-1778780700-1778784300@chapelstpeters.org
SUMMARY:Zumba - Gym
DESCRIPTION:
URL:https://chapelstpeters.org/e/zumba-gym-22/
END:VEVENT
BEGIN:VEVENT
DTSTART;TZID=America/Chicago:20260514T183000
DTEND;TZID=America/Chicago:20260514T193000
DTSTAMP:20260421T182510
CREATED:20260331T142958Z
LAST-MODIFIED:20260421T144444Z
UID:2413-1778783400-1778787000@chapelstpeters.org
SUMMARY:The Seasons of God's Grace
DESCRIPTION:Join us on Ascension Day for a Choir Vespers Service. “The Seasons of God’s Grace”. We present scripture and music that takes you through the seasons of the church year from Advent to Ascension!
URL:https://chapelstpeters.org/e/choir-vespers-service/
ATTACH;FMTTYPE=image/jpeg:https://chapelstpeters.org/wp-content/uploads/2026/03/Facebook-Event-Graphics-April-8.jpg
END:VEVENT
END:VCALENDAR