BEGIN:VCALENDAR
VERSION:2.0
PRODID:-//Chapel of the Cross Lutheran Church - St. Peters, MO - ECPv6.15.20//NONSGML v1.0//EN
CALSCALE:GREGORIAN
METHOD:PUBLISH
X-ORIGINAL-URL:https://chapelstpeters.org
X-WR-CALDESC:Events for Chapel of the Cross Lutheran Church - St. Peters, MO
REFRESH-INTERVAL;VALUE=DURATION:PT1H
X-Robots-Tag:noindex
X-PUBLISHED-TTL:PT1H
BEGIN:VTIMEZONE
TZID:America/Chicago
BEGIN:DAYLIGHT
TZOFFSETFROM:-0600
TZOFFSETTO:-0500
TZNAME:CDT
DTSTART:20250309T080000
END:DAYLIGHT
BEGIN:STANDARD
TZOFFSETFROM:-0500
TZOFFSETTO:-0600
TZNAME:CST
DTSTART:20251102T070000
END:STANDARD
BEGIN:DAYLIGHT
TZOFFSETFROM:-0600
TZOFFSETTO:-0500
TZNAME:CDT
DTSTART:20260308T080000
END:DAYLIGHT
BEGIN:STANDARD
TZOFFSETFROM:-0500
TZOFFSETTO:-0600
TZNAME:CST
DTSTART:20261101T070000
END:STANDARD
BEGIN:DAYLIGHT
TZOFFSETFROM:-0600
TZOFFSETTO:-0500
TZNAME:CDT
DTSTART:20270314T080000
END:DAYLIGHT
BEGIN:STANDARD
TZOFFSETFROM:-0500
TZOFFSETTO:-0600
TZNAME:CST
DTSTART:20271107T070000
END:STANDARD
END:VTIMEZONE
BEGIN:VEVENT
DTSTART;TZID=America/Chicago:20260524T101500
DTEND;TZID=America/Chicago:20260524T111500
DTSTAMP:20260421T201928
CREATED:20260224T205857Z
LAST-MODIFIED:20260421T144755Z
UID:1959-1779617700-1779621300@chapelstpeters.org
SUMMARY:Worship Service
DESCRIPTION:
URL:https://chapelstpeters.org/e/worship-service-142/
END:VEVENT
BEGIN:VEVENT
DTSTART;TZID=America/Chicago:20260524T183000
DTEND;TZID=America/Chicago:20260524T200000
DTSTAMP:20260421T201928
CREATED:20260224T205857Z
LAST-MODIFIED:20260421T144826Z
UID:1960-1779647400-1779652800@chapelstpeters.org
SUMMARY:Al-Anon - Rm114
DESCRIPTION:
URL:https://chapelstpeters.org/e/al-anon-rm114-25/
END:VEVENT
BEGIN:VEVENT
DTSTART;TZID=America/Chicago:20260525T130000
DTEND;TZID=America/Chicago:20260525T150000
DTSTAMP:20260421T201928
CREATED:20260224T205857Z
LAST-MODIFIED:20260421T144827Z
UID:1961-1779714000-1779721200@chapelstpeters.org
SUMMARY:Knitting and Crochet - Rm224
DESCRIPTION:
URL:https://chapelstpeters.org/e/knitting-and-crochet-rm224-13/
END:VEVENT
BEGIN:VEVENT
DTSTART;TZID=America/Chicago:20260525T174500
DTEND;TZID=America/Chicago:20260525T184500
DTSTAMP:20260421T201928
CREATED:20260224T205858Z
LAST-MODIFIED:20260421T144828Z
UID:1963-1779731100-1779734700@chapelstpeters.org
SUMMARY:Refit - Gym
DESCRIPTION:
URL:https://chapelstpeters.org/e/refit-gym-25/
END:VEVENT
BEGIN:VEVENT
DTSTART;TZID=America/Chicago:20260525T180000
DTEND;TZID=America/Chicago:20260525T193000
DTSTAMP:20260421T201928
CREATED:20260224T205858Z
LAST-MODIFIED:20260421T144827Z
UID:1962-1779732000-1779737400@chapelstpeters.org
SUMMARY:AA - Rm114
DESCRIPTION:
URL:https://chapelstpeters.org/e/aa-rm114-25/
END:VEVENT
BEGIN:VEVENT
DTSTART;TZID=America/Chicago:20260526T170000
DTEND;TZID=America/Chicago:20260526T180000
DTSTAMP:20260421T201928
CREATED:20260225T171825Z
LAST-MODIFIED:20260421T144828Z
UID:1993-1779814800-1779818400@chapelstpeters.org
SUMMARY:Handbell Choir - Rm301
DESCRIPTION:
URL:https://chapelstpeters.org/e/handbell-choir-rm301-13/
END:VEVENT
BEGIN:VEVENT
DTSTART;TZID=America/Chicago:20260526T173000
DTEND;TZID=America/Chicago:20260526T183000
DTSTAMP:20260421T201928
CREATED:20260225T171826Z
LAST-MODIFIED:20260421T144858Z
UID:1995-1779816600-1779820200@chapelstpeters.org
SUMMARY:Refit - Gym
DESCRIPTION:
URL:https://chapelstpeters.org/e/refit-gym-26/
END:VEVENT
BEGIN:VEVENT
DTSTART;TZID=America/Chicago:20260526T181500
DTEND;TZID=America/Chicago:20260526T193000
DTSTAMP:20260421T201928
CREATED:20260225T171825Z
LAST-MODIFIED:20260421T144858Z
UID:1994-1779819300-1779823800@chapelstpeters.org
SUMMARY:Adult Choir - Rm301
DESCRIPTION:
URL:https://chapelstpeters.org/e/adult-choir-rm301-13/
END:VEVENT
BEGIN:VEVENT
DTSTART;TZID=America/Chicago:20260527T083000
DTEND;TZID=America/Chicago:20260527T110000
DTSTAMP:20260421T201928
CREATED:20260226T153010Z
LAST-MODIFIED:20260421T144859Z
UID:2011-1779870600-1779879600@chapelstpeters.org
SUMMARY:AA -Rm114
DESCRIPTION:
URL:https://chapelstpeters.org/e/aa-rm114-26/
END:VEVENT
BEGIN:VEVENT
DTSTART;TZID=America/Chicago:20260527T083000
DTEND;TZID=America/Chicago:20260527T110000
DTSTAMP:20260421T201928
CREATED:20260226T153010Z
LAST-MODIFIED:20260421T144859Z
UID:2012-1779870600-1779879600@chapelstpeters.org
SUMMARY:TOPS - Rm224
DESCRIPTION:
URL:https://chapelstpeters.org/e/tops-rm224-13/
END:VEVENT
BEGIN:VEVENT
DTSTART;TZID=America/Chicago:20260527T090000
DTEND;TZID=America/Chicago:20260527T113000
DTSTAMP:20260421T201928
CREATED:20260226T153009Z
LAST-MODIFIED:20260421T144858Z
UID:2010-1779872400-1779881400@chapelstpeters.org
SUMMARY:Quilt Tacking - Lower Lobby
DESCRIPTION:
URL:https://chapelstpeters.org/e/quilt-tacking-lower-lobby-6/
END:VEVENT
BEGIN:VEVENT
DTSTART;TZID=America/Chicago:20260527T110000
DTEND;TZID=America/Chicago:20260527T120000
DTSTAMP:20260421T201928
CREATED:20260226T153010Z
LAST-MODIFIED:20260421T144947Z
UID:2013-1779879600-1779883200@chapelstpeters.org
SUMMARY:Worship Service
DESCRIPTION:
URL:https://chapelstpeters.org/e/worship-service/
END:VEVENT
BEGIN:VEVENT
DTSTART;TZID=America/Chicago:20260527T161500
DTEND;TZID=America/Chicago:20260527T171500
DTSTAMP:20260421T201928
CREATED:20260226T153011Z
LAST-MODIFIED:20260421T144947Z
UID:2014-1779898500-1779902100@chapelstpeters.org
SUMMARY:Zumba - Gym
DESCRIPTION:
URL:https://chapelstpeters.org/e/zumba-gym-25/
END:VEVENT
BEGIN:VEVENT
DTSTART;TZID=America/Chicago:20260528T103000
DTEND;TZID=America/Chicago:20260528T120000
DTSTAMP:20260421T201928
CREATED:20260227T144422Z
LAST-MODIFIED:20260421T144948Z
UID:2058-1779964200-1779969600@chapelstpeters.org
SUMMARY:Al-Anon - Rm114
DESCRIPTION:
URL:https://chapelstpeters.org/e/al-anon-rm114-26/
END:VEVENT
BEGIN:VEVENT
DTSTART;TZID=America/Chicago:20260528T174500
DTEND;TZID=America/Chicago:20260528T184500
DTSTAMP:20260421T201928
CREATED:20260227T144422Z
LAST-MODIFIED:20260421T144948Z
UID:2059-1779990300-1779993900@chapelstpeters.org
SUMMARY:Zumba - Gym
DESCRIPTION:
URL:https://chapelstpeters.org/e/zumba-gym-26/
END:VEVENT
BEGIN:VEVENT
DTSTART;TZID=America/Chicago:20260530T090000
DTEND;TZID=America/Chicago:20260530T100000
DTSTAMP:20260421T201928
CREATED:20260304T190327Z
LAST-MODIFIED:20260421T144948Z
UID:2095-1780131600-1780135200@chapelstpeters.org
SUMMARY:ACA - Rm222
DESCRIPTION:
URL:https://chapelstpeters.org/e/aca-rm222-13/
END:VEVENT
BEGIN:VEVENT
DTSTART;TZID=America/Chicago:20260530T101500
DTEND;TZID=America/Chicago:20260530T114500
DTSTAMP:20260421T201928
CREATED:20260304T190327Z
LAST-MODIFIED:20260421T145029Z
UID:2097-1780136100-1780141500@chapelstpeters.org
SUMMARY:AA - Rm224
DESCRIPTION:
URL:https://chapelstpeters.org/e/aa-rm224-13/
END:VEVENT
BEGIN:VEVENT
DTSTART;TZID=America/Chicago:20260530T110000
DTEND;TZID=America/Chicago:20260530T140000
DTSTAMP:20260421T201928
CREATED:20260304T190327Z
LAST-MODIFIED:20260421T145029Z
UID:2096-1780138800-1780149600@chapelstpeters.org
SUMMARY:AA Workshop - Gym
DESCRIPTION:
URL:https://chapelstpeters.org/e/aa-workshop-gym/
END:VEVENT
BEGIN:VEVENT
DTSTART;TZID=America/Chicago:20260531T080000
DTEND;TZID=America/Chicago:20260531T090000
DTSTAMP:20260421T201928
CREATED:20260304T190327Z
LAST-MODIFIED:20260421T145029Z
UID:2098-1780214400-1780218000@chapelstpeters.org
SUMMARY:Worship Service
DESCRIPTION:
URL:https://chapelstpeters.org/e/worship-service-2/
END:VEVENT
BEGIN:VEVENT
DTSTART;TZID=America/Chicago:20260531T091500
DTEND;TZID=America/Chicago:20260531T100000
DTSTAMP:20260421T201928
CREATED:20260304T190327Z
LAST-MODIFIED:20260421T145030Z
UID:2099-1780218900-1780221600@chapelstpeters.org
SUMMARY:Ministry Fair
DESCRIPTION:
URL:https://chapelstpeters.org/e/ministry-fair-gym/
CATEGORIES:Youth Ministry
ATTACH;FMTTYPE=image/png:https://chapelstpeters.org/wp-content/uploads/2026/03/26-05-31-Ministry-Fair.png
END:VEVENT
BEGIN:VEVENT
DTSTART;TZID=America/Chicago:20260531T101500
DTEND;TZID=America/Chicago:20260531T111500
DTSTAMP:20260421T201928
CREATED:20260304T190327Z
LAST-MODIFIED:20260421T145030Z
UID:2100-1780222500-1780226100@chapelstpeters.org
SUMMARY:Worship Service
DESCRIPTION:
URL:https://chapelstpeters.org/e/worship-service-3/
END:VEVENT
BEGIN:VEVENT
DTSTART;TZID=America/Chicago:20260531T113000
DTEND;TZID=America/Chicago:20260531T130000
DTSTAMP:20260421T201928
CREATED:20260304T190327Z
LAST-MODIFIED:20260421T145115Z
UID:2101-1780227000-1780232400@chapelstpeters.org
SUMMARY:Incoming Confirmation Family Meet & Greet
DESCRIPTION:Families with students who are entering 6th grade are invited to come hear more about what Confirmation is and how their youth can get connected to Chapel’s youth! We will begin with lunch in room 224. Parents will then have a chance to connect with other parents in the incoming class as well as ask questions of the church staff. The youth will have a chance to connect with each other and build relationships.
URL:https://chapelstpeters.org/e/incoming-confirmation-family-meet-greet/
CATEGORIES:Faith Milestones,Youth Ministry
END:VEVENT
BEGIN:VEVENT
DTSTART;TZID=America/Chicago:20260531T183000
DTEND;TZID=America/Chicago:20260531T200000
DTSTAMP:20260421T201928
CREATED:20260304T190327Z
LAST-MODIFIED:20260421T145116Z
UID:2102-1780252200-1780257600@chapelstpeters.org
SUMMARY:Al-Anon - Rm114
DESCRIPTION:
URL:https://chapelstpeters.org/e/al-anon-rm114-27/
END:VEVENT
BEGIN:VEVENT
DTSTART;TZID=America/Chicago:20260601T130000
DTEND;TZID=America/Chicago:20260601T150000
DTSTAMP:20260421T201928
CREATED:20260304T190327Z
LAST-MODIFIED:20260421T145116Z
UID:2103-1780318800-1780326000@chapelstpeters.org
SUMMARY:Knitting and Crochet - Rm224
DESCRIPTION:
URL:https://chapelstpeters.org/e/knitting-and-crochet-rm224-14/
END:VEVENT
BEGIN:VEVENT
DTSTART;TZID=America/Chicago:20260601T174500
DTEND;TZID=America/Chicago:20260601T184500
DTSTAMP:20260421T201928
CREATED:20260304T190328Z
LAST-MODIFIED:20260421T145116Z
UID:2104-1780335900-1780339500@chapelstpeters.org
SUMMARY:Refit - Gym
DESCRIPTION:
URL:https://chapelstpeters.org/e/refit-gym-27/
END:VEVENT
BEGIN:VEVENT
DTSTART;TZID=America/Chicago:20260601T180000
DTEND;TZID=America/Chicago:20260601T193000
DTSTAMP:20260421T201928
CREATED:20260304T190328Z
LAST-MODIFIED:20260421T145117Z
UID:2105-1780336800-1780342200@chapelstpeters.org
SUMMARY:AA - Rm114
DESCRIPTION:
URL:https://chapelstpeters.org/e/aa-rm114-27/
END:VEVENT
BEGIN:VEVENT
DTSTART;TZID=America/Chicago:20260601T190000
DTEND;TZID=America/Chicago:20260601T200000
DTSTAMP:20260421T201928
CREATED:20260304T190328Z
LAST-MODIFIED:20260421T145238Z
UID:2106-1780340400-1780344000@chapelstpeters.org
SUMMARY:Worship Serivce
DESCRIPTION:
URL:https://chapelstpeters.org/e/worship-serivce-12/
END:VEVENT
BEGIN:VEVENT
DTSTART;TZID=America/Chicago:20260602T173000
DTEND;TZID=America/Chicago:20260602T183000
DTSTAMP:20260421T201928
CREATED:20260304T190328Z
LAST-MODIFIED:20260421T145238Z
UID:2108-1780421400-1780425000@chapelstpeters.org
SUMMARY:Refit - Gym
DESCRIPTION:
URL:https://chapelstpeters.org/e/refit-gym-28/
END:VEVENT
BEGIN:VEVENT
DTSTART;TZID=America/Chicago:20260602T180000
DTEND;TZID=America/Chicago:20260602T193000
DTSTAMP:20260421T201928
CREATED:20260304T190328Z
LAST-MODIFIED:20260421T145239Z
UID:2107-1780423200-1780428600@chapelstpeters.org
SUMMARY:Elders - Rm222
DESCRIPTION:
URL:https://chapelstpeters.org/e/elders-rm222-4/
END:VEVENT
BEGIN:VEVENT
DTSTART;TZID=America/Chicago:20260603T083000
DTEND;TZID=America/Chicago:20260603T110000
DTSTAMP:20260421T201928
CREATED:20260311T144634Z
LAST-MODIFIED:20260421T145239Z
UID:2197-1780475400-1780484400@chapelstpeters.org
SUMMARY:AA -Rm114
DESCRIPTION:
URL:https://chapelstpeters.org/e/aa-rm114-28/
END:VEVENT
END:VCALENDAR