BEGIN:VCALENDAR
VERSION:2.0
PRODID:-//Chapel of the Cross Lutheran Church - St. Peters, MO - ECPv6.15.20//NONSGML v1.0//EN
CALSCALE:GREGORIAN
METHOD:PUBLISH
X-WR-CALNAME:Chapel of the Cross Lutheran Church - St. Peters, MO
X-ORIGINAL-URL:https://chapelstpeters.org
X-WR-CALDESC:Events for Chapel of the Cross Lutheran Church - St. Peters, MO
REFRESH-INTERVAL;VALUE=DURATION:PT1H
X-Robots-Tag:noindex
X-PUBLISHED-TTL:PT1H
BEGIN:VTIMEZONE
TZID:America/Chicago
BEGIN:DAYLIGHT
TZOFFSETFROM:-0600
TZOFFSETTO:-0500
TZNAME:CDT
DTSTART:20250309T080000
END:DAYLIGHT
BEGIN:STANDARD
TZOFFSETFROM:-0500
TZOFFSETTO:-0600
TZNAME:CST
DTSTART:20251102T070000
END:STANDARD
BEGIN:DAYLIGHT
TZOFFSETFROM:-0600
TZOFFSETTO:-0500
TZNAME:CDT
DTSTART:20260308T080000
END:DAYLIGHT
BEGIN:STANDARD
TZOFFSETFROM:-0500
TZOFFSETTO:-0600
TZNAME:CST
DTSTART:20261101T070000
END:STANDARD
BEGIN:DAYLIGHT
TZOFFSETFROM:-0600
TZOFFSETTO:-0500
TZNAME:CDT
DTSTART:20270314T080000
END:DAYLIGHT
BEGIN:STANDARD
TZOFFSETFROM:-0500
TZOFFSETTO:-0600
TZNAME:CST
DTSTART:20271107T070000
END:STANDARD
END:VTIMEZONE
BEGIN:VEVENT
DTSTART;TZID=America/Chicago:20260421T093000
DTEND;TZID=America/Chicago:20260421T110000
DTSTAMP:20260421T043912
CREATED:20260220T153750Z
LAST-MODIFIED:20260417T153105Z
UID:1631-1776763800-1776769200@chapelstpeters.org
SUMMARY:Bible Study - Rm224/Rm223/Rm222/Rm114
DESCRIPTION:
URL:https://chapelstpeters.org/e/bible-study-rm224-rm114-8/
END:VEVENT
BEGIN:VEVENT
DTSTART;TZID=America/Chicago:20260421T170000
DTEND;TZID=America/Chicago:20260421T180000
DTSTAMP:20260421T043912
CREATED:20260220T153751Z
LAST-MODIFIED:20260417T153111Z
UID:1633-1776790800-1776794400@chapelstpeters.org
SUMMARY:Handbell Choir - Rm301
DESCRIPTION:
URL:https://chapelstpeters.org/e/handbell-choir-rm301-8/
END:VEVENT
BEGIN:VEVENT
DTSTART;TZID=America/Chicago:20260421T173000
DTEND;TZID=America/Chicago:20260421T183000
DTSTAMP:20260421T043912
CREATED:20260220T153750Z
LAST-MODIFIED:20260417T153106Z
UID:1632-1776792600-1776796200@chapelstpeters.org
SUMMARY:Refit - Gym
DESCRIPTION:
URL:https://chapelstpeters.org/e/refit-gym-16/
END:VEVENT
BEGIN:VEVENT
DTSTART;TZID=America/Chicago:20260421T181500
DTEND;TZID=America/Chicago:20260421T193000
DTSTAMP:20260421T043912
CREATED:20260220T153751Z
LAST-MODIFIED:20260417T153105Z
UID:1634-1776795300-1776799800@chapelstpeters.org
SUMMARY:Adult Choir - Rm301
DESCRIPTION:
URL:https://chapelstpeters.org/e/adult-choir-rm301-8/
END:VEVENT
BEGIN:VEVENT
DTSTART;TZID=America/Chicago:20260421T190000
DTEND;TZID=America/Chicago:20260421T203000
DTSTAMP:20260421T043912
CREATED:20260220T153751Z
LAST-MODIFIED:20260417T153112Z
UID:1635-1776798000-1776803400@chapelstpeters.org
SUMMARY:Ladies Bible Study - Rm224
DESCRIPTION:
URL:https://chapelstpeters.org/e/ladies-bible-study-rm224-8/
END:VEVENT
BEGIN:VEVENT
DTSTART;TZID=America/Chicago:20260422T083000
DTEND;TZID=America/Chicago:20260422T110000
DTSTAMP:20260421T043912
CREATED:20260220T153751Z
LAST-MODIFIED:20260417T153112Z
UID:1637-1776846600-1776855600@chapelstpeters.org
SUMMARY:AA -Rm114
DESCRIPTION:
URL:https://chapelstpeters.org/e/aa-rm114-16/
END:VEVENT
BEGIN:VEVENT
DTSTART;TZID=America/Chicago:20260422T083000
DTEND;TZID=America/Chicago:20260422T110000
DTSTAMP:20260421T043912
CREATED:20260220T153751Z
LAST-MODIFIED:20260417T153112Z
UID:1638-1776846600-1776855600@chapelstpeters.org
SUMMARY:TOPS - Rm224
DESCRIPTION:
URL:https://chapelstpeters.org/e/tops-rm224-8/
END:VEVENT
BEGIN:VEVENT
DTSTART;TZID=America/Chicago:20260422T090000
DTEND;TZID=America/Chicago:20260422T113000
DTSTAMP:20260421T043912
CREATED:20260220T153751Z
LAST-MODIFIED:20260417T153114Z
UID:1636-1776848400-1776857400@chapelstpeters.org
SUMMARY:Quilt Tacking - Lower Lobby
DESCRIPTION:
URL:https://chapelstpeters.org/e/quilt-tacking-lower-lobby-4/
END:VEVENT
BEGIN:VEVENT
DTSTART;TZID=America/Chicago:20260422T110000
DTEND;TZID=America/Chicago:20260422T120000
DTSTAMP:20260421T043912
CREATED:20260220T153751Z
LAST-MODIFIED:20260417T153112Z
UID:1639-1776855600-1776859200@chapelstpeters.org
SUMMARY:Worship Service
DESCRIPTION:
URL:https://chapelstpeters.org/e/worship-service-128/
END:VEVENT
BEGIN:VEVENT
DTSTART;TZID=America/Chicago:20260422T161500
DTEND;TZID=America/Chicago:20260422T171500
DTSTAMP:20260421T043912
CREATED:20260220T153751Z
LAST-MODIFIED:20260417T153114Z
UID:1640-1776874500-1776878100@chapelstpeters.org
SUMMARY:Zumba - Gym
DESCRIPTION:
URL:https://chapelstpeters.org/e/zumba-gym-15/
END:VEVENT
BEGIN:VEVENT
DTSTART;TZID=America/Chicago:20260422T183000
DTEND;TZID=America/Chicago:20260422T193000
DTSTAMP:20260421T043912
CREATED:20260226T181408Z
LAST-MODIFIED:20260417T153114Z
UID:2038-1776882600-1776886200@chapelstpeters.org
SUMMARY:Confirmation
DESCRIPTION:6th Grade – Room 224 \n7th Grade – Room 222 \n8th Grade – Room 223 (Library)
URL:https://chapelstpeters.org/e/confirmation-rm222-223-224-2/
CATEGORIES:Faith Milestones,Youth Ministry
END:VEVENT
BEGIN:VEVENT
DTSTART;TZID=America/Chicago:20260423T103000
DTEND;TZID=America/Chicago:20260423T120000
DTSTAMP:20260421T043912
CREATED:20260220T153751Z
LAST-MODIFIED:20260417T153115Z
UID:1641-1776940200-1776945600@chapelstpeters.org
SUMMARY:Al-Anon - Rm114
DESCRIPTION:
URL:https://chapelstpeters.org/e/al-anon-rm114-16/
END:VEVENT
BEGIN:VEVENT
DTSTART;TZID=America/Chicago:20260423T174500
DTEND;TZID=America/Chicago:20260423T184500
DTSTAMP:20260421T043912
CREATED:20260220T153751Z
LAST-MODIFIED:20260417T153115Z
UID:1642-1776966300-1776969900@chapelstpeters.org
SUMMARY:Zumba - Gym
DESCRIPTION:
URL:https://chapelstpeters.org/e/zumba-gym-16/
END:VEVENT
BEGIN:VEVENT
DTSTART;TZID=America/Chicago:20260425T073000
DTEND;TZID=America/Chicago:20260425T090000
DTSTAMP:20260421T043912
CREATED:20260220T153751Z
LAST-MODIFIED:20260417T153119Z
UID:1644-1777102200-1777107600@chapelstpeters.org
SUMMARY:Men's Bible Study - Rm224
DESCRIPTION:
URL:https://chapelstpeters.org/e/mens-bible-study-rm224-4/
END:VEVENT
BEGIN:VEVENT
DTSTART;TZID=America/Chicago:20260425T090000
DTEND;TZID=America/Chicago:20260425T100000
DTSTAMP:20260421T043912
CREATED:20260220T153751Z
LAST-MODIFIED:20260417T153118Z
UID:1643-1777107600-1777111200@chapelstpeters.org
SUMMARY:ACA - Rm222
DESCRIPTION:
URL:https://chapelstpeters.org/e/aca-rm222-8/
END:VEVENT
BEGIN:VEVENT
DTSTART;TZID=America/Chicago:20260425T101500
DTEND;TZID=America/Chicago:20260425T114500
DTSTAMP:20260421T043912
CREATED:20260220T153751Z
LAST-MODIFIED:20260417T153119Z
UID:1645-1777112100-1777117500@chapelstpeters.org
SUMMARY:AA - Rm224
DESCRIPTION:
URL:https://chapelstpeters.org/e/aa-rm224-8/
END:VEVENT
BEGIN:VEVENT
DTSTART;TZID=America/Chicago:20260426T080000
DTEND;TZID=America/Chicago:20260426T090000
DTSTAMP:20260421T043912
CREATED:20260220T153752Z
LAST-MODIFIED:20260417T153119Z
UID:1646-1777190400-1777194000@chapelstpeters.org
SUMMARY:Worship Service
DESCRIPTION:
URL:https://chapelstpeters.org/e/worship-service-129/
END:VEVENT
BEGIN:VEVENT
DTSTART;TZID=America/Chicago:20260426T091500
DTEND;TZID=America/Chicago:20260426T100000
DTSTAMP:20260421T043912
CREATED:20260220T153753Z
LAST-MODIFIED:20260417T153120Z
UID:1647-1777194900-1777197600@chapelstpeters.org
SUMMARY:Education Hour
DESCRIPTION:Adult Bible Class – Sanctuary or Room 224 \nNursery – Room 108 \nPreschool – 5th grade – Room 114 \nMiddle School Confirmation – Room 222 \nHigh School – Daniel’s Den
URL:https://chapelstpeters.org/e/education-hour-9/
CATEGORIES:Youth Ministry
END:VEVENT
BEGIN:VEVENT
DTSTART;TZID=America/Chicago:20260426T101500
DTEND;TZID=America/Chicago:20260426T111500
DTSTAMP:20260421T043912
CREATED:20260220T153753Z
LAST-MODIFIED:20260417T153123Z
UID:1648-1777198500-1777202100@chapelstpeters.org
SUMMARY:Worship Service
DESCRIPTION:
URL:https://chapelstpeters.org/e/worship-service-130/
END:VEVENT
BEGIN:VEVENT
DTSTART;TZID=America/Chicago:20260426T113000
DTEND;TZID=America/Chicago:20260426T140000
DTSTAMP:20260421T043912
CREATED:20260224T205837Z
LAST-MODIFIED:20260417T153124Z
UID:1861-1777203000-1777212000@chapelstpeters.org
SUMMARY:Youth Group
DESCRIPTION:ALL Middle & High School youth (and friends) are welcome to come to Youth Group. We’ll share a meal\, build relationships with some fun activities\, and spend some time in God’s Word. We would love to see you there! RSVP HERE
URL:https://chapelstpeters.org/e/youth-group-daniels-den-gym-2/
CATEGORIES:Youth Ministry
END:VEVENT
BEGIN:VEVENT
DTSTART;TZID=America/Chicago:20260426T183000
DTEND;TZID=America/Chicago:20260426T200000
DTSTAMP:20260421T043912
CREATED:20260220T153753Z
LAST-MODIFIED:20260417T153124Z
UID:1649-1777228200-1777233600@chapelstpeters.org
SUMMARY:Al-Anon - Rm114
DESCRIPTION:
URL:https://chapelstpeters.org/e/al-anon-rm114-17/
END:VEVENT
BEGIN:VEVENT
DTSTART;TZID=America/Chicago:20260427T130000
DTEND;TZID=America/Chicago:20260427T150000
DTSTAMP:20260421T043912
CREATED:20260220T153753Z
LAST-MODIFIED:20260417T153124Z
UID:1650-1777294800-1777302000@chapelstpeters.org
SUMMARY:Knitting and Crochet - Rm224
DESCRIPTION:
URL:https://chapelstpeters.org/e/knitting-and-crochet-rm224-9/
END:VEVENT
BEGIN:VEVENT
DTSTART;TZID=America/Chicago:20260427T174500
DTEND;TZID=America/Chicago:20260427T184500
DTSTAMP:20260421T043912
CREATED:20260220T153753Z
LAST-MODIFIED:20260417T153125Z
UID:1652-1777311900-1777315500@chapelstpeters.org
SUMMARY:Refit - Gym
DESCRIPTION:
URL:https://chapelstpeters.org/e/refit-gym-17/
END:VEVENT
BEGIN:VEVENT
DTSTART;TZID=America/Chicago:20260427T180000
DTEND;TZID=America/Chicago:20260427T193000
DTSTAMP:20260421T043912
CREATED:20260220T153753Z
LAST-MODIFIED:20260417T153128Z
UID:1651-1777312800-1777318200@chapelstpeters.org
SUMMARY:AA - Rm114
DESCRIPTION:
URL:https://chapelstpeters.org/e/aa-rm114-17/
END:VEVENT
BEGIN:VEVENT
DTSTART;TZID=America/Chicago:20260427T190000
DTEND;TZID=America/Chicago:20260427T200000
DTSTAMP:20260421T043912
CREATED:20260220T153753Z
LAST-MODIFIED:20260417T153127Z
UID:1653-1777316400-1777320000@chapelstpeters.org
SUMMARY:Worship Serivce
DESCRIPTION:
URL:https://chapelstpeters.org/e/worship-serivce-8/
END:VEVENT
BEGIN:VEVENT
DTSTART;TZID=America/Chicago:20260428T093000
DTEND;TZID=America/Chicago:20260428T110000
DTSTAMP:20260421T043912
CREATED:20260220T153753Z
LAST-MODIFIED:20260417T153128Z
UID:1654-1777368600-1777374000@chapelstpeters.org
SUMMARY:Bible Study - Rm224/Rm223/Rm222/Rm114
DESCRIPTION:
URL:https://chapelstpeters.org/e/bible-study-rm224-rm114-9/
END:VEVENT
BEGIN:VEVENT
DTSTART;TZID=America/Chicago:20260428T170000
DTEND;TZID=America/Chicago:20260428T180000
DTSTAMP:20260421T043912
CREATED:20260220T153754Z
LAST-MODIFIED:20260417T153129Z
UID:1656-1777395600-1777399200@chapelstpeters.org
SUMMARY:Handbell Choir - Rm301
DESCRIPTION:
URL:https://chapelstpeters.org/e/handbell-choir-rm301-9/
END:VEVENT
BEGIN:VEVENT
DTSTART;TZID=America/Chicago:20260428T173000
DTEND;TZID=America/Chicago:20260428T183000
DTSTAMP:20260421T043912
CREATED:20260220T153754Z
LAST-MODIFIED:20260417T153129Z
UID:1655-1777397400-1777401000@chapelstpeters.org
SUMMARY:Refit - Gym
DESCRIPTION:
URL:https://chapelstpeters.org/e/refit-gym-18/
END:VEVENT
BEGIN:VEVENT
DTSTART;TZID=America/Chicago:20260428T181500
DTEND;TZID=America/Chicago:20260428T193000
DTSTAMP:20260421T043912
CREATED:20260220T153754Z
LAST-MODIFIED:20260417T153136Z
UID:1658-1777400100-1777404600@chapelstpeters.org
SUMMARY:Adult Choir - Rm301
DESCRIPTION:
URL:https://chapelstpeters.org/e/adult-choir-rm301-9/
END:VEVENT
BEGIN:VEVENT
DTSTART;TZID=America/Chicago:20260428T190000
DTEND;TZID=America/Chicago:20260428T203000
DTSTAMP:20260421T043912
CREATED:20260220T153754Z
LAST-MODIFIED:20260417T153136Z
UID:1657-1777402800-1777408200@chapelstpeters.org
SUMMARY:Ladies Bible Study - Rm224
DESCRIPTION:
URL:https://chapelstpeters.org/e/ladies-bible-study-rm224-9/
END:VEVENT
END:VCALENDAR